{"text_format":"3","workbook":"xlsx","n_sheets":5,"sheets":["お客さま控","電力控","平面図","引込線立面図","単線結線図"],"not_rendered":{"macros":1,"external_links":1,"defined_names":32,"comments":1},"read":"whole","date_system":"1900"}

{"sheet":"お客さま控","index":0,"n_rows":81,"n_cols":53,"rows_kept":81,"merged":[[0,0,2,52],[3,0,8,1],[3,2,5,5],[3,6,5,26],[3,27,8,32],[3,35,4,52],[5,45,5,52],[6,2,8,5],[6,6,8,26],[6,38,6,44],[7,33,8,52],[9,0,10,5],[9,6,10,10],[9,11,10,26],[9,27,10,32],[9,33,10,52],[11,0,12,7],[28,16,29,34],[55,0,56,7],[55,8,56,13],[55,14,56,20],[55,21,56,24],[57,0,58,7],[57,8,58,22],[57,23,58,24],[59,0,60,7],[59,8,60,24],[62,0,63,7],[62,11,63,31],[62,35,63,52],[64,0,65,7],[64,8,65,14],[64,15,65,16],[64,17,65,19],[64,20,65,21],[64,22,65,24],[64,25,65,26],[64,27,65,49],[64,50,65,52],[66,0,67,7],[66,8,66,14],[66,15,67,26],[66,27,67,49],[66,50,67,52],[67,8,67,10],[67,11,67,13],[68,0,69,7],[68,8,68,14],[68,15,69,26],[68,27,69,49],[68,50,69,52],[69,8,69,10],[69,11,69,13],[70,0,73,7],[70,8,70,14],[70,15,71,26],[70,27,71,49],[70,50,71,52],[71,8,71,10],[71,11,71,13],[72,8,72,14],[72,15,73,26],[72,27,73,49],[72,50,73,52],[73,8,73,10],[73,11,73,13],[74,0,80,26],[74,27,75,49],[74,50,75,52],[76,27,77,49],[76,50,77,52],[78,27,80,30],[78,31,80,37],[78,38,80,39],[78,40,80,43],[78,47,80,50],[78,51,80,52],[79,44,80,46]]}
["施工証明書　兼　お客さま電気設備図面"]
[]
[]
["お客さま",null,"住所\n(施工場所)",{"$nulls":3},{"$f":"IF(電力控!G61<>\"\",電力控!G61,\"\")","v":""},{"$nulls":20},"工事会社",{"$nulls":5},"住所",null,{"$f":"IF(電力控!AJ61<>\"\",電力控!AJ61,\"\")","v":""}]
[]
[{"$nulls":43},"TEL:",null,{"$f":"IF(電力控!AT63<>\"\",電力控!AT63,\"\")","v":""}]
[null,null,"氏名",{"$nulls":3},{"$f":"IF(電力控!G64<>\"\",電力控!G64,\"\")","v":""},{"$nulls":26},"社名（コード",{"$nulls":4},{"$f":"IF(電力控!AM64<>\"\",電力控!AM64,\"\")","v":"-"},{"$nulls":6},"）"]
[{"$nulls":33},{"$f":"IF(電力控!AH65<>\"\",電力控!AH65,\"\")","v":""}]
[]
["電気工事の種類",{"$nulls":5},{"$f":"IF(電力控!G67<>\"\",電力控!G67,\"\")","v":""},{"$nulls":4},{"$f":"IF(電力控!L67<>\"\",電力控!L67,\"\")","v":""},{"$nulls":15},"電気主任技術者",{"$nulls":5},{"$f":"IF(電力控!AH67<>\"\",電力控!AH67,\"\")","v":""}]
[]
["単線結線図",{"$nulls":7},{"$f":"IF(電力控!I69<>\"\",電力控!I69,\"\")","v":""},{"$f":"IF(電力控!J69<>\"\",電力控!J69,\"\")","v":""},{"$f":"IF(電力控!K69<>\"\",電力控!K69,\"\")","v":""},{"$f":"IF(電力控!L69<>\"\",電力控!L69,\"\")","v":""},{"$f":"IF(電力控!M69<>\"\",電力控!M69,\"\")","v":""},{"$f":"IF(電力控!N69<>\"\",電力控!N69,\"\")","v":""},{"$f":"IF(電力控!O69<>\"\",電力控!O69,\"\")","v":""},{"$f":"IF(電力控!P69<>\"\",電力控!P69,\"\")","v":""},{"$f":"IF(電力控!Q69<>\"\",電力控!Q69,\"\")","v":""},{"$f":"IF(電力控!R69<>\"\",電力控!R69,\"\")","v":""},{"$f":"IF(電力控!S69<>\"\",電力控!S69,\"\")","v":""},{"$f":"IF(電力控!T69<>\"\",電力控!T69,\"\")","v":""},{"$f":"IF(電力控!U69<>\"\",電力控!U69,\"\")","v":""},{"$f":"IF(電力控!V69<>\"\",電力控!V69,\"\")","v":""},{"$f":"IF(電力控!W69<>\"\",電力控!W69,\"\")","v":""},{"$f":"IF(電力控!X69<>\"\",電力控!X69,\"\")","v":""},{"$f":"IF(電力控!Y69<>\"\",電力控!Y69,\"\")","v":""},{"$f":"IF(電力控!Z69<>\"\",電力控!Z69,\"\")","v":""},{"$f":"IF(電力控!AA69<>\"\",電力控!AA69,\"\")","v":""},{"$f":"IF(電力控!AB69<>\"\",電力控!AB69,\"\")","v":""},{"$f":"IF(電力控!AC69<>\"\",電力控!AC69,\"\")","v":""},{"$f":"IF(電力控!AD69<>\"\",電力控!AD69,\"\")","v":""},{"$f":"IF(電力控!AE69<>\"\",電力控!AE69,\"\")","v":""},{"$f":"IF(電力控!AF69<>\"\",電力控!AF69,\"\")","v":""},{"$f":"IF(電力控!AG69<>\"\",電力控!AG69,\"\")","v":""},{"$f":"IF(電力控!AH69<>\"\",電力控!AH69,\"\")","v":""},{"$f":"IF(電力控!AI69<>\"\",電力控!AI69,\"\")","v":""},{"$f":"IF(電力控!AJ69<>\"\",電力控!AJ69,\"\")","v":""},{"$f":"IF(電力控!AK69<>\"\",電力控!AK69,\"\")","v":""},{"$f":"IF(電力控!AL69<>\"\",電力控!AL69,\"\")","v":""},{"$f":"IF(電力控!AM69<>\"\",電力控!AM69,\"\")","v":""},{"$f":"IF(電力控!AN69<>\"\",電力控!AN69,\"\")","v":""},{"$f":"IF(電力控!AO69<>\"\",電力控!AO69,\"\")","v":""},{"$f":"IF(電力控!AP69<>\"\",電力控!AP69,\"\")","v":""},{"$f":"IF(電力控!AQ69<>\"\",電力控!AQ69,\"\")","v":""},{"$f":"IF(電力控!AR69<>\"\",電力控!AR69,\"\")","v":""},{"$f":"IF(電力控!AS69<>\"\",電力控!AS69,\"\")","v":""},{"$f":"IF(電力控!AT69<>\"\",電力控!AT69,\"\")","v":""},{"$f":"IF(電力控!AU69<>\"\",電力控!AU69,\"\")","v":""},{"$f":"IF(電力控!AV69<>\"\",電力控!AV69,\"\")","v":""},{"$f":"IF(電力控!AW69<>\"\",電力控!AW69,\"\")","v":""},{"$f":"IF(電力控!AX69<>\"\",電力控!AX69,\"\")","v":""},{"$f":"IF(電力控!AY69<>\"\",電力控!AY69,\"\")","v":""},{"$f":"IF(電力控!AZ69<>\"\",電力控!AZ69,\"\")","v":""},{"$f":"IF(電力控!BA69<>\"\",電力控!BA69,\"\")","v":""}]
[{"$nulls":8},{"$f":"IF(電力控!I70<>\"\",電力控!I70,\"\")","v":""},{"$f":"IF(電力控!J70<>\"\",電力控!J70,\"\")","v":""},{"$f":"IF(電力控!K70<>\"\",電力控!K70,\"\")","v":""},{"$f":"IF(電力控!L70<>\"\",電力控!L70,\"\")","v":""},{"$f":"IF(電力控!M70<>\"\",電力控!M70,\"\")","v":""},{"$f":"IF(電力控!N70<>\"\",電力控!N70,\"\")","v":""},{"$f":"IF(電力控!O70<>\"\",電力控!O70,\"\")","v":""},{"$f":"IF(電力控!P70<>\"\",電力控!P70,\"\")","v":""},{"$f":"IF(電力控!Q70<>\"\",電力控!Q70,\"\")","v":""},{"$f":"IF(電力控!R70<>\"\",電力控!R70,\"\")","v":""},{"$f":"IF(電力控!S70<>\"\",電力控!S70,\"\")","v":""},{"$f":"IF(電力控!T70<>\"\",電力控!T70,\"\")","v":""},{"$f":"IF(電力控!U70<>\"\",電力控!U70,\"\")","v":""},{"$f":"IF(電力控!V70<>\"\",電力控!V70,\"\")","v":""},{"$f":"IF(電力控!W70<>\"\",電力控!W70,\"\")","v":""},{"$f":"IF(電力控!X70<>\"\",電力控!X70,\"\")","v":""},{"$f":"IF(電力控!Y70<>\"\",電力控!Y70,\"\")","v":""},{"$f":"IF(電力控!Z70<>\"\",電力控!Z70,\"\")","v":""},{"$f":"IF(電力控!AA70<>\"\",電力控!AA70,\"\")","v":""},{"$f":"IF(電力控!AB70<>\"\",電力控!AB70,\"\")","v":""},{"$f":"IF(電力控!AC70<>\"\",電力控!AC70,\"\")","v":""},{"$f":"IF(電力控!AD70<>\"\",電力控!AD70,\"\")","v":""},{"$f":"IF(電力控!AE70<>\"\",電力控!AE70,\"\")","v":""},{"$f":"IF(電力控!AF70<>\"\",電力控!AF70,\"\")","v":""},{"$f":"IF(電力控!AG70<>\"\",電力控!AG70,\"\")","v":""},{"$f":"IF(電力控!AH70<>\"\",電力控!AH70,\"\")","v":""},{"$f":"IF(電力控!AI70<>\"\",電力控!AI70,\"\")","v":""},{"$f":"IF(電力控!AJ70<>\"\",電力控!AJ70,\"\")","v":""},{"$f":"IF(電力控!AK70<>\"\",電力控!AK70,\"\")","v":""},{"$f":"IF(電力控!AL70<>\"\",電力控!AL70,\"\")","v":""},{"$f":"IF(電力控!AM70<>\"\",電力控!AM70,\"\")","v":""},{"$f":"IF(電力控!AN70<>\"\",電力控!AN70,\"\")","v":""},{"$f":"IF(電力控!AO70<>\"\",電力控!AO70,\"\")","v":""},{"$f":"IF(電力控!AP70<>\"\",電力控!AP70,\"\")","v":""},{"$f":"IF(電力控!AQ70<>\"\",電力控!AQ70,\"\")","v":""},{"$f":"IF(電力控!AR70<>\"\",電力控!AR70,\"\")","v":""},{"$f":"IF(電力控!AS70<>\"\",電力控!AS70,\"\")","v":""},{"$f":"IF(電力控!AT70<>\"\",電力控!AT70,\"\")","v":""},{"$f":"IF(電力控!AU70<>\"\",電力控!AU70,\"\")","v":""},{"$f":"IF(電力控!AV70<>\"\",電力控!AV70,\"\")","v":""},{"$f":"IF(電力控!AW70<>\"\",電力控!AW70,\"\")","v":""},{"$f":"IF(電力控!AX70<>\"\",電力控!AX70,\"\")","v":""},{"$f":"IF(電力控!AY70<>\"\",電力控!AY70,\"\")","v":""},{"$f":"IF(電力控!AZ70<>\"\",電力控!AZ70,\"\")","v":""},{"$f":"IF(電力控!BA70<>\"\",電力控!BA70,\"\")","v":""}]
[{"$f":"IF(電力控!A71<>\"\",電力控!A71,\"\")","v":""},{"$f":"IF(電力控!B71<>\"\",電力控!B71,\"\")","v":""},{"$f":"IF(電力控!C71<>\"\",電力控!C71,\"\")","v":""},{"$f":"IF(電力控!D71<>\"\",電力控!D71,\"\")","v":""},{"$f":"IF(電力控!E71<>\"\",電力控!E71,\"\")","v":""},{"$f":"IF(電力控!F71<>\"\",電力控!F71,\"\")","v":""},{"$f":"IF(電力控!G71<>\"\",電力控!G71,\"\")","v":""},{"$f":"IF(電力控!H71<>\"\",電力控!H71,\"\")","v":""},{"$f":"IF(電力控!I71<>\"\",電力控!I71,\"\")","v":""},{"$f":"IF(電力控!J71<>\"\",電力控!J71,\"\")","v":""},{"$f":"IF(電力控!K71<>\"\",電力控!K71,\"\")","v":""},{"$f":"IF(電力控!L71<>\"\",電力控!L71,\"\")","v":""},{"$f":"IF(電力控!M71<>\"\",電力控!M71,\"\")","v":""},{"$f":"IF(電力控!N71<>\"\",電力控!N71,\"\")","v":""},{"$f":"IF(電力控!O71<>\"\",電力控!O71,\"\")","v":""},{"$f":"IF(電力控!P71<>\"\",電力控!P71,\"\")","v":""},{"$f":"IF(電力控!Q71<>\"\",電力控!Q71,\"\")","v":""},{"$f":"IF(電力控!R71<>\"\",電力控!R71,\"\")","v":""},{"$f":"IF(電力控!S71<>\"\",電力控!S71,\"\")","v":""},{"$f":"IF(電力控!T71<>\"\",電力控!T71,\"\")","v":""},{"$f":"IF(電力控!U71<>\"\",電力控!U71,\"\")","v":""},{"$f":"IF(電力控!V71<>\"\",電力控!V71,\"\")","v":""},{"$f":"IF(電力控!W71<>\"\",電力控!W71,\"\")","v":""},{"$f":"IF(電力控!X71<>\"\",電力控!X71,\"\")","v":""},{"$f":"IF(電力控!Y71<>\"\",電力控!Y71,\"\")","v":""},{"$f":"IF(電力控!Z71<>\"\",電力控!Z71,\"\")","v":""},{"$f":"IF(電力控!AA71<>\"\",電力控!AA71,\"\")","v":""},{"$f":"IF(電力控!AB71<>\"\",電力控!AB71,\"\")","v":""},{"$f":"IF(電力控!AC71<>\"\",電力控!AC71,\"\")","v":""},{"$f":"IF(電力控!AD71<>\"\",電力控!AD71,\"\")","v":""},{"$f":"IF(電力控!AE71<>\"\",電力控!AE71,\"\")","v":""},{"$f":"IF(電力控!AF71<>\"\",電力控!AF71,\"\")","v":""},{"$f":"IF(電力控!AG71<>\"\",電力控!AG71,\"\")","v":""},{"$f":"IF(電力控!AH71<>\"\",電力控!AH71,\"\")","v":""},{"$f":"IF(電力控!AI71<>\"\",電力控!AI71,\"\")","v":""},{"$f":"IF(電力控!AJ71<>\"\",電力控!AJ71,\"\")","v":""},{"$f":"IF(電力控!AK71<>\"\",電力控!AK71,\"\")","v":""},{"$f":"IF(電力控!AL71<>\"\",電力控!AL71,\"\")","v":""},{"$f":"IF(電力控!AM71<>\"\",電力控!AM71,\"\")","v":""},{"$f":"IF(電力控!AN71<>\"\",電力控!AN71,\"\")","v":""},{"$f":"IF(電力控!AO71<>\"\",電力控!AO71,\"\")","v":""},{"$f":"IF(電力控!AP71<>\"\",電力控!AP71,\"\")","v":""},{"$f":"IF(電力控!AQ71<>\"\",電力控!AQ71,\"\")","v":""},{"$f":"IF(電力控!AR71<>\"\",電力控!AR71,\"\")","v":""},{"$f":"IF(電力控!AS71<>\"\",電力控!AS71,\"\")","v":""},{"$f":"IF(電力控!AT71<>\"\",電力控!AT71,\"\")","v":""},{"$f":"IF(電力控!AU71<>\"\",電力控!AU71,\"\")","v":""},{"$f":"IF(電力控!AV71<>\"\",電力控!AV71,\"\")","v":""},{"$f":"IF(電力控!AW71<>\"\",電力控!AW71,\"\")","v":""},{"$f":"IF(電力控!AX71<>\"\",電力控!AX71,\"\")","v":""},{"$f":"IF(電力控!AY71<>\"\",電力控!AY71,\"\")","v":""},{"$f":"IF(電力控!AZ71<>\"\",電力控!AZ71,\"\")","v":""},{"$f":"IF(電力控!BA71<>\"\",電力控!BA71,\"\")","v":""}]
[{"$f":"IF(電力控!A72<>\"\",電力控!A72,\"\")","v":""},{"$f":"IF(電力控!B72<>\"\",電力控!B72,\"\")","v":""},{"$f":"IF(電力控!C72<>\"\",電力控!C72,\"\")","v":""},{"$f":"IF(電力控!D72<>\"\",電力控!D72,\"\")","v":""},{"$f":"IF(電力控!E72<>\"\",電力控!E72,\"\")","v":""},{"$f":"IF(電力控!F72<>\"\",電力控!F72,\"\")","v":""},{"$f":"IF(電力控!G72<>\"\",電力控!G72,\"\")","v":""},{"$f":"IF(電力控!H72<>\"\",電力控!H72,\"\")","v":""},{"$f":"IF(電力控!I72<>\"\",電力控!I72,\"\")","v":""},{"$f":"IF(電力控!J72<>\"\",電力控!J72,\"\")","v":""},{"$f":"IF(電力控!K72<>\"\",電力控!K72,\"\")","v":""},{"$f":"IF(電力控!L72<>\"\",電力控!L72,\"\")","v":""},{"$f":"IF(電力控!M72<>\"\",電力控!M72,\"\")","v":""},{"$f":"IF(電力控!N72<>\"\",電力控!N72,\"\")","v":""},{"$f":"IF(電力控!O72<>\"\",電力控!O72,\"\")","v":""},{"$f":"IF(電力控!P72<>\"\",電力控!P72,\"\")","v":""},{"$f":"IF(電力控!Q72<>\"\",電力控!Q72,\"\")","v":""},{"$f":"IF(電力控!R72<>\"\",電力控!R72,\"\")","v":""},{"$f":"IF(電力控!S72<>\"\",電力控!S72,\"\")","v":""},{"$f":"IF(電力控!T72<>\"\",電力控!T72,\"\")","v":""},{"$f":"IF(電力控!U72<>\"\",電力控!U72,\"\")","v":""},{"$f":"IF(電力控!V72<>\"\",電力控!V72,\"\")","v":""},{"$f":"IF(電力控!W72<>\"\",電力控!W72,\"\")","v":""},{"$f":"IF(電力控!X72<>\"\",電力控!X72,\"\")","v":""},{"$f":"IF(電力控!Y72<>\"\",電力控!Y72,\"\")","v":""},{"$f":"IF(電力控!Z72<>\"\",電力控!Z72,\"\")","v":""},{"$f":"IF(電力控!AA72<>\"\",電力控!AA72,\"\")","v":""},{"$f":"IF(電力控!AB72<>\"\",電力控!AB72,\"\")","v":""},{"$f":"IF(電力控!AC72<>\"\",電力控!AC72,\"\")","v":""},{"$f":"IF(電力控!AD72<>\"\",電力控!AD72,\"\")","v":""},{"$f":"IF(電力控!AE72<>\"\",電力控!AE72,\"\")","v":""},{"$f":"IF(電力控!AF72<>\"\",電力控!AF72,\"\")","v":""},{"$f":"IF(電力控!AG72<>\"\",電力控!AG72,\"\")","v":""},{"$f":"IF(電力控!AH72<>\"\",電力控!AH72,\"\")","v":""},{"$f":"IF(電力控!AI72<>\"\",電力控!AI72,\"\")","v":""},{"$f":"IF(電力控!AJ72<>\"\",電力控!AJ72,\"\")","v":""},{"$f":"IF(電力控!AK72<>\"\",電力控!AK72,\"\")","v":""},{"$f":"IF(電力控!AL72<>\"\",電力控!AL72,\"\")","v":""},{"$f":"IF(電力控!AM72<>\"\",電力控!AM72,\"\")","v":""},{"$f":"IF(電力控!AN72<>\"\",電力控!AN72,\"\")","v":""},{"$f":"IF(電力控!AO72<>\"\",電力控!AO72,\"\")","v":""},{"$f":"IF(電力控!AP72<>\"\",電力控!AP72,\"\")","v":""},{"$f":"IF(電力控!AQ72<>\"\",電力控!AQ72,\"\")","v":""},{"$f":"IF(電力控!AR72<>\"\",電力控!AR72,\"\")","v":""},{"$f":"IF(電力控!AS72<>\"\",電力控!AS72,\"\")","v":""},{"$f":"IF(電力控!AT72<>\"\",電力控!AT72,\"\")","v":""},{"$f":"IF(電力控!AU72<>\"\",電力控!AU72,\"\")","v":""},{"$f":"IF(電力控!AV72<>\"\",電力控!AV72,\"\")","v":""},{"$f":"IF(電力控!AW72<>\"\",電力控!AW72,\"\")","v":""},{"$f":"IF(電力控!AX72<>\"\",電力控!AX72,\"\")","v":""},{"$f":"IF(電力控!AY72<>\"\",電力控!AY72,\"\")","v":""},{"$f":"IF(電力控!AZ72<>\"\",電力控!AZ72,\"\")","v":""},{"$f":"IF(電力控!BA72<>\"\",電力控!BA72,\"\")","v":""}]
[{"$f":"IF(電力控!A73<>\"\",電力控!A73,\"\")","v":""},{"$f":"IF(電力控!B73<>\"\",電力控!B73,\"\")","v":""},{"$f":"IF(電力控!C73<>\"\",電力控!C73,\"\")","v":""},{"$f":"IF(電力控!D73<>\"\",電力控!D73,\"\")","v":""},{"$f":"IF(電力控!E73<>\"\",電力控!E73,\"\")","v":""},{"$f":"IF(電力控!F73<>\"\",電力控!F73,\"\")","v":""},{"$f":"IF(電力控!G73<>\"\",電力控!G73,\"\")","v":""},{"$f":"IF(電力控!H73<>\"\",電力控!H73,\"\")","v":""},{"$f":"IF(電力控!I73<>\"\",電力控!I73,\"\")","v":""},{"$f":"IF(電力控!J73<>\"\",電力控!J73,\"\")","v":""},{"$f":"IF(電力控!K73<>\"\",電力控!K73,\"\")","v":""},{"$f":"IF(電力控!L73<>\"\",電力控!L73,\"\")","v":""},{"$f":"IF(電力控!M73<>\"\",電力控!M73,\"\")","v":""},{"$f":"IF(電力控!N73<>\"\",電力控!N73,\"\")","v":""},{"$f":"IF(電力控!O73<>\"\",電力控!O73,\"\")","v":""},{"$f":"IF(電力控!P73<>\"\",電力控!P73,\"\")","v":""},{"$f":"IF(電力控!Q73<>\"\",電力控!Q73,\"\")","v":""},{"$f":"IF(電力控!R73<>\"\",電力控!R73,\"\")","v":""},{"$f":"IF(電力控!S73<>\"\",電力控!S73,\"\")","v":""},{"$f":"IF(電力控!T73<>\"\",電力控!T73,\"\")","v":""},{"$f":"IF(電力控!U73<>\"\",電力控!U73,\"\")","v":""},{"$f":"IF(電力控!V73<>\"\",電力控!V73,\"\")","v":""},{"$f":"IF(電力控!W73<>\"\",電力控!W73,\"\")","v":""},{"$f":"IF(電力控!X73<>\"\",電力控!X73,\"\")","v":""},{"$f":"IF(電力控!Y73<>\"\",電力控!Y73,\"\")","v":""},{"$f":"IF(電力控!Z73<>\"\",電力控!Z73,\"\")","v":""},{"$f":"IF(電力控!AA73<>\"\",電力控!AA73,\"\")","v":""},{"$f":"IF(電力控!AB73<>\"\",電力控!AB73,\"\")","v":""},{"$f":"IF(電力控!AC73<>\"\",電力控!AC73,\"\")","v":""},{"$f":"IF(電力控!AD73<>\"\",電力控!AD73,\"\")","v":""},{"$f":"IF(電力控!AE73<>\"\",電力控!AE73,\"\")","v":""},{"$f":"IF(電力控!AF73<>\"\",電力控!AF73,\"\")","v":""},{"$f":"IF(電力控!AG73<>\"\",電力控!AG73,\"\")","v":""},{"$f":"IF(電力控!AH73<>\"\",電力控!AH73,\"\")","v":""},{"$f":"IF(電力控!AI73<>\"\",電力控!AI73,\"\")","v":""},{"$f":"IF(電力控!AJ73<>\"\",電力控!AJ73,\"\")","v":""},{"$f":"IF(電力控!AK73<>\"\",電力控!AK73,\"\")","v":""},{"$f":"IF(電力控!AL73<>\"\",電力控!AL73,\"\")","v":""},{"$f":"IF(電力控!AM73<>\"\",電力控!AM73,\"\")","v":""},{"$f":"IF(電力控!AN73<>\"\",電力控!AN73,\"\")","v":""},{"$f":"IF(電力控!AO73<>\"\",電力控!AO73,\"\")","v":""},{"$f":"IF(電力控!AP73<>\"\",電力控!AP73,\"\")","v":""},{"$f":"IF(電力控!AQ73<>\"\",電力控!AQ73,\"\")","v":""},{"$f":"IF(電力控!AR73<>\"\",電力控!AR73,\"\")","v":""},{"$f":"IF(電力控!AS73<>\"\",電力控!AS73,\"\")","v":""},{"$f":"IF(電力控!AT73<>\"\",電力控!AT73,\"\")","v":""},{"$f":"IF(電力控!AU73<>\"\",電力控!AU73,\"\")","v":""},{"$f":"IF(電力控!AV73<>\"\",電力控!AV73,\"\")","v":""},{"$f":"IF(電力控!AW73<>\"\",電力控!AW73,\"\")","v":""},{"$f":"IF(電力控!AX73<>\"\",電力控!AX73,\"\")","v":""},{"$f":"IF(電力控!AY73<>\"\",電力控!AY73,\"\")","v":""},{"$f":"IF(電力控!AZ73<>\"\",電力控!AZ73,\"\")","v":""},{"$f":"IF(電力控!BA73<>\"\",電力控!BA73,\"\")","v":""}]
[{"$f":"IF(電力控!A74<>\"\",電力控!A74,\"\")","v":""},{"$f":"IF(電力控!B74<>\"\",電力控!B74,\"\")","v":""},{"$f":"IF(電力控!C74<>\"\",電力控!C74,\"\")","v":""},{"$f":"IF(電力控!D74<>\"\",電力控!D74,\"\")","v":""},{"$f":"IF(電力控!E74<>\"\",電力控!E74,\"\")","v":""},{"$f":"IF(電力控!F74<>\"\",電力控!F74,\"\")","v":""},{"$f":"IF(電力控!G74<>\"\",電力控!G74,\"\")","v":""},{"$f":"IF(電力控!H74<>\"\",電力控!H74,\"\")","v":""},{"$f":"IF(電力控!I74<>\"\",電力控!I74,\"\")","v":""},{"$f":"IF(電力控!J74<>\"\",電力控!J74,\"\")","v":""},{"$f":"IF(電力控!K74<>\"\",電力控!K74,\"\")","v":""},{"$f":"IF(電力控!L74<>\"\",電力控!L74,\"\")","v":""},{"$f":"IF(電力控!M74<>\"\",電力控!M74,\"\")","v":""},{"$f":"IF(電力控!N74<>\"\",電力控!N74,\"\")","v":""},{"$f":"IF(電力控!O74<>\"\",電力控!O74,\"\")","v":""},{"$f":"IF(電力控!P74<>\"\",電力控!P74,\"\")","v":""},{"$f":"IF(電力控!Q74<>\"\",電力控!Q74,\"\")","v":""},{"$f":"IF(電力控!R74<>\"\",電力控!R74,\"\")","v":""},{"$f":"IF(電力控!S74<>\"\",電力控!S74,\"\")","v":""},{"$f":"IF(電力控!T74<>\"\",電力控!T74,\"\")","v":""},{"$f":"IF(電力控!U74<>\"\",電力控!U74,\"\")","v":""},{"$f":"IF(電力控!V74<>\"\",電力控!V74,\"\")","v":""},{"$f":"IF(電力控!W74<>\"\",電力控!W74,\"\")","v":""},{"$f":"IF(電力控!X74<>\"\",電力控!X74,\"\")","v":""},{"$f":"IF(電力控!Y74<>\"\",電力控!Y74,\"\")","v":""},{"$f":"IF(電力控!Z74<>\"\",電力控!Z74,\"\")","v":""},{"$f":"IF(電力控!AA74<>\"\",電力控!AA74,\"\")","v":""},{"$f":"IF(電力控!AB74<>\"\",電力控!AB74,\"\")","v":""},{"$f":"IF(電力控!AC74<>\"\",電力控!AC74,\"\")","v":""},{"$f":"IF(電力控!AD74<>\"\",電力控!AD74,\"\")","v":""},{"$f":"IF(電力控!AE74<>\"\",電力控!AE74,\"\")","v":""},{"$f":"IF(電力控!AF74<>\"\",電力控!AF74,\"\")","v":""},{"$f":"IF(電力控!AG74<>\"\",電力控!AG74,\"\")","v":""},{"$f":"IF(電力控!AH74<>\"\",電力控!AH74,\"\")","v":""},{"$f":"IF(電力控!AI74<>\"\",電力控!AI74,\"\")","v":""},{"$f":"IF(電力控!AJ74<>\"\",電力控!AJ74,\"\")","v":""},{"$f":"IF(電力控!AK74<>\"\",電力控!AK74,\"\")","v":""},{"$f":"IF(電力控!AL74<>\"\",電力控!AL74,\"\")","v":""},{"$f":"IF(電力控!AM74<>\"\",電力控!AM74,\"\")","v":""},{"$f":"IF(電力控!AN74<>\"\",電力控!AN74,\"\")","v":""},{"$f":"IF(電力控!AO74<>\"\",電力控!AO74,\"\")","v":""},{"$f":"IF(電力控!AP74<>\"\",電力控!AP74,\"\")","v":""},{"$f":"IF(電力控!AQ74<>\"\",電力控!AQ74,\"\")","v":""},{"$f":"IF(電力控!AR74<>\"\",電力控!AR74,\"\")","v":""},{"$f":"IF(電力控!AS74<>\"\",電力控!AS74,\"\")","v":""},{"$f":"IF(電力控!AT74<>\"\",電力控!AT74,\"\")","v":""},{"$f":"IF(電力控!AU74<>\"\",電力控!AU74,\"\")","v":""},{"$f":"IF(電力控!AV74<>\"\",電力控!AV74,\"\")","v":""},{"$f":"IF(電力控!AW74<>\"\",電力控!AW74,\"\")","v":""},{"$f":"IF(電力控!AX74<>\"\",電力控!AX74,\"\")","v":""},{"$f":"IF(電力控!AY74<>\"\",電力控!AY74,\"\")","v":""},{"$f":"IF(電力控!AZ74<>\"\",電力控!AZ74,\"\")","v":""},{"$f":"IF(電力控!BA74<>\"\",電力控!BA74,\"\")","v":""}]
[{"$f":"IF(電力控!A75<>\"\",電力控!A75,\"\")","v":""},{"$f":"IF(電力控!B75<>\"\",電力控!B75,\"\")","v":""},{"$f":"IF(電力控!C75<>\"\",電力控!C75,\"\")","v":""},{"$f":"IF(電力控!D75<>\"\",電力控!D75,\"\")","v":""},{"$f":"IF(電力控!E75<>\"\",電力控!E75,\"\")","v":""},{"$f":"IF(電力控!F75<>\"\",電力控!F75,\"\")","v":""},{"$f":"IF(電力控!G75<>\"\",電力控!G75,\"\")","v":""},{"$f":"IF(電力控!H75<>\"\",電力控!H75,\"\")","v":""},{"$f":"IF(電力控!I75<>\"\",電力控!I75,\"\")","v":""},{"$f":"IF(電力控!J75<>\"\",電力控!J75,\"\")","v":""},{"$f":"IF(電力控!K75<>\"\",電力控!K75,\"\")","v":""},{"$f":"IF(電力控!L75<>\"\",電力控!L75,\"\")","v":""},{"$f":"IF(電力控!M75<>\"\",電力控!M75,\"\")","v":""},{"$f":"IF(電力控!N75<>\"\",電力控!N75,\"\")","v":""},{"$f":"IF(電力控!O75<>\"\",電力控!O75,\"\")","v":""},{"$f":"IF(電力控!P75<>\"\",電力控!P75,\"\")","v":""},{"$f":"IF(電力控!Q75<>\"\",電力控!Q75,\"\")","v":""},{"$f":"IF(電力控!R75<>\"\",電力控!R75,\"\")","v":""},{"$f":"IF(電力控!S75<>\"\",電力控!S75,\"\")","v":""},{"$f":"IF(電力控!T75<>\"\",電力控!T75,\"\")","v":""},{"$f":"IF(電力控!U75<>\"\",電力控!U75,\"\")","v":""},{"$f":"IF(電力控!V75<>\"\",電力控!V75,\"\")","v":""},{"$f":"IF(電力控!W75<>\"\",電力控!W75,\"\")","v":""},{"$f":"IF(電力控!X75<>\"\",電力控!X75,\"\")","v":""},{"$f":"IF(電力控!Y75<>\"\",電力控!Y75,\"\")","v":""},{"$f":"IF(電力控!Z75<>\"\",電力控!Z75,\"\")","v":""},{"$f":"IF(電力控!AA75<>\"\",電力控!AA75,\"\")","v":""},{"$f":"IF(電力控!AB75<>\"\",電力控!AB75,\"\")","v":""},{"$f":"IF(電力控!AC75<>\"\",電力控!AC75,\"\")","v":""},{"$f":"IF(電力控!AD75<>\"\",電力控!AD75,\"\")","v":""},{"$f":"IF(電力控!AE75<>\"\",電力控!AE75,\"\")","v":""},{"$f":"IF(電力控!AF75<>\"\",電力控!AF75,\"\")","v":""},{"$f":"IF(電力控!AG75<>\"\",電力控!AG75,\"\")","v":""},{"$f":"IF(電力控!AH75<>\"\",電力控!AH75,\"\")","v":""},{"$f":"IF(電力控!AI75<>\"\",電力控!AI75,\"\")","v":""},{"$f":"IF(電力控!AJ75<>\"\",電力控!AJ75,\"\")","v":""},{"$f":"IF(電力控!AK75<>\"\",電力控!AK75,\"\")","v":""},{"$f":"IF(電力控!AL75<>\"\",電力控!AL75,\"\")","v":""},{"$f":"IF(電力控!AM75<>\"\",電力控!AM75,\"\")","v":""},{"$f":"IF(電力控!AN75<>\"\",電力控!AN75,\"\")","v":""},{"$f":"IF(電力控!AO75<>\"\",電力控!AO75,\"\")","v":""},{"$f":"IF(電力控!AP75<>\"\",電力控!AP75,\"\")","v":""},{"$f":"IF(電力控!AQ75<>\"\",電力控!AQ75,\"\")","v":""},{"$f":"IF(電力控!AR75<>\"\",電力控!AR75,\"\")","v":""},{"$f":"IF(電力控!AS75<>\"\",電力控!AS75,\"\")","v":""},{"$f":"IF(電力控!AT75<>\"\",電力控!AT75,\"\")","v":""},{"$f":"IF(電力控!AU75<>\"\",電力控!AU75,\"\")","v":""},{"$f":"IF(電力控!AV75<>\"\",電力控!AV75,\"\")","v":""},{"$f":"IF(電力控!AW75<>\"\",電力控!AW75,\"\")","v":""},{"$f":"IF(電力控!AX75<>\"\",電力控!AX75,\"\")","v":""},{"$f":"IF(電力控!AY75<>\"\",電力控!AY75,\"\")","v":""},{"$f":"IF(電力控!AZ75<>\"\",電力控!AZ75,\"\")","v":""},{"$f":"IF(電力控!BA75<>\"\",電力控!BA75,\"\")","v":""}]
[{"$f":"IF(電力控!A76<>\"\",電力控!A76,\"\")","v":""},{"$f":"IF(電力控!B76<>\"\",電力控!B76,\"\")","v":""},{"$f":"IF(電力控!C76<>\"\",電力控!C76,\"\")","v":""},{"$f":"IF(電力控!D76<>\"\",電力控!D76,\"\")","v":""},{"$f":"IF(電力控!E76<>\"\",電力控!E76,\"\")","v":""},{"$f":"IF(電力控!F76<>\"\",電力控!F76,\"\")","v":""},{"$f":"IF(電力控!G76<>\"\",電力控!G76,\"\")","v":""},{"$f":"IF(電力控!H76<>\"\",電力控!H76,\"\")","v":""},{"$f":"IF(電力控!I76<>\"\",電力控!I76,\"\")","v":""},{"$f":"IF(電力控!J76<>\"\",電力控!J76,\"\")","v":""},{"$f":"IF(電力控!K76<>\"\",電力控!K76,\"\")","v":""},{"$f":"IF(電力控!L76<>\"\",電力控!L76,\"\")","v":""},{"$f":"IF(電力控!M76<>\"\",電力控!M76,\"\")","v":""},{"$f":"IF(電力控!N76<>\"\",電力控!N76,\"\")","v":""},{"$f":"IF(電力控!O76<>\"\",電力控!O76,\"\")","v":""},{"$f":"IF(電力控!P76<>\"\",電力控!P76,\"\")","v":""},{"$f":"IF(電力控!Q76<>\"\",電力控!Q76,\"\")","v":""},{"$f":"IF(電力控!R76<>\"\",電力控!R76,\"\")","v":""},{"$f":"IF(電力控!S76<>\"\",電力控!S76,\"\")","v":""},{"$f":"IF(電力控!T76<>\"\",電力控!T76,\"\")","v":""},{"$f":"IF(電力控!U76<>\"\",電力控!U76,\"\")","v":""},{"$f":"IF(電力控!V76<>\"\",電力控!V76,\"\")","v":""},{"$f":"IF(電力控!W76<>\"\",電力控!W76,\"\")","v":""},{"$f":"IF(電力控!X76<>\"\",電力控!X76,\"\")","v":""},{"$f":"IF(電力控!Y76<>\"\",電力控!Y76,\"\")","v":""},{"$f":"IF(電力控!Z76<>\"\",電力控!Z76,\"\")","v":""},{"$f":"IF(電力控!AA76<>\"\",電力控!AA76,\"\")","v":""},{"$f":"IF(電力控!AB76<>\"\",電力控!AB76,\"\")","v":""},{"$f":"IF(電力控!AC76<>\"\",電力控!AC76,\"\")","v":""},{"$f":"IF(電力控!AD76<>\"\",電力控!AD76,\"\")","v":""},{"$f":"IF(電力控!AE76<>\"\",電力控!AE76,\"\")","v":""},{"$f":"IF(電力控!AF76<>\"\",電力控!AF76,\"\")","v":""},{"$f":"IF(電力控!AG76<>\"\",電力控!AG76,\"\")","v":""},{"$f":"IF(電力控!AH76<>\"\",電力控!AH76,\"\")","v":""},{"$f":"IF(電力控!AI76<>\"\",電力控!AI76,\"\")","v":""},{"$f":"IF(電力控!AJ76<>\"\",電力控!AJ76,\"\")","v":""},{"$f":"IF(電力控!AK76<>\"\",電力控!AK76,\"\")","v":""},{"$f":"IF(電力控!AL76<>\"\",電力控!AL76,\"\")","v":""},{"$f":"IF(電力控!AM76<>\"\",電力控!AM76,\"\")","v":""},{"$f":"IF(電力控!AN76<>\"\",電力控!AN76,\"\")","v":""},{"$f":"IF(電力控!AO76<>\"\",電力控!AO76,\"\")","v":""},{"$f":"IF(電力控!AP76<>\"\",電力控!AP76,\"\")","v":""},{"$f":"IF(電力控!AQ76<>\"\",電力控!AQ76,\"\")","v":""},{"$f":"IF(電力控!AR76<>\"\",電力控!AR76,\"\")","v":""},{"$f":"IF(電力控!AS76<>\"\",電力控!AS76,\"\")","v":""},{"$f":"IF(電力控!AT76<>\"\",電力控!AT76,\"\")","v":""},{"$f":"IF(電力控!AU76<>\"\",電力控!AU76,\"\")","v":""},{"$f":"IF(電力控!AV76<>\"\",電力控!AV76,\"\")","v":""},{"$f":"IF(電力控!AW76<>\"\",電力控!AW76,\"\")","v":""},{"$f":"IF(電力控!AX76<>\"\",電力控!AX76,\"\")","v":""},{"$f":"IF(電力控!AY76<>\"\",電力控!AY76,\"\")","v":""},{"$f":"IF(電力控!AZ76<>\"\",電力控!AZ76,\"\")","v":""},{"$f":"IF(電力控!BA76<>\"\",電力控!BA76,\"\")","v":""}]
[{"$f":"IF(電力控!A77<>\"\",電力控!A77,\"\")","v":""},{"$f":"IF(電力控!B77<>\"\",電力控!B77,\"\")","v":""},{"$f":"IF(電力控!C77<>\"\",電力控!C77,\"\")","v":""},{"$f":"IF(電力控!D77<>\"\",電力控!D77,\"\")","v":""},{"$f":"IF(電力控!E77<>\"\",電力控!E77,\"\")","v":""},{"$f":"IF(電力控!F77<>\"\",電力控!F77,\"\")","v":""},{"$f":"IF(電力控!G77<>\"\",電力控!G77,\"\")","v":""},{"$f":"IF(電力控!H77<>\"\",電力控!H77,\"\")","v":""},{"$f":"IF(電力控!I77<>\"\",電力控!I77,\"\")","v":""},{"$f":"IF(電力控!J77<>\"\",電力控!J77,\"\")","v":""},{"$f":"IF(電力控!K77<>\"\",電力控!K77,\"\")","v":""},{"$f":"IF(電力控!L77<>\"\",電力控!L77,\"\")","v":""},{"$f":"IF(電力控!M77<>\"\",電力控!M77,\"\")","v":""},{"$f":"IF(電力控!N77<>\"\",電力控!N77,\"\")","v":""},{"$f":"IF(電力控!O77<>\"\",電力控!O77,\"\")","v":""},{"$f":"IF(電力控!P77<>\"\",電力控!P77,\"\")","v":""},{"$f":"IF(電力控!Q77<>\"\",電力控!Q77,\"\")","v":""},{"$f":"IF(電力控!R77<>\"\",電力控!R77,\"\")","v":""},{"$f":"IF(電力控!S77<>\"\",電力控!S77,\"\")","v":""},{"$f":"IF(電力控!T77<>\"\",電力控!T77,\"\")","v":""},{"$f":"IF(電力控!U77<>\"\",電力控!U77,\"\")","v":""},{"$f":"IF(電力控!V77<>\"\",電力控!V77,\"\")","v":""},{"$f":"IF(電力控!W77<>\"\",電力控!W77,\"\")","v":""},{"$f":"IF(電力控!X77<>\"\",電力控!X77,\"\")","v":""},{"$f":"IF(電力控!Y77<>\"\",電力控!Y77,\"\")","v":""},{"$f":"IF(電力控!Z77<>\"\",電力控!Z77,\"\")","v":""},{"$f":"IF(電力控!AA77<>\"\",電力控!AA77,\"\")","v":""},{"$f":"IF(電力控!AB77<>\"\",電力控!AB77,\"\")","v":""},{"$f":"IF(電力控!AC77<>\"\",電力控!AC77,\"\")","v":""},{"$f":"IF(電力控!AD77<>\"\",電力控!AD77,\"\")","v":""},{"$f":"IF(電力控!AE77<>\"\",電力控!AE77,\"\")","v":""},{"$f":"IF(電力控!AF77<>\"\",電力控!AF77,\"\")","v":""},{"$f":"IF(電力控!AG77<>\"\",電力控!AG77,\"\")","v":""},{"$f":"IF(電力控!AH77<>\"\",電力控!AH77,\"\")","v":""},{"$f":"IF(電力控!AI77<>\"\",電力控!AI77,\"\")","v":""},{"$f":"IF(電力控!AJ77<>\"\",電力控!AJ77,\"\")","v":""},{"$f":"IF(電力控!AK77<>\"\",電力控!AK77,\"\")","v":""},{"$f":"IF(電力控!AL77<>\"\",電力控!AL77,\"\")","v":""},{"$f":"IF(電力控!AM77<>\"\",電力控!AM77,\"\")","v":""},{"$f":"IF(電力控!AN77<>\"\",電力控!AN77,\"\")","v":""},{"$f":"IF(電力控!AO77<>\"\",電力控!AO77,\"\")","v":""},{"$f":"IF(電力控!AP77<>\"\",電力控!AP77,\"\")","v":""},{"$f":"IF(電力控!AQ77<>\"\",電力控!AQ77,\"\")","v":""},{"$f":"IF(電力控!AR77<>\"\",電力控!AR77,\"\")","v":""},{"$f":"IF(電力控!AS77<>\"\",電力控!AS77,\"\")","v":""},{"$f":"IF(電力控!AT77<>\"\",電力控!AT77,\"\")","v":""},{"$f":"IF(電力控!AU77<>\"\",電力控!AU77,\"\")","v":""},{"$f":"IF(電力控!AV77<>\"\",電力控!AV77,\"\")","v":""},{"$f":"IF(電力控!AW77<>\"\",電力控!AW77,\"\")","v":""},{"$f":"IF(電力控!AX77<>\"\",電力控!AX77,\"\")","v":""},{"$f":"IF(電力控!AY77<>\"\",電力控!AY77,\"\")","v":""},{"$f":"IF(電力控!AZ77<>\"\",電力控!AZ77,\"\")","v":""},{"$f":"IF(電力控!BA77<>\"\",電力控!BA77,\"\")","v":""}]
[{"$f":"IF(電力控!A78<>\"\",電力控!A78,\"\")","v":""},{"$f":"IF(電力控!B78<>\"\",電力控!B78,\"\")","v":""},{"$f":"IF(電力控!C78<>\"\",電力控!C78,\"\")","v":""},{"$f":"IF(電力控!D78<>\"\",電力控!D78,\"\")","v":""},{"$f":"IF(電力控!E78<>\"\",電力控!E78,\"\")","v":""},{"$f":"IF(電力控!F78<>\"\",電力控!F78,\"\")","v":""},{"$f":"IF(電力控!G78<>\"\",電力控!G78,\"\")","v":""},{"$f":"IF(電力控!H78<>\"\",電力控!H78,\"\")","v":""},{"$f":"IF(電力控!I78<>\"\",電力控!I78,\"\")","v":""},{"$f":"IF(電力控!J78<>\"\",電力控!J78,\"\")","v":""},{"$f":"IF(電力控!K78<>\"\",電力控!K78,\"\")","v":""},{"$f":"IF(電力控!L78<>\"\",電力控!L78,\"\")","v":""},{"$f":"IF(電力控!M78<>\"\",電力控!M78,\"\")","v":""},{"$f":"IF(電力控!N78<>\"\",電力控!N78,\"\")","v":""},{"$f":"IF(電力控!O78<>\"\",電力控!O78,\"\")","v":""},{"$f":"IF(電力控!P78<>\"\",電力控!P78,\"\")","v":""},{"$f":"IF(電力控!Q78<>\"\",電力控!Q78,\"\")","v":""},{"$f":"IF(電力控!R78<>\"\",電力控!R78,\"\")","v":""},{"$f":"IF(電力控!S78<>\"\",電力控!S78,\"\")","v":""},{"$f":"IF(電力控!T78<>\"\",電力控!T78,\"\")","v":""},{"$f":"IF(電力控!U78<>\"\",電力控!U78,\"\")","v":""},{"$f":"IF(電力控!V78<>\"\",電力控!V78,\"\")","v":""},{"$f":"IF(電力控!W78<>\"\",電力控!W78,\"\")","v":""},{"$f":"IF(電力控!X78<>\"\",電力控!X78,\"\")","v":""},{"$f":"IF(電力控!Y78<>\"\",電力控!Y78,\"\")","v":""},{"$f":"IF(電力控!Z78<>\"\",電力控!Z78,\"\")","v":""},{"$f":"IF(電力控!AA78<>\"\",電力控!AA78,\"\")","v":""},{"$f":"IF(電力控!AB78<>\"\",電力控!AB78,\"\")","v":""},{"$f":"IF(電力控!AC78<>\"\",電力控!AC78,\"\")","v":""},{"$f":"IF(電力控!AD78<>\"\",電力控!AD78,\"\")","v":""},{"$f":"IF(電力控!AE78<>\"\",電力控!AE78,\"\")","v":""},{"$f":"IF(電力控!AF78<>\"\",電力控!AF78,\"\")","v":""},{"$f":"IF(電力控!AG78<>\"\",電力控!AG78,\"\")","v":""},{"$f":"IF(電力控!AH78<>\"\",電力控!AH78,\"\")","v":""},{"$f":"IF(電力控!AI78<>\"\",電力控!AI78,\"\")","v":""},{"$f":"IF(電力控!AJ78<>\"\",電力控!AJ78,\"\")","v":""},{"$f":"IF(電力控!AK78<>\"\",電力控!AK78,\"\")","v":""},{"$f":"IF(電力控!AL78<>\"\",電力控!AL78,\"\")","v":""},{"$f":"IF(電力控!AM78<>\"\",電力控!AM78,\"\")","v":""},{"$f":"IF(電力控!AN78<>\"\",電力控!AN78,\"\")","v":""},{"$f":"IF(電力控!AO78<>\"\",電力控!AO78,\"\")","v":""},{"$f":"IF(電力控!AP78<>\"\",電力控!AP78,\"\")","v":""},{"$f":"IF(電力控!AQ78<>\"\",電力控!AQ78,\"\")","v":""},{"$f":"IF(電力控!AR78<>\"\",電力控!AR78,\"\")","v":""},{"$f":"IF(電力控!AS78<>\"\",電力控!AS78,\"\")","v":""},{"$f":"IF(電力控!AT78<>\"\",電力控!AT78,\"\")","v":""},{"$f":"IF(電力控!AU78<>\"\",電力控!AU78,\"\")","v":""},{"$f":"IF(電力控!AV78<>\"\",電力控!AV78,\"\")","v":""},{"$f":"IF(電力控!AW78<>\"\",電力控!AW78,\"\")","v":""},{"$f":"IF(電力控!AX78<>\"\",電力控!AX78,\"\")","v":""},{"$f":"IF(電力控!AY78<>\"\",電力控!AY78,\"\")","v":""},{"$f":"IF(電力控!AZ78<>\"\",電力控!AZ78,\"\")","v":""},{"$f":"IF(電力控!BA78<>\"\",電力控!BA78,\"\")","v":""}]
[{"$f":"IF(電力控!A79<>\"\",電力控!A79,\"\")","v":""},{"$f":"IF(電力控!B79<>\"\",電力控!B79,\"\")","v":""},{"$f":"IF(電力控!C79<>\"\",電力控!C79,\"\")","v":""},{"$f":"IF(電力控!D79<>\"\",電力控!D79,\"\")","v":""},{"$f":"IF(電力控!E79<>\"\",電力控!E79,\"\")","v":""},{"$f":"IF(電力控!F79<>\"\",電力控!F79,\"\")","v":""},{"$f":"IF(電力控!G79<>\"\",電力控!G79,\"\")","v":""},{"$f":"IF(電力控!H79<>\"\",電力控!H79,\"\")","v":""},{"$f":"IF(電力控!I79<>\"\",電力控!I79,\"\")","v":""},{"$f":"IF(電力控!J79<>\"\",電力控!J79,\"\")","v":""},{"$f":"IF(電力控!K79<>\"\",電力控!K79,\"\")","v":""},{"$f":"IF(電力控!L79<>\"\",電力控!L79,\"\")","v":""},{"$f":"IF(電力控!M79<>\"\",電力控!M79,\"\")","v":""},{"$f":"IF(電力控!N79<>\"\",電力控!N79,\"\")","v":""},{"$f":"IF(電力控!O79<>\"\",電力控!O79,\"\")","v":""},{"$f":"IF(電力控!P79<>\"\",電力控!P79,\"\")","v":""},{"$f":"IF(電力控!Q79<>\"\",電力控!Q79,\"\")","v":""},{"$f":"IF(電力控!R79<>\"\",電力控!R79,\"\")","v":""},{"$f":"IF(電力控!S79<>\"\",電力控!S79,\"\")","v":""},{"$f":"IF(電力控!T79<>\"\",電力控!T79,\"\")","v":""},{"$f":"IF(電力控!U79<>\"\",電力控!U79,\"\")","v":""},{"$f":"IF(電力控!V79<>\"\",電力控!V79,\"\")","v":""},{"$f":"IF(電力控!W79<>\"\",電力控!W79,\"\")","v":""},{"$f":"IF(電力控!X79<>\"\",電力控!X79,\"\")","v":""},{"$f":"IF(電力控!Y79<>\"\",電力控!Y79,\"\")","v":""},{"$f":"IF(電力控!Z79<>\"\",電力控!Z79,\"\")","v":""},{"$f":"IF(電力控!AA79<>\"\",電力控!AA79,\"\")","v":""},{"$f":"IF(電力控!AB79<>\"\",電力控!AB79,\"\")","v":""},{"$f":"IF(電力控!AC79<>\"\",電力控!AC79,\"\")","v":""},{"$f":"IF(電力控!AD79<>\"\",電力控!AD79,\"\")","v":""},{"$f":"IF(電力控!AE79<>\"\",電力控!AE79,\"\")","v":""},{"$f":"IF(電力控!AF79<>\"\",電力控!AF79,\"\")","v":""},{"$f":"IF(電力控!AG79<>\"\",電力控!AG79,\"\")","v":""},{"$f":"IF(電力控!AH79<>\"\",電力控!AH79,\"\")","v":""},{"$f":"IF(電力控!AI79<>\"\",電力控!AI79,\"\")","v":""},{"$f":"IF(電力控!AJ79<>\"\",電力控!AJ79,\"\")","v":""},{"$f":"IF(電力控!AK79<>\"\",電力控!AK79,\"\")","v":""},{"$f":"IF(電力控!AL79<>\"\",電力控!AL79,\"\")","v":""},{"$f":"IF(電力控!AM79<>\"\",電力控!AM79,\"\")","v":""},{"$f":"IF(電力控!AN79<>\"\",電力控!AN79,\"\")","v":""},{"$f":"IF(電力控!AO79<>\"\",電力控!AO79,\"\")","v":""},{"$f":"IF(電力控!AP79<>\"\",電力控!AP79,\"\")","v":""},{"$f":"IF(電力控!AQ79<>\"\",電力控!AQ79,\"\")","v":""},{"$f":"IF(電力控!AR79<>\"\",電力控!AR79,\"\")","v":""},{"$f":"IF(電力控!AS79<>\"\",電力控!AS79,\"\")","v":""},{"$f":"IF(電力控!AT79<>\"\",電力控!AT79,\"\")","v":""},{"$f":"IF(電力控!AU79<>\"\",電力控!AU79,\"\")","v":""},{"$f":"IF(電力控!AV79<>\"\",電力控!AV79,\"\")","v":""},{"$f":"IF(電力控!AW79<>\"\",電力控!AW79,\"\")","v":""},{"$f":"IF(電力控!AX79<>\"\",電力控!AX79,\"\")","v":""},{"$f":"IF(電力控!AY79<>\"\",電力控!AY79,\"\")","v":""},{"$f":"IF(電力控!AZ79<>\"\",電力控!AZ79,\"\")","v":""},{"$f":"IF(電力控!BA79<>\"\",電力控!BA79,\"\")","v":""}]
[{"$f":"IF(電力控!A80<>\"\",電力控!A80,\"\")","v":""},{"$f":"IF(電力控!B80<>\"\",電力控!B80,\"\")","v":""},{"$f":"IF(電力控!C80<>\"\",電力控!C80,\"\")","v":""},{"$f":"IF(電力控!D80<>\"\",電力控!D80,\"\")","v":""},{"$f":"IF(電力控!E80<>\"\",電力控!E80,\"\")","v":""},{"$f":"IF(電力控!F80<>\"\",電力控!F80,\"\")","v":""},{"$f":"IF(電力控!G80<>\"\",電力控!G80,\"\")","v":""},{"$f":"IF(電力控!H80<>\"\",電力控!H80,\"\")","v":""},{"$f":"IF(電力控!I80<>\"\",電力控!I80,\"\")","v":""},{"$f":"IF(電力控!J80<>\"\",電力控!J80,\"\")","v":""},{"$f":"IF(電力控!K80<>\"\",電力控!K80,\"\")","v":""},{"$f":"IF(電力控!L80<>\"\",電力控!L80,\"\")","v":""},{"$f":"IF(電力控!M80<>\"\",電力控!M80,\"\")","v":""},{"$f":"IF(電力控!N80<>\"\",電力控!N80,\"\")","v":""},{"$f":"IF(電力控!O80<>\"\",電力控!O80,\"\")","v":""},{"$f":"IF(電力控!P80<>\"\",電力控!P80,\"\")","v":""},{"$f":"IF(電力控!Q80<>\"\",電力控!Q80,\"\")","v":""},{"$f":"IF(電力控!R80<>\"\",電力控!R80,\"\")","v":""},{"$f":"IF(電力控!S80<>\"\",電力控!S80,\"\")","v":""},{"$f":"IF(電力控!T80<>\"\",電力控!T80,\"\")","v":""},{"$f":"IF(電力控!U80<>\"\",電力控!U80,\"\")","v":""},{"$f":"IF(電力控!V80<>\"\",電力控!V80,\"\")","v":""},{"$f":"IF(電力控!W80<>\"\",電力控!W80,\"\")","v":""},{"$f":"IF(電力控!X80<>\"\",電力控!X80,\"\")","v":""},{"$f":"IF(電力控!Y80<>\"\",電力控!Y80,\"\")","v":""},{"$f":"IF(電力控!Z80<>\"\",電力控!Z80,\"\")","v":""},{"$f":"IF(電力控!AA80<>\"\",電力控!AA80,\"\")","v":""},{"$f":"IF(電力控!AB80<>\"\",電力控!AB80,\"\")","v":""},{"$f":"IF(電力控!AC80<>\"\",電力控!AC80,\"\")","v":""},{"$f":"IF(電力控!AD80<>\"\",電力控!AD80,\"\")","v":""},{"$f":"IF(電力控!AE80<>\"\",電力控!AE80,\"\")","v":""},{"$f":"IF(電力控!AF80<>\"\",電力控!AF80,\"\")","v":""},{"$f":"IF(電力控!AG80<>\"\",電力控!AG80,\"\")","v":""},{"$f":"IF(電力控!AH80<>\"\",電力控!AH80,\"\")","v":""},{"$f":"IF(電力控!AI80<>\"\",電力控!AI80,\"\")","v":""},{"$f":"IF(電力控!AJ80<>\"\",電力控!AJ80,\"\")","v":""},{"$f":"IF(電力控!AK80<>\"\",電力控!AK80,\"\")","v":""},{"$f":"IF(電力控!AL80<>\"\",電力控!AL80,\"\")","v":""},{"$f":"IF(電力控!AM80<>\"\",電力控!AM80,\"\")","v":""},{"$f":"IF(電力控!AN80<>\"\",電力控!AN80,\"\")","v":""},{"$f":"IF(電力控!AO80<>\"\",電力控!AO80,\"\")","v":""},{"$f":"IF(電力控!AP80<>\"\",電力控!AP80,\"\")","v":""},{"$f":"IF(電力控!AQ80<>\"\",電力控!AQ80,\"\")","v":""},{"$f":"IF(電力控!AR80<>\"\",電力控!AR80,\"\")","v":""},{"$f":"IF(電力控!AS80<>\"\",電力控!AS80,\"\")","v":""},{"$f":"IF(電力控!AT80<>\"\",電力控!AT80,\"\")","v":""},{"$f":"IF(電力控!AU80<>\"\",電力控!AU80,\"\")","v":""},{"$f":"IF(電力控!AV80<>\"\",電力控!AV80,\"\")","v":""},{"$f":"IF(電力控!AW80<>\"\",電力控!AW80,\"\")","v":""},{"$f":"IF(電力控!AX80<>\"\",電力控!AX80,\"\")","v":""},{"$f":"IF(電力控!AY80<>\"\",電力控!AY80,\"\")","v":""},{"$f":"IF(電力控!AZ80<>\"\",電力控!AZ80,\"\")","v":""},{"$f":"IF(電力控!BA80<>\"\",電力控!BA80,\"\")","v":""}]
[{"$f":"IF(電力控!A81<>\"\",電力控!A81,\"\")","v":""},{"$f":"IF(電力控!B81<>\"\",電力控!B81,\"\")","v":""},{"$f":"IF(電力控!C81<>\"\",電力控!C81,\"\")","v":""},{"$f":"IF(電力控!D81<>\"\",電力控!D81,\"\")","v":""},{"$f":"IF(電力控!E81<>\"\",電力控!E81,\"\")","v":""},{"$f":"IF(電力控!F81<>\"\",電力控!F81,\"\")","v":""},{"$f":"IF(電力控!G81<>\"\",電力控!G81,\"\")","v":""},{"$f":"IF(電力控!H81<>\"\",電力控!H81,\"\")","v":""},{"$f":"IF(電力控!I81<>\"\",電力控!I81,\"\")","v":""},{"$f":"IF(電力控!J81<>\"\",電力控!J81,\"\")","v":""},{"$f":"IF(電力控!K81<>\"\",電力控!K81,\"\")","v":""},{"$f":"IF(電力控!L81<>\"\",電力控!L81,\"\")","v":""},{"$f":"IF(電力控!M81<>\"\",電力控!M81,\"\")","v":""},{"$f":"IF(電力控!N81<>\"\",電力控!N81,\"\")","v":""},{"$f":"IF(電力控!O81<>\"\",電力控!O81,\"\")","v":""},{"$f":"IF(電力控!P81<>\"\",電力控!P81,\"\")","v":""},{"$f":"IF(電力控!Q81<>\"\",電力控!Q81,\"\")","v":""},{"$f":"IF(電力控!R81<>\"\",電力控!R81,\"\")","v":""},{"$f":"IF(電力控!S81<>\"\",電力控!S81,\"\")","v":""},{"$f":"IF(電力控!T81<>\"\",電力控!T81,\"\")","v":""},{"$f":"IF(電力控!U81<>\"\",電力控!U81,\"\")","v":""},{"$f":"IF(電力控!V81<>\"\",電力控!V81,\"\")","v":""},{"$f":"IF(電力控!W81<>\"\",電力控!W81,\"\")","v":""},{"$f":"IF(電力控!X81<>\"\",電力控!X81,\"\")","v":""},{"$f":"IF(電力控!Y81<>\"\",電力控!Y81,\"\")","v":""},{"$f":"IF(電力控!Z81<>\"\",電力控!Z81,\"\")","v":""},{"$f":"IF(電力控!AA81<>\"\",電力控!AA81,\"\")","v":""},{"$f":"IF(電力控!AB81<>\"\",電力控!AB81,\"\")","v":""},{"$f":"IF(電力控!AC81<>\"\",電力控!AC81,\"\")","v":""},{"$f":"IF(電力控!AD81<>\"\",電力控!AD81,\"\")","v":""},{"$f":"IF(電力控!AE81<>\"\",電力控!AE81,\"\")","v":""},{"$f":"IF(電力控!AF81<>\"\",電力控!AF81,\"\")","v":""},{"$f":"IF(電力控!AG81<>\"\",電力控!AG81,\"\")","v":""},{"$f":"IF(電力控!AH81<>\"\",電力控!AH81,\"\")","v":""},{"$f":"IF(電力控!AI81<>\"\",電力控!AI81,\"\")","v":""},{"$f":"IF(電力控!AJ81<>\"\",電力控!AJ81,\"\")","v":""},{"$f":"IF(電力控!AK81<>\"\",電力控!AK81,\"\")","v":""},{"$f":"IF(電力控!AL81<>\"\",電力控!AL81,\"\")","v":""},{"$f":"IF(電力控!AM81<>\"\",電力控!AM81,\"\")","v":""},{"$f":"IF(電力控!AN81<>\"\",電力控!AN81,\"\")","v":""},{"$f":"IF(電力控!AO81<>\"\",電力控!AO81,\"\")","v":""},{"$f":"IF(電力控!AP81<>\"\",電力控!AP81,\"\")","v":""},{"$f":"IF(電力控!AQ81<>\"\",電力控!AQ81,\"\")","v":""},{"$f":"IF(電力控!AR81<>\"\",電力控!AR81,\"\")","v":""},{"$f":"IF(電力控!AS81<>\"\",電力控!AS81,\"\")","v":""},{"$f":"IF(電力控!AT81<>\"\",電力控!AT81,\"\")","v":""},{"$f":"IF(電力控!AU81<>\"\",電力控!AU81,\"\")","v":""},{"$f":"IF(電力控!AV81<>\"\",電力控!AV81,\"\")","v":""},{"$f":"IF(電力控!AW81<>\"\",電力控!AW81,\"\")","v":""},{"$f":"IF(電力控!AX81<>\"\",電力控!AX81,\"\")","v":""},{"$f":"IF(電力控!AY81<>\"\",電力控!AY81,\"\")","v":""},{"$f":"IF(電力控!AZ81<>\"\",電力控!AZ81,\"\")","v":""},{"$f":"IF(電力控!BA81<>\"\",電力控!BA81,\"\")","v":""}]
[{"$f":"IF(電力控!A82<>\"\",電力控!A82,\"\")","v":""},{"$f":"IF(電力控!B82<>\"\",電力控!B82,\"\")","v":""},{"$f":"IF(電力控!C82<>\"\",電力控!C82,\"\")","v":""},{"$f":"IF(電力控!D82<>\"\",電力控!D82,\"\")","v":""},{"$f":"IF(電力控!E82<>\"\",電力控!E82,\"\")","v":""},{"$f":"IF(電力控!F82<>\"\",電力控!F82,\"\")","v":""},{"$f":"IF(電力控!G82<>\"\",電力控!G82,\"\")","v":""},{"$f":"IF(電力控!H82<>\"\",電力控!H82,\"\")","v":""},{"$f":"IF(電力控!I82<>\"\",電力控!I82,\"\")","v":""},{"$f":"IF(電力控!J82<>\"\",電力控!J82,\"\")","v":""},{"$f":"IF(電力控!K82<>\"\",電力控!K82,\"\")","v":""},{"$f":"IF(電力控!L82<>\"\",電力控!L82,\"\")","v":""},{"$f":"IF(電力控!M82<>\"\",電力控!M82,\"\")","v":""},{"$f":"IF(電力控!N82<>\"\",電力控!N82,\"\")","v":""},{"$f":"IF(電力控!O82<>\"\",電力控!O82,\"\")","v":""},{"$f":"IF(電力控!P82<>\"\",電力控!P82,\"\")","v":""},{"$f":"IF(電力控!Q82<>\"\",電力控!Q82,\"\")","v":""},{"$f":"IF(電力控!R82<>\"\",電力控!R82,\"\")","v":""},{"$f":"IF(電力控!S82<>\"\",電力控!S82,\"\")","v":""},{"$f":"IF(電力控!T82<>\"\",電力控!T82,\"\")","v":""},{"$f":"IF(電力控!U82<>\"\",電力控!U82,\"\")","v":""},{"$f":"IF(電力控!V82<>\"\",電力控!V82,\"\")","v":""},{"$f":"IF(電力控!W82<>\"\",電力控!W82,\"\")","v":""},{"$f":"IF(電力控!X82<>\"\",電力控!X82,\"\")","v":""},{"$f":"IF(電力控!Y82<>\"\",電力控!Y82,\"\")","v":""},{"$f":"IF(電力控!Z82<>\"\",電力控!Z82,\"\")","v":""},{"$f":"IF(電力控!AA82<>\"\",電力控!AA82,\"\")","v":""},{"$f":"IF(電力控!AB82<>\"\",電力控!AB82,\"\")","v":""},{"$f":"IF(電力控!AC82<>\"\",電力控!AC82,\"\")","v":""},{"$f":"IF(電力控!AD82<>\"\",電力控!AD82,\"\")","v":""},{"$f":"IF(電力控!AE82<>\"\",電力控!AE82,\"\")","v":""},{"$f":"IF(電力控!AF82<>\"\",電力控!AF82,\"\")","v":""},{"$f":"IF(電力控!AG82<>\"\",電力控!AG82,\"\")","v":""},{"$f":"IF(電力控!AH82<>\"\",電力控!AH82,\"\")","v":""},{"$f":"IF(電力控!AI82<>\"\",電力控!AI82,\"\")","v":""},{"$f":"IF(電力控!AJ82<>\"\",電力控!AJ82,\"\")","v":""},{"$f":"IF(電力控!AK82<>\"\",電力控!AK82,\"\")","v":""},{"$f":"IF(電力控!AL82<>\"\",電力控!AL82,\"\")","v":""},{"$f":"IF(電力控!AM82<>\"\",電力控!AM82,\"\")","v":""},{"$f":"IF(電力控!AN82<>\"\",電力控!AN82,\"\")","v":""},{"$f":"IF(電力控!AO82<>\"\",電力控!AO82,\"\")","v":""},{"$f":"IF(電力控!AP82<>\"\",電力控!AP82,\"\")","v":""},{"$f":"IF(電力控!AQ82<>\"\",電力控!AQ82,\"\")","v":""},{"$f":"IF(電力控!AR82<>\"\",電力控!AR82,\"\")","v":""},{"$f":"IF(電力控!AS82<>\"\",電力控!AS82,\"\")","v":""},{"$f":"IF(電力控!AT82<>\"\",電力控!AT82,\"\")","v":""},{"$f":"IF(電力控!AU82<>\"\",電力控!AU82,\"\")","v":""},{"$f":"IF(電力控!AV82<>\"\",電力控!AV82,\"\")","v":""},{"$f":"IF(電力控!AW82<>\"\",電力控!AW82,\"\")","v":""},{"$f":"IF(電力控!AX82<>\"\",電力控!AX82,\"\")","v":""},{"$f":"IF(電力控!AY82<>\"\",電力控!AY82,\"\")","v":""},{"$f":"IF(電力控!AZ82<>\"\",電力控!AZ82,\"\")","v":""},{"$f":"IF(電力控!BA82<>\"\",電力控!BA82,\"\")","v":""}]
[{"$f":"IF(電力控!A83<>\"\",電力控!A83,\"\")","v":""},{"$f":"IF(電力控!B83<>\"\",電力控!B83,\"\")","v":""},{"$f":"IF(電力控!C83<>\"\",電力控!C83,\"\")","v":""},{"$f":"IF(電力控!D83<>\"\",電力控!D83,\"\")","v":""},{"$f":"IF(電力控!E83<>\"\",電力控!E83,\"\")","v":""},{"$f":"IF(電力控!F83<>\"\",電力控!F83,\"\")","v":""},{"$f":"IF(電力控!G83<>\"\",電力控!G83,\"\")","v":""},{"$f":"IF(電力控!H83<>\"\",電力控!H83,\"\")","v":""},{"$f":"IF(電力控!I83<>\"\",電力控!I83,\"\")","v":""},{"$f":"IF(電力控!J83<>\"\",電力控!J83,\"\")","v":""},{"$f":"IF(電力控!K83<>\"\",電力控!K83,\"\")","v":""},{"$f":"IF(電力控!L83<>\"\",電力控!L83,\"\")","v":""},{"$f":"IF(電力控!M83<>\"\",電力控!M83,\"\")","v":""},{"$f":"IF(電力控!N83<>\"\",電力控!N83,\"\")","v":""},{"$f":"IF(電力控!O83<>\"\",電力控!O83,\"\")","v":""},{"$f":"IF(電力控!P83<>\"\",電力控!P83,\"\")","v":""},{"$f":"IF(電力控!Q83<>\"\",電力控!Q83,\"\")","v":""},{"$f":"IF(電力控!R83<>\"\",電力控!R83,\"\")","v":""},{"$f":"IF(電力控!S83<>\"\",電力控!S83,\"\")","v":""},{"$f":"IF(電力控!T83<>\"\",電力控!T83,\"\")","v":""},{"$f":"IF(電力控!U83<>\"\",電力控!U83,\"\")","v":""},{"$f":"IF(電力控!V83<>\"\",電力控!V83,\"\")","v":""},{"$f":"IF(電力控!W83<>\"\",電力控!W83,\"\")","v":""},{"$f":"IF(電力控!X83<>\"\",電力控!X83,\"\")","v":""},{"$f":"IF(電力控!Y83<>\"\",電力控!Y83,\"\")","v":""},{"$f":"IF(電力控!Z83<>\"\",電力控!Z83,\"\")","v":""},{"$f":"IF(電力控!AA83<>\"\",電力控!AA83,\"\")","v":""},{"$f":"IF(電力控!AB83<>\"\",電力控!AB83,\"\")","v":""},{"$f":"IF(電力控!AC83<>\"\",電力控!AC83,\"\")","v":""},{"$f":"IF(電力控!AD83<>\"\",電力控!AD83,\"\")","v":""},{"$f":"IF(電力控!AE83<>\"\",電力控!AE83,\"\")","v":""},{"$f":"IF(電力控!AF83<>\"\",電力控!AF83,\"\")","v":""},{"$f":"IF(電力控!AG83<>\"\",電力控!AG83,\"\")","v":""},{"$f":"IF(電力控!AH83<>\"\",電力控!AH83,\"\")","v":""},{"$f":"IF(電力控!AI83<>\"\",電力控!AI83,\"\")","v":""},{"$f":"IF(電力控!AJ83<>\"\",電力控!AJ83,\"\")","v":""},{"$f":"IF(電力控!AK83<>\"\",電力控!AK83,\"\")","v":""},{"$f":"IF(電力控!AL83<>\"\",電力控!AL83,\"\")","v":""},{"$f":"IF(電力控!AM83<>\"\",電力控!AM83,\"\")","v":""},{"$f":"IF(電力控!AN83<>\"\",電力控!AN83,\"\")","v":""},{"$f":"IF(電力控!AO83<>\"\",電力控!AO83,\"\")","v":""},{"$f":"IF(電力控!AP83<>\"\",電力控!AP83,\"\")","v":""},{"$f":"IF(電力控!AQ83<>\"\",電力控!AQ83,\"\")","v":""},{"$f":"IF(電力控!AR83<>\"\",電力控!AR83,\"\")","v":""},{"$f":"IF(電力控!AS83<>\"\",電力控!AS83,\"\")","v":""},{"$f":"IF(電力控!AT83<>\"\",電力控!AT83,\"\")","v":""},{"$f":"IF(電力控!AU83<>\"\",電力控!AU83,\"\")","v":""},{"$f":"IF(電力控!AV83<>\"\",電力控!AV83,\"\")","v":""},{"$f":"IF(電力控!AW83<>\"\",電力控!AW83,\"\")","v":""},{"$f":"IF(電力控!AX83<>\"\",電力控!AX83,\"\")","v":""},{"$f":"IF(電力控!AY83<>\"\",電力控!AY83,\"\")","v":""},{"$f":"IF(電力控!AZ83<>\"\",電力控!AZ83,\"\")","v":""},{"$f":"IF(電力控!BA83<>\"\",電力控!BA83,\"\")","v":""}]
[{"$f":"IF(電力控!A84<>\"\",電力控!A84,\"\")","v":""},{"$f":"IF(電力控!B84<>\"\",電力控!B84,\"\")","v":""},{"$f":"IF(電力控!C84<>\"\",電力控!C84,\"\")","v":""},{"$f":"IF(電力控!D84<>\"\",電力控!D84,\"\")","v":""},{"$f":"IF(電力控!E84<>\"\",電力控!E84,\"\")","v":""},{"$f":"IF(電力控!F84<>\"\",電力控!F84,\"\")","v":""},{"$f":"IF(電力控!G84<>\"\",電力控!G84,\"\")","v":""},{"$f":"IF(電力控!H84<>\"\",電力控!H84,\"\")","v":""},{"$f":"IF(電力控!I84<>\"\",電力控!I84,\"\")","v":""},{"$f":"IF(電力控!J84<>\"\",電力控!J84,\"\")","v":""},{"$f":"IF(電力控!K84<>\"\",電力控!K84,\"\")","v":""},{"$f":"IF(電力控!L84<>\"\",電力控!L84,\"\")","v":""},{"$f":"IF(電力控!M84<>\"\",電力控!M84,\"\")","v":""},{"$f":"IF(電力控!N84<>\"\",電力控!N84,\"\")","v":""},{"$f":"IF(電力控!O84<>\"\",電力控!O84,\"\")","v":""},{"$f":"IF(電力控!P84<>\"\",電力控!P84,\"\")","v":""},{"$f":"IF(電力控!Q84<>\"\",電力控!Q84,\"\")","v":""},{"$f":"IF(電力控!R84<>\"\",電力控!R84,\"\")","v":""},{"$f":"IF(電力控!S84<>\"\",電力控!S84,\"\")","v":""},{"$f":"IF(電力控!T84<>\"\",電力控!T84,\"\")","v":""},{"$f":"IF(電力控!U84<>\"\",電力控!U84,\"\")","v":""},{"$f":"IF(電力控!V84<>\"\",電力控!V84,\"\")","v":""},{"$f":"IF(電力控!W84<>\"\",電力控!W84,\"\")","v":""},{"$f":"IF(電力控!X84<>\"\",電力控!X84,\"\")","v":""},{"$f":"IF(電力控!Y84<>\"\",電力控!Y84,\"\")","v":""},{"$f":"IF(電力控!Z84<>\"\",電力控!Z84,\"\")","v":""},{"$f":"IF(電力控!AA84<>\"\",電力控!AA84,\"\")","v":""},{"$f":"IF(電力控!AB84<>\"\",電力控!AB84,\"\")","v":""},{"$f":"IF(電力控!AC84<>\"\",電力控!AC84,\"\")","v":""},{"$f":"IF(電力控!AD84<>\"\",電力控!AD84,\"\")","v":""},{"$f":"IF(電力控!AE84<>\"\",電力控!AE84,\"\")","v":""},{"$f":"IF(電力控!AF84<>\"\",電力控!AF84,\"\")","v":""},{"$f":"IF(電力控!AG84<>\"\",電力控!AG84,\"\")","v":""},{"$f":"IF(電力控!AH84<>\"\",電力控!AH84,\"\")","v":""},{"$f":"IF(電力控!AI84<>\"\",電力控!AI84,\"\")","v":""},{"$f":"IF(電力控!AJ84<>\"\",電力控!AJ84,\"\")","v":""},{"$f":"IF(電力控!AK84<>\"\",電力控!AK84,\"\")","v":""},{"$f":"IF(電力控!AL84<>\"\",電力控!AL84,\"\")","v":""},{"$f":"IF(電力控!AM84<>\"\",電力控!AM84,\"\")","v":""},{"$f":"IF(電力控!AN84<>\"\",電力控!AN84,\"\")","v":""},{"$f":"IF(電力控!AO84<>\"\",電力控!AO84,\"\")","v":""},{"$f":"IF(電力控!AP84<>\"\",電力控!AP84,\"\")","v":""},{"$f":"IF(電力控!AQ84<>\"\",電力控!AQ84,\"\")","v":""},{"$f":"IF(電力控!AR84<>\"\",電力控!AR84,\"\")","v":""},{"$f":"IF(電力控!AS84<>\"\",電力控!AS84,\"\")","v":""},{"$f":"IF(電力控!AT84<>\"\",電力控!AT84,\"\")","v":""},{"$f":"IF(電力控!AU84<>\"\",電力控!AU84,\"\")","v":""},{"$f":"IF(電力控!AV84<>\"\",電力控!AV84,\"\")","v":""},{"$f":"IF(電力控!AW84<>\"\",電力控!AW84,\"\")","v":""},{"$f":"IF(電力控!AX84<>\"\",電力控!AX84,\"\")","v":""},{"$f":"IF(電力控!AY84<>\"\",電力控!AY84,\"\")","v":""},{"$f":"IF(電力控!AZ84<>\"\",電力控!AZ84,\"\")","v":""},{"$f":"IF(電力控!BA84<>\"\",電力控!BA84,\"\")","v":""}]
[{"$f":"IF(電力控!A85<>\"\",電力控!A85,\"\")","v":""},{"$f":"IF(電力控!B85<>\"\",電力控!B85,\"\")","v":""},{"$f":"IF(電力控!C85<>\"\",電力控!C85,\"\")","v":""},{"$f":"IF(電力控!D85<>\"\",電力控!D85,\"\")","v":""},{"$f":"IF(電力控!E85<>\"\",電力控!E85,\"\")","v":""},{"$f":"IF(電力控!F85<>\"\",電力控!F85,\"\")","v":""},{"$f":"IF(電力控!G85<>\"\",電力控!G85,\"\")","v":""},{"$f":"IF(電力控!H85<>\"\",電力控!H85,\"\")","v":""},{"$f":"IF(電力控!I85<>\"\",電力控!I85,\"\")","v":""},{"$f":"IF(電力控!J85<>\"\",電力控!J85,\"\")","v":""},{"$f":"IF(電力控!K85<>\"\",電力控!K85,\"\")","v":""},{"$f":"IF(電力控!L85<>\"\",電力控!L85,\"\")","v":""},{"$f":"IF(電力控!M85<>\"\",電力控!M85,\"\")","v":""},{"$f":"IF(電力控!N85<>\"\",電力控!N85,\"\")","v":""},{"$f":"IF(電力控!O85<>\"\",電力控!O85,\"\")","v":""},{"$f":"IF(電力控!P85<>\"\",電力控!P85,\"\")","v":""},{"$f":"IF(電力控!Q85<>\"\",電力控!Q85,\"\")","v":""},{"$f":"IF(電力控!R85<>\"\",電力控!R85,\"\")","v":""},{"$f":"IF(電力控!S85<>\"\",電力控!S85,\"\")","v":""},{"$f":"IF(電力控!T85<>\"\",電力控!T85,\"\")","v":""},{"$f":"IF(電力控!U85<>\"\",電力控!U85,\"\")","v":""},{"$f":"IF(電力控!V85<>\"\",電力控!V85,\"\")","v":""},{"$f":"IF(電力控!W85<>\"\",電力控!W85,\"\")","v":""},{"$f":"IF(電力控!X85<>\"\",電力控!X85,\"\")","v":""},{"$f":"IF(電力控!Y85<>\"\",電力控!Y85,\"\")","v":""},{"$f":"IF(電力控!Z85<>\"\",電力控!Z85,\"\")","v":""},{"$f":"IF(電力控!AA85<>\"\",電力控!AA85,\"\")","v":""},{"$f":"IF(電力控!AB85<>\"\",電力控!AB85,\"\")","v":""},{"$f":"IF(電力控!AC85<>\"\",電力控!AC85,\"\")","v":""},{"$f":"IF(電力控!AD85<>\"\",電力控!AD85,\"\")","v":""},{"$f":"IF(電力控!AE85<>\"\",電力控!AE85,\"\")","v":""},{"$f":"IF(電力控!AF85<>\"\",電力控!AF85,\"\")","v":""},{"$f":"IF(電力控!AG85<>\"\",電力控!AG85,\"\")","v":""},{"$f":"IF(電力控!AH85<>\"\",電力控!AH85,\"\")","v":""},{"$f":"IF(電力控!AI85<>\"\",電力控!AI85,\"\")","v":""},{"$f":"IF(電力控!AJ85<>\"\",電力控!AJ85,\"\")","v":""},{"$f":"IF(電力控!AK85<>\"\",電力控!AK85,\"\")","v":""},{"$f":"IF(電力控!AL85<>\"\",電力控!AL85,\"\")","v":""},{"$f":"IF(電力控!AM85<>\"\",電力控!AM85,\"\")","v":""},{"$f":"IF(電力控!AN85<>\"\",電力控!AN85,\"\")","v":""},{"$f":"IF(電力控!AO85<>\"\",電力控!AO85,\"\")","v":""},{"$f":"IF(電力控!AP85<>\"\",電力控!AP85,\"\")","v":""},{"$f":"IF(電力控!AQ85<>\"\",電力控!AQ85,\"\")","v":""},{"$f":"IF(電力控!AR85<>\"\",電力控!AR85,\"\")","v":""},{"$f":"IF(電力控!AS85<>\"\",電力控!AS85,\"\")","v":""},{"$f":"IF(電力控!AT85<>\"\",電力控!AT85,\"\")","v":""},{"$f":"IF(電力控!AU85<>\"\",電力控!AU85,\"\")","v":""},{"$f":"IF(電力控!AV85<>\"\",電力控!AV85,\"\")","v":""},{"$f":"IF(電力控!AW85<>\"\",電力控!AW85,\"\")","v":""},{"$f":"IF(電力控!AX85<>\"\",電力控!AX85,\"\")","v":""},{"$f":"IF(電力控!AY85<>\"\",電力控!AY85,\"\")","v":""},{"$f":"IF(電力控!AZ85<>\"\",電力控!AZ85,\"\")","v":""},{"$f":"IF(電力控!BA85<>\"\",電力控!BA85,\"\")","v":""}]
[{"$f":"IF(電力控!A86<>\"\",電力控!A86,\"\")","v":""},{"$f":"IF(電力控!B86<>\"\",電力控!B86,\"\")","v":""},{"$f":"IF(電力控!C86<>\"\",電力控!C86,\"\")","v":""},{"$f":"IF(電力控!D86<>\"\",電力控!D86,\"\")","v":""},{"$f":"IF(電力控!E86<>\"\",電力控!E86,\"\")","v":""},{"$f":"IF(電力控!F86<>\"\",電力控!F86,\"\")","v":""},{"$f":"IF(電力控!G86<>\"\",電力控!G86,\"\")","v":""},{"$f":"IF(電力控!H86<>\"\",電力控!H86,\"\")","v":""},{"$f":"IF(電力控!I86<>\"\",電力控!I86,\"\")","v":""},{"$f":"IF(電力控!J86<>\"\",電力控!J86,\"\")","v":""},{"$f":"IF(電力控!K86<>\"\",電力控!K86,\"\")","v":""},{"$f":"IF(電力控!L86<>\"\",電力控!L86,\"\")","v":""},{"$f":"IF(電力控!M86<>\"\",電力控!M86,\"\")","v":""},{"$f":"IF(電力控!N86<>\"\",電力控!N86,\"\")","v":""},{"$f":"IF(電力控!O86<>\"\",電力控!O86,\"\")","v":""},{"$f":"IF(電力控!P86<>\"\",電力控!P86,\"\")","v":""},{"$f":"IF(電力控!AQ45=\"○\",\"（別紙参照）\",\"\")","v":""},{"$nulls":18},{"$f":"IF(電力控!AJ86<>\"\",電力控!AJ86,\"\")","v":""},{"$f":"IF(電力控!AK86<>\"\",電力控!AK86,\"\")","v":""},{"$f":"IF(電力控!AL86<>\"\",電力控!AL86,\"\")","v":""},{"$f":"IF(電力控!AM86<>\"\",電力控!AM86,\"\")","v":""},{"$f":"IF(電力控!AN86<>\"\",電力控!AN86,\"\")","v":""},{"$f":"IF(電力控!AO86<>\"\",電力控!AO86,\"\")","v":""},{"$f":"IF(電力控!AP86<>\"\",電力控!AP86,\"\")","v":""},{"$f":"IF(電力控!AQ86<>\"\",電力控!AQ86,\"\")","v":""},{"$f":"IF(電力控!AR86<>\"\",電力控!AR86,\"\")","v":""},{"$f":"IF(電力控!AS86<>\"\",電力控!AS86,\"\")","v":""},{"$f":"IF(電力控!AT86<>\"\",電力控!AT86,\"\")","v":""},{"$f":"IF(電力控!AU86<>\"\",電力控!AU86,\"\")","v":""},{"$f":"IF(電力控!AV86<>\"\",電力控!AV86,\"\")","v":""},{"$f":"IF(電力控!AW86<>\"\",電力控!AW86,\"\")","v":""},{"$f":"IF(電力控!AX86<>\"\",電力控!AX86,\"\")","v":""},{"$f":"IF(電力控!AY86<>\"\",電力控!AY86,\"\")","v":""},{"$f":"IF(電力控!AZ86<>\"\",電力控!AZ86,\"\")","v":""},{"$f":"IF(電力控!BA86<>\"\",電力控!BA86,\"\")","v":""}]
[{"$f":"IF(電力控!A87<>\"\",電力控!A87,\"\")","v":""},{"$f":"IF(電力控!B87<>\"\",電力控!B87,\"\")","v":""},{"$f":"IF(電力控!C87<>\"\",電力控!C87,\"\")","v":""},{"$f":"IF(電力控!D87<>\"\",電力控!D87,\"\")","v":""},{"$f":"IF(電力控!E87<>\"\",電力控!E87,\"\")","v":""},{"$f":"IF(電力控!F87<>\"\",電力控!F87,\"\")","v":""},{"$f":"IF(電力控!G87<>\"\",電力控!G87,\"\")","v":""},{"$f":"IF(電力控!H87<>\"\",電力控!H87,\"\")","v":""},{"$f":"IF(電力控!I87<>\"\",電力控!I87,\"\")","v":""},{"$f":"IF(電力控!J87<>\"\",電力控!J87,\"\")","v":""},{"$f":"IF(電力控!K87<>\"\",電力控!K87,\"\")","v":""},{"$f":"IF(電力控!L87<>\"\",電力控!L87,\"\")","v":""},{"$f":"IF(電力控!M87<>\"\",電力控!M87,\"\")","v":""},{"$f":"IF(電力控!N87<>\"\",電力控!N87,\"\")","v":""},{"$f":"IF(電力控!O87<>\"\",電力控!O87,\"\")","v":""},{"$f":"IF(電力控!P87<>\"\",電力控!P87,\"\")","v":""},{"$nulls":19},{"$f":"IF(電力控!AJ87<>\"\",電力控!AJ87,\"\")","v":""},{"$f":"IF(電力控!AK87<>\"\",電力控!AK87,\"\")","v":""},{"$f":"IF(電力控!AL87<>\"\",電力控!AL87,\"\")","v":""},{"$f":"IF(電力控!AM87<>\"\",電力控!AM87,\"\")","v":""},{"$f":"IF(電力控!AN87<>\"\",電力控!AN87,\"\")","v":""},{"$f":"IF(電力控!AO87<>\"\",電力控!AO87,\"\")","v":""},{"$f":"IF(電力控!AP87<>\"\",電力控!AP87,\"\")","v":""},{"$f":"IF(電力控!AQ87<>\"\",電力控!AQ87,\"\")","v":""},{"$f":"IF(電力控!AR87<>\"\",電力控!AR87,\"\")","v":""},{"$f":"IF(電力控!AS87<>\"\",電力控!AS87,\"\")","v":""},{"$f":"IF(電力控!AT87<>\"\",電力控!AT87,\"\")","v":""},{"$f":"IF(電力控!AU87<>\"\",電力控!AU87,\"\")","v":""},{"$f":"IF(電力控!AV87<>\"\",電力控!AV87,\"\")","v":""},{"$f":"IF(電力控!AW87<>\"\",電力控!AW87,\"\")","v":""},{"$f":"IF(電力控!AX87<>\"\",電力控!AX87,\"\")","v":""},{"$f":"IF(電力控!AY87<>\"\",電力控!AY87,\"\")","v":""},{"$f":"IF(電力控!AZ87<>\"\",電力控!AZ87,\"\")","v":""},{"$f":"IF(電力控!BA87<>\"\",電力控!BA87,\"\")","v":""}]
[{"$f":"IF(電力控!A88<>\"\",電力控!A88,\"\")","v":""},{"$f":"IF(電力控!B88<>\"\",電力控!B88,\"\")","v":""},{"$f":"IF(電力控!C88<>\"\",電力控!C88,\"\")","v":""},{"$f":"IF(電力控!D88<>\"\",電力控!D88,\"\")","v":""},{"$f":"IF(電力控!E88<>\"\",電力控!E88,\"\")","v":""},{"$f":"IF(電力控!F88<>\"\",電力控!F88,\"\")","v":""},{"$f":"IF(電力控!G88<>\"\",電力控!G88,\"\")","v":""},{"$f":"IF(電力控!H88<>\"\",電力控!H88,\"\")","v":""},{"$f":"IF(電力控!I88<>\"\",電力控!I88,\"\")","v":""},{"$f":"IF(電力控!J88<>\"\",電力控!J88,\"\")","v":""},{"$f":"IF(電力控!K88<>\"\",電力控!K88,\"\")","v":""},{"$f":"IF(電力控!L88<>\"\",電力控!L88,\"\")","v":""},{"$f":"IF(電力控!M88<>\"\",電力控!M88,\"\")","v":""},{"$f":"IF(電力控!N88<>\"\",電力控!N88,\"\")","v":""},{"$f":"IF(電力控!O88<>\"\",電力控!O88,\"\")","v":""},{"$f":"IF(電力控!P88<>\"\",電力控!P88,\"\")","v":""},{"$f":"IF(電力控!Q88<>\"\",電力控!Q88,\"\")","v":""},{"$f":"IF(電力控!R88<>\"\",電力控!R88,\"\")","v":""},{"$f":"IF(電力控!S88<>\"\",電力控!S88,\"\")","v":""},{"$f":"IF(電力控!T88<>\"\",電力控!T88,\"\")","v":""},{"$f":"IF(電力控!U88<>\"\",電力控!U88,\"\")","v":""},{"$f":"IF(電力控!V88<>\"\",電力控!V88,\"\")","v":""},{"$f":"IF(電力控!W88<>\"\",電力控!W88,\"\")","v":""},{"$f":"IF(電力控!X88<>\"\",電力控!X88,\"\")","v":""},{"$f":"IF(電力控!Y88<>\"\",電力控!Y88,\"\")","v":""},{"$f":"IF(電力控!Z88<>\"\",電力控!Z88,\"\")","v":""},{"$f":"IF(電力控!AA88<>\"\",電力控!AA88,\"\")","v":""},{"$f":"IF(電力控!AB88<>\"\",電力控!AB88,\"\")","v":""},{"$f":"IF(電力控!AC88<>\"\",電力控!AC88,\"\")","v":""},{"$f":"IF(電力控!AD88<>\"\",電力控!AD88,\"\")","v":""},{"$f":"IF(電力控!AE88<>\"\",電力控!AE88,\"\")","v":""},{"$f":"IF(電力控!AF88<>\"\",電力控!AF88,\"\")","v":""},{"$f":"IF(電力控!AG88<>\"\",電力控!AG88,\"\")","v":""},{"$f":"IF(電力控!AH88<>\"\",電力控!AH88,\"\")","v":""},{"$f":"IF(電力控!AI88<>\"\",電力控!AI88,\"\")","v":""},{"$f":"IF(電力控!AJ88<>\"\",電力控!AJ88,\"\")","v":""},{"$f":"IF(電力控!AK88<>\"\",電力控!AK88,\"\")","v":""},{"$f":"IF(電力控!AL88<>\"\",電力控!AL88,\"\")","v":""},{"$f":"IF(電力控!AM88<>\"\",電力控!AM88,\"\")","v":""},{"$f":"IF(電力控!AN88<>\"\",電力控!AN88,\"\")","v":""},{"$f":"IF(電力控!AO88<>\"\",電力控!AO88,\"\")","v":""},{"$f":"IF(電力控!AP88<>\"\",電力控!AP88,\"\")","v":""},{"$f":"IF(電力控!AQ88<>\"\",電力控!AQ88,\"\")","v":""},{"$f":"IF(電力控!AR88<>\"\",電力控!AR88,\"\")","v":""},{"$f":"IF(電力控!AS88<>\"\",電力控!AS88,\"\")","v":""},{"$f":"IF(電力控!AT88<>\"\",電力控!AT88,\"\")","v":""},{"$f":"IF(電力控!AU88<>\"\",電力控!AU88,\"\")","v":""},{"$f":"IF(電力控!AV88<>\"\",電力控!AV88,\"\")","v":""},{"$f":"IF(電力控!AW88<>\"\",電力控!AW88,\"\")","v":""},{"$f":"IF(電力控!AX88<>\"\",電力控!AX88,\"\")","v":""},{"$f":"IF(電力控!AY88<>\"\",電力控!AY88,\"\")","v":""},{"$f":"IF(電力控!AZ88<>\"\",電力控!AZ88,\"\")","v":""},{"$f":"IF(電力控!BA88<>\"\",電力控!BA88,\"\")","v":""}]
[{"$f":"IF(電力控!A89<>\"\",電力控!A89,\"\")","v":""},{"$f":"IF(電力控!B89<>\"\",電力控!B89,\"\")","v":""},{"$f":"IF(電力控!C89<>\"\",電力控!C89,\"\")","v":""},{"$f":"IF(電力控!D89<>\"\",電力控!D89,\"\")","v":""},{"$f":"IF(電力控!E89<>\"\",電力控!E89,\"\")","v":""},{"$f":"IF(電力控!F89<>\"\",電力控!F89,\"\")","v":""},{"$f":"IF(電力控!G89<>\"\",電力控!G89,\"\")","v":""},{"$f":"IF(電力控!H89<>\"\",電力控!H89,\"\")","v":""},{"$f":"IF(電力控!I89<>\"\",電力控!I89,\"\")","v":""},{"$f":"IF(電力控!J89<>\"\",電力控!J89,\"\")","v":""},{"$f":"IF(電力控!K89<>\"\",電力控!K89,\"\")","v":""},{"$f":"IF(電力控!L89<>\"\",電力控!L89,\"\")","v":""},{"$f":"IF(電力控!M89<>\"\",電力控!M89,\"\")","v":""},{"$f":"IF(電力控!N89<>\"\",電力控!N89,\"\")","v":""},{"$f":"IF(電力控!O89<>\"\",電力控!O89,\"\")","v":""},{"$f":"IF(電力控!P89<>\"\",電力控!P89,\"\")","v":""},{"$f":"IF(電力控!Q89<>\"\",電力控!Q89,\"\")","v":""},{"$f":"IF(電力控!R89<>\"\",電力控!R89,\"\")","v":""},{"$f":"IF(電力控!S89<>\"\",電力控!S89,\"\")","v":""},{"$f":"IF(電力控!T89<>\"\",電力控!T89,\"\")","v":""},{"$f":"IF(電力控!U89<>\"\",電力控!U89,\"\")","v":""},{"$f":"IF(電力控!V89<>\"\",電力控!V89,\"\")","v":""},{"$f":"IF(電力控!W89<>\"\",電力控!W89,\"\")","v":""},{"$f":"IF(電力控!X89<>\"\",電力控!X89,\"\")","v":""},{"$f":"IF(電力控!Y89<>\"\",電力控!Y89,\"\")","v":""},{"$f":"IF(電力控!Z89<>\"\",電力控!Z89,\"\")","v":""},{"$f":"IF(電力控!AA89<>\"\",電力控!AA89,\"\")","v":""},{"$f":"IF(電力控!AB89<>\"\",電力控!AB89,\"\")","v":""},{"$f":"IF(電力控!AC89<>\"\",電力控!AC89,\"\")","v":""},{"$f":"IF(電力控!AD89<>\"\",電力控!AD89,\"\")","v":""},{"$f":"IF(電力控!AE89<>\"\",電力控!AE89,\"\")","v":""},{"$f":"IF(電力控!AF89<>\"\",電力控!AF89,\"\")","v":""},{"$f":"IF(電力控!AG89<>\"\",電力控!AG89,\"\")","v":""},{"$f":"IF(電力控!AH89<>\"\",電力控!AH89,\"\")","v":""},{"$f":"IF(電力控!AI89<>\"\",電力控!AI89,\"\")","v":""},{"$f":"IF(電力控!AJ89<>\"\",電力控!AJ89,\"\")","v":""},{"$f":"IF(電力控!AK89<>\"\",電力控!AK89,\"\")","v":""},{"$f":"IF(電力控!AL89<>\"\",電力控!AL89,\"\")","v":""},{"$f":"IF(電力控!AM89<>\"\",電力控!AM89,\"\")","v":""},{"$f":"IF(電力控!AN89<>\"\",電力控!AN89,\"\")","v":""},{"$f":"IF(電力控!AO89<>\"\",電力控!AO89,\"\")","v":""},{"$f":"IF(電力控!AP89<>\"\",電力控!AP89,\"\")","v":""},{"$f":"IF(電力控!AQ89<>\"\",電力控!AQ89,\"\")","v":""},{"$f":"IF(電力控!AR89<>\"\",電力控!AR89,\"\")","v":""},{"$f":"IF(電力控!AS89<>\"\",電力控!AS89,\"\")","v":""},{"$f":"IF(電力控!AT89<>\"\",電力控!AT89,\"\")","v":""},{"$f":"IF(電力控!AU89<>\"\",電力控!AU89,\"\")","v":""},{"$f":"IF(電力控!AV89<>\"\",電力控!AV89,\"\")","v":""},{"$f":"IF(電力控!AW89<>\"\",電力控!AW89,\"\")","v":""},{"$f":"IF(電力控!AX89<>\"\",電力控!AX89,\"\")","v":""},{"$f":"IF(電力控!AY89<>\"\",電力控!AY89,\"\")","v":""},{"$f":"IF(電力控!AZ89<>\"\",電力控!AZ89,\"\")","v":""},{"$f":"IF(電力控!BA89<>\"\",電力控!BA89,\"\")","v":""}]
[{"$f":"IF(電力控!A90<>\"\",電力控!A90,\"\")","v":""},{"$f":"IF(電力控!B90<>\"\",電力控!B90,\"\")","v":""},{"$f":"IF(電力控!C90<>\"\",電力控!C90,\"\")","v":""},{"$f":"IF(電力控!D90<>\"\",電力控!D90,\"\")","v":""},{"$f":"IF(電力控!E90<>\"\",電力控!E90,\"\")","v":""},{"$f":"IF(電力控!F90<>\"\",電力控!F90,\"\")","v":""},{"$f":"IF(電力控!G90<>\"\",電力控!G90,\"\")","v":""},{"$f":"IF(電力控!H90<>\"\",電力控!H90,\"\")","v":""},{"$f":"IF(電力控!I90<>\"\",電力控!I90,\"\")","v":""},{"$f":"IF(電力控!J90<>\"\",電力控!J90,\"\")","v":""},{"$f":"IF(電力控!K90<>\"\",電力控!K90,\"\")","v":""},{"$f":"IF(電力控!L90<>\"\",電力控!L90,\"\")","v":""},{"$f":"IF(電力控!M90<>\"\",電力控!M90,\"\")","v":""},{"$f":"IF(電力控!N90<>\"\",電力控!N90,\"\")","v":""},{"$f":"IF(電力控!O90<>\"\",電力控!O90,\"\")","v":""},{"$f":"IF(電力控!P90<>\"\",電力控!P90,\"\")","v":""},{"$f":"IF(電力控!Q90<>\"\",電力控!Q90,\"\")","v":""},{"$f":"IF(電力控!R90<>\"\",電力控!R90,\"\")","v":""},{"$f":"IF(電力控!S90<>\"\",電力控!S90,\"\")","v":""},{"$f":"IF(電力控!T90<>\"\",電力控!T90,\"\")","v":""},{"$f":"IF(電力控!U90<>\"\",電力控!U90,\"\")","v":""},{"$f":"IF(電力控!V90<>\"\",電力控!V90,\"\")","v":""},{"$f":"IF(電力控!W90<>\"\",電力控!W90,\"\")","v":""},{"$f":"IF(電力控!X90<>\"\",電力控!X90,\"\")","v":""},{"$f":"IF(電力控!Y90<>\"\",電力控!Y90,\"\")","v":""},{"$f":"IF(電力控!Z90<>\"\",電力控!Z90,\"\")","v":""},{"$f":"IF(電力控!AA90<>\"\",電力控!AA90,\"\")","v":""},{"$f":"IF(電力控!AB90<>\"\",電力控!AB90,\"\")","v":""},{"$f":"IF(電力控!AC90<>\"\",電力控!AC90,\"\")","v":""},{"$f":"IF(電力控!AD90<>\"\",電力控!AD90,\"\")","v":""},{"$f":"IF(電力控!AE90<>\"\",電力控!AE90,\"\")","v":""},{"$f":"IF(電力控!AF90<>\"\",電力控!AF90,\"\")","v":""},{"$f":"IF(電力控!AG90<>\"\",電力控!AG90,\"\")","v":""},{"$f":"IF(電力控!AH90<>\"\",電力控!AH90,\"\")","v":""},{"$f":"IF(電力控!AI90<>\"\",電力控!AI90,\"\")","v":""},{"$f":"IF(電力控!AJ90<>\"\",電力控!AJ90,\"\")","v":""},{"$f":"IF(電力控!AK90<>\"\",電力控!AK90,\"\")","v":""},{"$f":"IF(電力控!AL90<>\"\",電力控!AL90,\"\")","v":""},{"$f":"IF(電力控!AM90<>\"\",電力控!AM90,\"\")","v":""},{"$f":"IF(電力控!AN90<>\"\",電力控!AN90,\"\")","v":""},{"$f":"IF(電力控!AO90<>\"\",電力控!AO90,\"\")","v":""},{"$f":"IF(電力控!AP90<>\"\",電力控!AP90,\"\")","v":""},{"$f":"IF(電力控!AQ90<>\"\",電力控!AQ90,\"\")","v":""},{"$f":"IF(電力控!AR90<>\"\",電力控!AR90,\"\")","v":""},{"$f":"IF(電力控!AS90<>\"\",電力控!AS90,\"\")","v":""},{"$f":"IF(電力控!AT90<>\"\",電力控!AT90,\"\")","v":""},{"$f":"IF(電力控!AU90<>\"\",電力控!AU90,\"\")","v":""},{"$f":"IF(電力控!AV90<>\"\",電力控!AV90,\"\")","v":""},{"$f":"IF(電力控!AW90<>\"\",電力控!AW90,\"\")","v":""},{"$f":"IF(電力控!AX90<>\"\",電力控!AX90,\"\")","v":""},{"$f":"IF(電力控!AY90<>\"\",電力控!AY90,\"\")","v":""},{"$f":"IF(電力控!AZ90<>\"\",電力控!AZ90,\"\")","v":""},{"$f":"IF(電力控!BA90<>\"\",電力控!BA90,\"\")","v":""}]
[{"$f":"IF(電力控!A91<>\"\",電力控!A91,\"\")","v":""},{"$f":"IF(電力控!B91<>\"\",電力控!B91,\"\")","v":""},{"$f":"IF(電力控!C91<>\"\",電力控!C91,\"\")","v":""},{"$f":"IF(電力控!D91<>\"\",電力控!D91,\"\")","v":""},{"$f":"IF(電力控!E91<>\"\",電力控!E91,\"\")","v":""},{"$f":"IF(電力控!F91<>\"\",電力控!F91,\"\")","v":""},{"$f":"IF(電力控!G91<>\"\",電力控!G91,\"\")","v":""},{"$f":"IF(電力控!H91<>\"\",電力控!H91,\"\")","v":""},{"$f":"IF(電力控!I91<>\"\",電力控!I91,\"\")","v":""},{"$f":"IF(電力控!J91<>\"\",電力控!J91,\"\")","v":""},{"$f":"IF(電力控!K91<>\"\",電力控!K91,\"\")","v":""},{"$f":"IF(電力控!L91<>\"\",電力控!L91,\"\")","v":""},{"$f":"IF(電力控!M91<>\"\",電力控!M91,\"\")","v":""},{"$f":"IF(電力控!N91<>\"\",電力控!N91,\"\")","v":""},{"$f":"IF(電力控!O91<>\"\",電力控!O91,\"\")","v":""},{"$f":"IF(電力控!P91<>\"\",電力控!P91,\"\")","v":""},{"$f":"IF(電力控!Q91<>\"\",電力控!Q91,\"\")","v":""},{"$f":"IF(電力控!R91<>\"\",電力控!R91,\"\")","v":""},{"$f":"IF(電力控!S91<>\"\",電力控!S91,\"\")","v":""},{"$f":"IF(電力控!T91<>\"\",電力控!T91,\"\")","v":""},{"$f":"IF(電力控!U91<>\"\",電力控!U91,\"\")","v":""},{"$f":"IF(電力控!V91<>\"\",電力控!V91,\"\")","v":""},{"$f":"IF(電力控!W91<>\"\",電力控!W91,\"\")","v":""},{"$f":"IF(電力控!X91<>\"\",電力控!X91,\"\")","v":""},{"$f":"IF(電力控!Y91<>\"\",電力控!Y91,\"\")","v":""},{"$f":"IF(電力控!Z91<>\"\",電力控!Z91,\"\")","v":""},{"$f":"IF(電力控!AA91<>\"\",電力控!AA91,\"\")","v":""},{"$f":"IF(電力控!AB91<>\"\",電力控!AB91,\"\")","v":""},{"$f":"IF(電力控!AC91<>\"\",電力控!AC91,\"\")","v":""},{"$f":"IF(電力控!AD91<>\"\",電力控!AD91,\"\")","v":""},{"$f":"IF(電力控!AE91<>\"\",電力控!AE91,\"\")","v":""},{"$f":"IF(電力控!AF91<>\"\",電力控!AF91,\"\")","v":""},{"$f":"IF(電力控!AG91<>\"\",電力控!AG91,\"\")","v":""},{"$f":"IF(電力控!AH91<>\"\",電力控!AH91,\"\")","v":""},{"$f":"IF(電力控!AI91<>\"\",電力控!AI91,\"\")","v":""},{"$f":"IF(電力控!AJ91<>\"\",電力控!AJ91,\"\")","v":""},{"$f":"IF(電力控!AK91<>\"\",電力控!AK91,\"\")","v":""},{"$f":"IF(電力控!AL91<>\"\",電力控!AL91,\"\")","v":""},{"$f":"IF(電力控!AM91<>\"\",電力控!AM91,\"\")","v":""},{"$f":"IF(電力控!AN91<>\"\",電力控!AN91,\"\")","v":""},{"$f":"IF(電力控!AO91<>\"\",電力控!AO91,\"\")","v":""},{"$f":"IF(電力控!AP91<>\"\",電力控!AP91,\"\")","v":""},{"$f":"IF(電力控!AQ91<>\"\",電力控!AQ91,\"\")","v":""},{"$f":"IF(電力控!AR91<>\"\",電力控!AR91,\"\")","v":""},{"$f":"IF(電力控!AS91<>\"\",電力控!AS91,\"\")","v":""},{"$f":"IF(電力控!AT91<>\"\",電力控!AT91,\"\")","v":""},{"$f":"IF(電力控!AU91<>\"\",電力控!AU91,\"\")","v":""},{"$f":"IF(電力控!AV91<>\"\",電力控!AV91,\"\")","v":""},{"$f":"IF(電力控!AW91<>\"\",電力控!AW91,\"\")","v":""},{"$f":"IF(電力控!AX91<>\"\",電力控!AX91,\"\")","v":""},{"$f":"IF(電力控!AY91<>\"\",電力控!AY91,\"\")","v":""},{"$f":"IF(電力控!AZ91<>\"\",電力控!AZ91,\"\")","v":""},{"$f":"IF(電力控!BA91<>\"\",電力控!BA91,\"\")","v":""}]
[{"$f":"IF(電力控!A92<>\"\",電力控!A92,\"\")","v":""},{"$f":"IF(電力控!B92<>\"\",電力控!B92,\"\")","v":""},{"$f":"IF(電力控!C92<>\"\",電力控!C92,\"\")","v":""},{"$f":"IF(電力控!D92<>\"\",電力控!D92,\"\")","v":""},{"$f":"IF(電力控!E92<>\"\",電力控!E92,\"\")","v":""},{"$f":"IF(電力控!F92<>\"\",電力控!F92,\"\")","v":""},{"$f":"IF(電力控!G92<>\"\",電力控!G92,\"\")","v":""},{"$f":"IF(電力控!H92<>\"\",電力控!H92,\"\")","v":""},{"$f":"IF(電力控!I92<>\"\",電力控!I92,\"\")","v":""},{"$f":"IF(電力控!J92<>\"\",電力控!J92,\"\")","v":""},{"$f":"IF(電力控!K92<>\"\",電力控!K92,\"\")","v":""},{"$f":"IF(電力控!L92<>\"\",電力控!L92,\"\")","v":""},{"$f":"IF(電力控!M92<>\"\",電力控!M92,\"\")","v":""},{"$f":"IF(電力控!N92<>\"\",電力控!N92,\"\")","v":""},{"$f":"IF(電力控!O92<>\"\",電力控!O92,\"\")","v":""},{"$f":"IF(電力控!P92<>\"\",電力控!P92,\"\")","v":""},{"$f":"IF(電力控!Q92<>\"\",電力控!Q92,\"\")","v":""},{"$f":"IF(電力控!R92<>\"\",電力控!R92,\"\")","v":""},{"$f":"IF(電力控!S92<>\"\",電力控!S92,\"\")","v":""},{"$f":"IF(電力控!T92<>\"\",電力控!T92,\"\")","v":""},{"$f":"IF(電力控!U92<>\"\",電力控!U92,\"\")","v":""},{"$f":"IF(電力控!V92<>\"\",電力控!V92,\"\")","v":""},{"$f":"IF(電力控!W92<>\"\",電力控!W92,\"\")","v":""},{"$f":"IF(電力控!X92<>\"\",電力控!X92,\"\")","v":""},{"$f":"IF(電力控!Y92<>\"\",電力控!Y92,\"\")","v":""},{"$f":"IF(電力控!Z92<>\"\",電力控!Z92,\"\")","v":""},{"$f":"IF(電力控!AA92<>\"\",電力控!AA92,\"\")","v":""},{"$f":"IF(電力控!AB92<>\"\",電力控!AB92,\"\")","v":""},{"$f":"IF(電力控!AC92<>\"\",電力控!AC92,\"\")","v":""},{"$f":"IF(電力控!AD92<>\"\",電力控!AD92,\"\")","v":""},{"$f":"IF(電力控!AE92<>\"\",電力控!AE92,\"\")","v":""},{"$f":"IF(電力控!AF92<>\"\",電力控!AF92,\"\")","v":""},{"$f":"IF(電力控!AG92<>\"\",電力控!AG92,\"\")","v":""},{"$f":"IF(電力控!AH92<>\"\",電力控!AH92,\"\")","v":""},{"$f":"IF(電力控!AI92<>\"\",電力控!AI92,\"\")","v":""},{"$f":"IF(電力控!AJ92<>\"\",電力控!AJ92,\"\")","v":""},{"$f":"IF(電力控!AK92<>\"\",電力控!AK92,\"\")","v":""},{"$f":"IF(電力控!AL92<>\"\",電力控!AL92,\"\")","v":""},{"$f":"IF(電力控!AM92<>\"\",電力控!AM92,\"\")","v":""},{"$f":"IF(電力控!AN92<>\"\",電力控!AN92,\"\")","v":""},{"$f":"IF(電力控!AO92<>\"\",電力控!AO92,\"\")","v":""},{"$f":"IF(電力控!AP92<>\"\",電力控!AP92,\"\")","v":""},{"$f":"IF(電力控!AQ92<>\"\",電力控!AQ92,\"\")","v":""},{"$f":"IF(電力控!AR92<>\"\",電力控!AR92,\"\")","v":""},{"$f":"IF(電力控!AS92<>\"\",電力控!AS92,\"\")","v":""},{"$f":"IF(電力控!AT92<>\"\",電力控!AT92,\"\")","v":""},{"$f":"IF(電力控!AU92<>\"\",電力控!AU92,\"\")","v":""},{"$f":"IF(電力控!AV92<>\"\",電力控!AV92,\"\")","v":""},{"$f":"IF(電力控!AW92<>\"\",電力控!AW92,\"\")","v":""},{"$f":"IF(電力控!AX92<>\"\",電力控!AX92,\"\")","v":""},{"$f":"IF(電力控!AY92<>\"\",電力控!AY92,\"\")","v":""},{"$f":"IF(電力控!AZ92<>\"\",電力控!AZ92,\"\")","v":""},{"$f":"IF(電力控!BA92<>\"\",電力控!BA92,\"\")","v":""}]
[{"$f":"IF(電力控!A93<>\"\",電力控!A93,\"\")","v":""},{"$f":"IF(電力控!B93<>\"\",電力控!B93,\"\")","v":""},{"$f":"IF(電力控!C93<>\"\",電力控!C93,\"\")","v":""},{"$f":"IF(電力控!D93<>\"\",電力控!D93,\"\")","v":""},{"$f":"IF(電力控!E93<>\"\",電力控!E93,\"\")","v":""},{"$f":"IF(電力控!F93<>\"\",電力控!F93,\"\")","v":""},{"$f":"IF(電力控!G93<>\"\",電力控!G93,\"\")","v":""},{"$f":"IF(電力控!H93<>\"\",電力控!H93,\"\")","v":""},{"$f":"IF(電力控!I93<>\"\",電力控!I93,\"\")","v":""},{"$f":"IF(電力控!J93<>\"\",電力控!J93,\"\")","v":""},{"$f":"IF(電力控!K93<>\"\",電力控!K93,\"\")","v":""},{"$f":"IF(電力控!L93<>\"\",電力控!L93,\"\")","v":""},{"$f":"IF(電力控!M93<>\"\",電力控!M93,\"\")","v":""},{"$f":"IF(電力控!N93<>\"\",電力控!N93,\"\")","v":""},{"$f":"IF(電力控!O93<>\"\",電力控!O93,\"\")","v":""},{"$f":"IF(電力控!P93<>\"\",電力控!P93,\"\")","v":""},{"$f":"IF(電力控!Q93<>\"\",電力控!Q93,\"\")","v":""},{"$f":"IF(電力控!R93<>\"\",電力控!R93,\"\")","v":""},{"$f":"IF(電力控!S93<>\"\",電力控!S93,\"\")","v":""},{"$f":"IF(電力控!T93<>\"\",電力控!T93,\"\")","v":""},{"$f":"IF(電力控!U93<>\"\",電力控!U93,\"\")","v":""},{"$f":"IF(電力控!V93<>\"\",電力控!V93,\"\")","v":""},{"$f":"IF(電力控!W93<>\"\",電力控!W93,\"\")","v":""},{"$f":"IF(電力控!X93<>\"\",電力控!X93,\"\")","v":""},{"$f":"IF(電力控!Y93<>\"\",電力控!Y93,\"\")","v":""},{"$f":"IF(電力控!Z93<>\"\",電力控!Z93,\"\")","v":""},{"$f":"IF(電力控!AA93<>\"\",電力控!AA93,\"\")","v":""},{"$f":"IF(電力控!AB93<>\"\",電力控!AB93,\"\")","v":""},{"$f":"IF(電力控!AC93<>\"\",電力控!AC93,\"\")","v":""},{"$f":"IF(電力控!AD93<>\"\",電力控!AD93,\"\")","v":""},{"$f":"IF(電力控!AE93<>\"\",電力控!AE93,\"\")","v":""},{"$f":"IF(電力控!AF93<>\"\",電力控!AF93,\"\")","v":""},{"$f":"IF(電力控!AG93<>\"\",電力控!AG93,\"\")","v":""},{"$f":"IF(電力控!AH93<>\"\",電力控!AH93,\"\")","v":""},{"$f":"IF(電力控!AI93<>\"\",電力控!AI93,\"\")","v":""},{"$f":"IF(電力控!AJ93<>\"\",電力控!AJ93,\"\")","v":""},{"$f":"IF(電力控!AK93<>\"\",電力控!AK93,\"\")","v":""},{"$f":"IF(電力控!AL93<>\"\",電力控!AL93,\"\")","v":""},{"$f":"IF(電力控!AM93<>\"\",電力控!AM93,\"\")","v":""},{"$f":"IF(電力控!AN93<>\"\",電力控!AN93,\"\")","v":""},{"$f":"IF(電力控!AO93<>\"\",電力控!AO93,\"\")","v":""},{"$f":"IF(電力控!AP93<>\"\",電力控!AP93,\"\")","v":""},{"$f":"IF(電力控!AQ93<>\"\",電力控!AQ93,\"\")","v":""},{"$f":"IF(電力控!AR93<>\"\",電力控!AR93,\"\")","v":""},{"$f":"IF(電力控!AS93<>\"\",電力控!AS93,\"\")","v":""},{"$f":"IF(電力控!AT93<>\"\",電力控!AT93,\"\")","v":""},{"$f":"IF(電力控!AU93<>\"\",電力控!AU93,\"\")","v":""},{"$f":"IF(電力控!AV93<>\"\",電力控!AV93,\"\")","v":""},{"$f":"IF(電力控!AW93<>\"\",電力控!AW93,\"\")","v":""},{"$f":"IF(電力控!AX93<>\"\",電力控!AX93,\"\")","v":""},{"$f":"IF(電力控!AY93<>\"\",電力控!AY93,\"\")","v":""},{"$f":"IF(電力控!AZ93<>\"\",電力控!AZ93,\"\")","v":""},{"$f":"IF(電力控!BA93<>\"\",電力控!BA93,\"\")","v":""}]
[{"$f":"IF(電力控!A94<>\"\",電力控!A94,\"\")","v":""},{"$f":"IF(電力控!B94<>\"\",電力控!B94,\"\")","v":""},{"$f":"IF(電力控!C94<>\"\",電力控!C94,\"\")","v":""},{"$f":"IF(電力控!D94<>\"\",電力控!D94,\"\")","v":""},{"$f":"IF(電力控!E94<>\"\",電力控!E94,\"\")","v":""},{"$f":"IF(電力控!F94<>\"\",電力控!F94,\"\")","v":""},{"$f":"IF(電力控!G94<>\"\",電力控!G94,\"\")","v":""},{"$f":"IF(電力控!H94<>\"\",電力控!H94,\"\")","v":""},{"$f":"IF(電力控!I94<>\"\",電力控!I94,\"\")","v":""},{"$f":"IF(電力控!J94<>\"\",電力控!J94,\"\")","v":""},{"$f":"IF(電力控!K94<>\"\",電力控!K94,\"\")","v":""},{"$f":"IF(電力控!L94<>\"\",電力控!L94,\"\")","v":""},{"$f":"IF(電力控!M94<>\"\",電力控!M94,\"\")","v":""},{"$f":"IF(電力控!N94<>\"\",電力控!N94,\"\")","v":""},{"$f":"IF(電力控!O94<>\"\",電力控!O94,\"\")","v":""},{"$f":"IF(電力控!P94<>\"\",電力控!P94,\"\")","v":""},{"$f":"IF(電力控!Q94<>\"\",電力控!Q94,\"\")","v":""},{"$f":"IF(電力控!R94<>\"\",電力控!R94,\"\")","v":""},{"$f":"IF(電力控!S94<>\"\",電力控!S94,\"\")","v":""},{"$f":"IF(電力控!T94<>\"\",電力控!T94,\"\")","v":""},{"$f":"IF(電力控!U94<>\"\",電力控!U94,\"\")","v":""},{"$f":"IF(電力控!V94<>\"\",電力控!V94,\"\")","v":""},{"$f":"IF(電力控!W94<>\"\",電力控!W94,\"\")","v":""},{"$f":"IF(電力控!X94<>\"\",電力控!X94,\"\")","v":""},{"$f":"IF(電力控!Y94<>\"\",電力控!Y94,\"\")","v":""},{"$f":"IF(電力控!Z94<>\"\",電力控!Z94,\"\")","v":""},{"$f":"IF(電力控!AA94<>\"\",電力控!AA94,\"\")","v":""},{"$f":"IF(電力控!AB94<>\"\",電力控!AB94,\"\")","v":""},{"$f":"IF(電力控!AC94<>\"\",電力控!AC94,\"\")","v":""},{"$f":"IF(電力控!AD94<>\"\",電力控!AD94,\"\")","v":""},{"$f":"IF(電力控!AE94<>\"\",電力控!AE94,\"\")","v":""},{"$f":"IF(電力控!AF94<>\"\",電力控!AF94,\"\")","v":""},{"$f":"IF(電力控!AG94<>\"\",電力控!AG94,\"\")","v":""},{"$f":"IF(電力控!AH94<>\"\",電力控!AH94,\"\")","v":""},{"$f":"IF(電力控!AI94<>\"\",電力控!AI94,\"\")","v":""},{"$f":"IF(電力控!AJ94<>\"\",電力控!AJ94,\"\")","v":""},{"$f":"IF(電力控!AK94<>\"\",電力控!AK94,\"\")","v":""},{"$f":"IF(電力控!AL94<>\"\",電力控!AL94,\"\")","v":""},{"$f":"IF(電力控!AM94<>\"\",電力控!AM94,\"\")","v":""},{"$f":"IF(電力控!AN94<>\"\",電力控!AN94,\"\")","v":""},{"$f":"IF(電力控!AO94<>\"\",電力控!AO94,\"\")","v":""},{"$f":"IF(電力控!AP94<>\"\",電力控!AP94,\"\")","v":""},{"$f":"IF(電力控!AQ94<>\"\",電力控!AQ94,\"\")","v":""},{"$f":"IF(電力控!AR94<>\"\",電力控!AR94,\"\")","v":""},{"$f":"IF(電力控!AS94<>\"\",電力控!AS94,\"\")","v":""},{"$f":"IF(電力控!AT94<>\"\",電力控!AT94,\"\")","v":""},{"$f":"IF(電力控!AU94<>\"\",電力控!AU94,\"\")","v":""},{"$f":"IF(電力控!AV94<>\"\",電力控!AV94,\"\")","v":""},{"$f":"IF(電力控!AW94<>\"\",電力控!AW94,\"\")","v":""},{"$f":"IF(電力控!AX94<>\"\",電力控!AX94,\"\")","v":""},{"$f":"IF(電力控!AY94<>\"\",電力控!AY94,\"\")","v":""},{"$f":"IF(電力控!AZ94<>\"\",電力控!AZ94,\"\")","v":""},{"$f":"IF(電力控!BA94<>\"\",電力控!BA94,\"\")","v":""}]
[{"$f":"IF(電力控!A95<>\"\",電力控!A95,\"\")","v":""},{"$f":"IF(電力控!B95<>\"\",電力控!B95,\"\")","v":""},{"$f":"IF(電力控!C95<>\"\",電力控!C95,\"\")","v":""},{"$f":"IF(電力控!D95<>\"\",電力控!D95,\"\")","v":""},{"$f":"IF(電力控!E95<>\"\",電力控!E95,\"\")","v":""},{"$f":"IF(電力控!F95<>\"\",電力控!F95,\"\")","v":""},{"$f":"IF(電力控!G95<>\"\",電力控!G95,\"\")","v":""},{"$f":"IF(電力控!H95<>\"\",電力控!H95,\"\")","v":""},{"$f":"IF(電力控!I95<>\"\",電力控!I95,\"\")","v":""},{"$f":"IF(電力控!J95<>\"\",電力控!J95,\"\")","v":""},{"$f":"IF(電力控!K95<>\"\",電力控!K95,\"\")","v":""},{"$f":"IF(電力控!L95<>\"\",電力控!L95,\"\")","v":""},{"$f":"IF(電力控!M95<>\"\",電力控!M95,\"\")","v":""},{"$f":"IF(電力控!N95<>\"\",電力控!N95,\"\")","v":""},{"$f":"IF(電力控!O95<>\"\",電力控!O95,\"\")","v":""},{"$f":"IF(電力控!P95<>\"\",電力控!P95,\"\")","v":""},{"$f":"IF(電力控!Q95<>\"\",電力控!Q95,\"\")","v":""},{"$f":"IF(電力控!R95<>\"\",電力控!R95,\"\")","v":""},{"$f":"IF(電力控!S95<>\"\",電力控!S95,\"\")","v":""},{"$f":"IF(電力控!T95<>\"\",電力控!T95,\"\")","v":""},{"$f":"IF(電力控!U95<>\"\",電力控!U95,\"\")","v":""},{"$f":"IF(電力控!V95<>\"\",電力控!V95,\"\")","v":""},{"$f":"IF(電力控!W95<>\"\",電力控!W95,\"\")","v":""},{"$f":"IF(電力控!X95<>\"\",電力控!X95,\"\")","v":""},{"$f":"IF(電力控!Y95<>\"\",電力控!Y95,\"\")","v":""},{"$f":"IF(電力控!Z95<>\"\",電力控!Z95,\"\")","v":""},{"$f":"IF(電力控!AA95<>\"\",電力控!AA95,\"\")","v":""},{"$f":"IF(電力控!AB95<>\"\",電力控!AB95,\"\")","v":""},{"$f":"IF(電力控!AC95<>\"\",電力控!AC95,\"\")","v":""},{"$f":"IF(電力控!AD95<>\"\",電力控!AD95,\"\")","v":""},{"$f":"IF(電力控!AE95<>\"\",電力控!AE95,\"\")","v":""},{"$f":"IF(電力控!AF95<>\"\",電力控!AF95,\"\")","v":""},{"$f":"IF(電力控!AG95<>\"\",電力控!AG95,\"\")","v":""},{"$f":"IF(電力控!AH95<>\"\",電力控!AH95,\"\")","v":""},{"$f":"IF(電力控!AI95<>\"\",電力控!AI95,\"\")","v":""},{"$f":"IF(電力控!AJ95<>\"\",電力控!AJ95,\"\")","v":""},{"$f":"IF(電力控!AK95<>\"\",電力控!AK95,\"\")","v":""},{"$f":"IF(電力控!AL95<>\"\",電力控!AL95,\"\")","v":""},{"$f":"IF(電力控!AM95<>\"\",電力控!AM95,\"\")","v":""},{"$f":"IF(電力控!AN95<>\"\",電力控!AN95,\"\")","v":""},{"$f":"IF(電力控!AO95<>\"\",電力控!AO95,\"\")","v":""},{"$f":"IF(電力控!AP95<>\"\",電力控!AP95,\"\")","v":""},{"$f":"IF(電力控!AQ95<>\"\",電力控!AQ95,\"\")","v":""},{"$f":"IF(電力控!AR95<>\"\",電力控!AR95,\"\")","v":""},{"$f":"IF(電力控!AS95<>\"\",電力控!AS95,\"\")","v":""},{"$f":"IF(電力控!AT95<>\"\",電力控!AT95,\"\")","v":""},{"$f":"IF(電力控!AU95<>\"\",電力控!AU95,\"\")","v":""},{"$f":"IF(電力控!AV95<>\"\",電力控!AV95,\"\")","v":""},{"$f":"IF(電力控!AW95<>\"\",電力控!AW95,\"\")","v":""},{"$f":"IF(電力控!AX95<>\"\",電力控!AX95,\"\")","v":""},{"$f":"IF(電力控!AY95<>\"\",電力控!AY95,\"\")","v":""},{"$f":"IF(電力控!AZ95<>\"\",電力控!AZ95,\"\")","v":""},{"$f":"IF(電力控!BA95<>\"\",電力控!BA95,\"\")","v":""}]
[{"$f":"IF(電力控!A96<>\"\",電力控!A96,\"\")","v":""},{"$f":"IF(電力控!B96<>\"\",電力控!B96,\"\")","v":""},{"$f":"IF(電力控!C96<>\"\",電力控!C96,\"\")","v":""},{"$f":"IF(電力控!D96<>\"\",電力控!D96,\"\")","v":""},{"$f":"IF(電力控!E96<>\"\",電力控!E96,\"\")","v":""},{"$f":"IF(電力控!F96<>\"\",電力控!F96,\"\")","v":""},{"$f":"IF(電力控!G96<>\"\",電力控!G96,\"\")","v":""},{"$f":"IF(電力控!H96<>\"\",電力控!H96,\"\")","v":""},{"$f":"IF(電力控!I96<>\"\",電力控!I96,\"\")","v":""},{"$f":"IF(電力控!J96<>\"\",電力控!J96,\"\")","v":""},{"$f":"IF(電力控!K96<>\"\",電力控!K96,\"\")","v":""},{"$f":"IF(電力控!L96<>\"\",電力控!L96,\"\")","v":""},{"$f":"IF(電力控!M96<>\"\",電力控!M96,\"\")","v":""},{"$f":"IF(電力控!N96<>\"\",電力控!N96,\"\")","v":""},{"$f":"IF(電力控!O96<>\"\",電力控!O96,\"\")","v":""},{"$f":"IF(電力控!P96<>\"\",電力控!P96,\"\")","v":""},{"$f":"IF(電力控!Q96<>\"\",電力控!Q96,\"\")","v":""},{"$f":"IF(電力控!R96<>\"\",電力控!R96,\"\")","v":""},{"$f":"IF(電力控!S96<>\"\",電力控!S96,\"\")","v":""},{"$f":"IF(電力控!T96<>\"\",電力控!T96,\"\")","v":""},{"$f":"IF(電力控!U96<>\"\",電力控!U96,\"\")","v":""},{"$f":"IF(電力控!V96<>\"\",電力控!V96,\"\")","v":""},{"$f":"IF(電力控!W96<>\"\",電力控!W96,\"\")","v":""},{"$f":"IF(電力控!X96<>\"\",電力控!X96,\"\")","v":""},{"$f":"IF(電力控!Y96<>\"\",電力控!Y96,\"\")","v":""},{"$f":"IF(電力控!Z96<>\"\",電力控!Z96,\"\")","v":""},{"$f":"IF(電力控!AA96<>\"\",電力控!AA96,\"\")","v":""},{"$f":"IF(電力控!AB96<>\"\",電力控!AB96,\"\")","v":""},{"$f":"IF(電力控!AC96<>\"\",電力控!AC96,\"\")","v":""},{"$f":"IF(電力控!AD96<>\"\",電力控!AD96,\"\")","v":""},{"$f":"IF(電力控!AE96<>\"\",電力控!AE96,\"\")","v":""},{"$f":"IF(電力控!AF96<>\"\",電力控!AF96,\"\")","v":""},{"$f":"IF(電力控!AG96<>\"\",電力控!AG96,\"\")","v":""},{"$f":"IF(電力控!AH96<>\"\",電力控!AH96,\"\")","v":""},{"$f":"IF(電力控!AI96<>\"\",電力控!AI96,\"\")","v":""},{"$f":"IF(電力控!AJ96<>\"\",電力控!AJ96,\"\")","v":""},{"$f":"IF(電力控!AK96<>\"\",電力控!AK96,\"\")","v":""},{"$f":"IF(電力控!AL96<>\"\",電力控!AL96,\"\")","v":""},{"$f":"IF(電力控!AM96<>\"\",電力控!AM96,\"\")","v":""},{"$f":"IF(電力控!AN96<>\"\",電力控!AN96,\"\")","v":""},{"$f":"IF(電力控!AO96<>\"\",電力控!AO96,\"\")","v":""},{"$f":"IF(電力控!AP96<>\"\",電力控!AP96,\"\")","v":""},{"$f":"IF(電力控!AQ96<>\"\",電力控!AQ96,\"\")","v":""},{"$f":"IF(電力控!AR96<>\"\",電力控!AR96,\"\")","v":""},{"$f":"IF(電力控!AS96<>\"\",電力控!AS96,\"\")","v":""},{"$f":"IF(電力控!AT96<>\"\",電力控!AT96,\"\")","v":""},{"$f":"IF(電力控!AU96<>\"\",電力控!AU96,\"\")","v":""},{"$f":"IF(電力控!AV96<>\"\",電力控!AV96,\"\")","v":""},{"$f":"IF(電力控!AW96<>\"\",電力控!AW96,\"\")","v":""},{"$f":"IF(電力控!AX96<>\"\",電力控!AX96,\"\")","v":""},{"$f":"IF(電力控!AY96<>\"\",電力控!AY96,\"\")","v":""},{"$f":"IF(電力控!AZ96<>\"\",電力控!AZ96,\"\")","v":""},{"$f":"IF(電力控!BA96<>\"\",電力控!BA96,\"\")","v":""}]
[{"$f":"IF(電力控!A97<>\"\",電力控!A97,\"\")","v":""},{"$f":"IF(電力控!B97<>\"\",電力控!B97,\"\")","v":""},{"$f":"IF(電力控!C97<>\"\",電力控!C97,\"\")","v":""},{"$f":"IF(電力控!D97<>\"\",電力控!D97,\"\")","v":""},{"$f":"IF(電力控!E97<>\"\",電力控!E97,\"\")","v":""},{"$f":"IF(電力控!F97<>\"\",電力控!F97,\"\")","v":""},{"$f":"IF(電力控!G97<>\"\",電力控!G97,\"\")","v":""},{"$f":"IF(電力控!H97<>\"\",電力控!H97,\"\")","v":""},{"$f":"IF(電力控!I97<>\"\",電力控!I97,\"\")","v":""},{"$f":"IF(電力控!J97<>\"\",電力控!J97,\"\")","v":""},{"$f":"IF(電力控!K97<>\"\",電力控!K97,\"\")","v":""},{"$f":"IF(電力控!L97<>\"\",電力控!L97,\"\")","v":""},{"$f":"IF(電力控!M97<>\"\",電力控!M97,\"\")","v":""},{"$f":"IF(電力控!N97<>\"\",電力控!N97,\"\")","v":""},{"$f":"IF(電力控!O97<>\"\",電力控!O97,\"\")","v":""},{"$f":"IF(電力控!P97<>\"\",電力控!P97,\"\")","v":""},{"$f":"IF(電力控!Q97<>\"\",電力控!Q97,\"\")","v":""},{"$f":"IF(電力控!R97<>\"\",電力控!R97,\"\")","v":""},{"$f":"IF(電力控!S97<>\"\",電力控!S97,\"\")","v":""},{"$f":"IF(電力控!T97<>\"\",電力控!T97,\"\")","v":""},{"$f":"IF(電力控!U97<>\"\",電力控!U97,\"\")","v":""},{"$f":"IF(電力控!V97<>\"\",電力控!V97,\"\")","v":""},{"$f":"IF(電力控!W97<>\"\",電力控!W97,\"\")","v":""},{"$f":"IF(電力控!X97<>\"\",電力控!X97,\"\")","v":""},{"$f":"IF(電力控!Y97<>\"\",電力控!Y97,\"\")","v":""},{"$f":"IF(電力控!Z97<>\"\",電力控!Z97,\"\")","v":""},{"$f":"IF(電力控!AA97<>\"\",電力控!AA97,\"\")","v":""},{"$f":"IF(電力控!AB97<>\"\",電力控!AB97,\"\")","v":""},{"$f":"IF(電力控!AC97<>\"\",電力控!AC97,\"\")","v":""},{"$f":"IF(電力控!AD97<>\"\",電力控!AD97,\"\")","v":""},{"$f":"IF(電力控!AE97<>\"\",電力控!AE97,\"\")","v":""},{"$f":"IF(電力控!AF97<>\"\",電力控!AF97,\"\")","v":""},{"$f":"IF(電力控!AG97<>\"\",電力控!AG97,\"\")","v":""},{"$f":"IF(電力控!AH97<>\"\",電力控!AH97,\"\")","v":""},{"$f":"IF(電力控!AI97<>\"\",電力控!AI97,\"\")","v":""},{"$f":"IF(電力控!AJ97<>\"\",電力控!AJ97,\"\")","v":""},{"$f":"IF(電力控!AK97<>\"\",電力控!AK97,\"\")","v":""},{"$f":"IF(電力控!AL97<>\"\",電力控!AL97,\"\")","v":""},{"$f":"IF(電力控!AM97<>\"\",電力控!AM97,\"\")","v":""},{"$f":"IF(電力控!AN97<>\"\",電力控!AN97,\"\")","v":""},{"$f":"IF(電力控!AO97<>\"\",電力控!AO97,\"\")","v":""},{"$f":"IF(電力控!AP97<>\"\",電力控!AP97,\"\")","v":""},{"$f":"IF(電力控!AQ97<>\"\",電力控!AQ97,\"\")","v":""},{"$f":"IF(電力控!AR97<>\"\",電力控!AR97,\"\")","v":""},{"$f":"IF(電力控!AS97<>\"\",電力控!AS97,\"\")","v":""},{"$f":"IF(電力控!AT97<>\"\",電力控!AT97,\"\")","v":""},{"$f":"IF(電力控!AU97<>\"\",電力控!AU97,\"\")","v":""},{"$f":"IF(電力控!AV97<>\"\",電力控!AV97,\"\")","v":""},{"$f":"IF(電力控!AW97<>\"\",電力控!AW97,\"\")","v":""},{"$f":"IF(電力控!AX97<>\"\",電力控!AX97,\"\")","v":""},{"$f":"IF(電力控!AY97<>\"\",電力控!AY97,\"\")","v":""},{"$f":"IF(電力控!AZ97<>\"\",電力控!AZ97,\"\")","v":""},{"$f":"IF(電力控!BA97<>\"\",電力控!BA97,\"\")","v":""}]
[{"$f":"IF(電力控!A98<>\"\",電力控!A98,\"\")","v":""},{"$f":"IF(電力控!B98<>\"\",電力控!B98,\"\")","v":""},{"$f":"IF(電力控!C98<>\"\",電力控!C98,\"\")","v":""},{"$f":"IF(電力控!D98<>\"\",電力控!D98,\"\")","v":""},{"$f":"IF(電力控!E98<>\"\",電力控!E98,\"\")","v":""},{"$f":"IF(電力控!F98<>\"\",電力控!F98,\"\")","v":""},{"$f":"IF(電力控!G98<>\"\",電力控!G98,\"\")","v":""},{"$f":"IF(電力控!H98<>\"\",電力控!H98,\"\")","v":""},{"$f":"IF(電力控!I98<>\"\",電力控!I98,\"\")","v":""},{"$f":"IF(電力控!J98<>\"\",電力控!J98,\"\")","v":""},{"$f":"IF(電力控!K98<>\"\",電力控!K98,\"\")","v":""},{"$f":"IF(電力控!L98<>\"\",電力控!L98,\"\")","v":""},{"$f":"IF(電力控!M98<>\"\",電力控!M98,\"\")","v":""},{"$f":"IF(電力控!N98<>\"\",電力控!N98,\"\")","v":""},{"$f":"IF(電力控!O98<>\"\",電力控!O98,\"\")","v":""},{"$f":"IF(電力控!P98<>\"\",電力控!P98,\"\")","v":""},{"$f":"IF(電力控!Q98<>\"\",電力控!Q98,\"\")","v":""},{"$f":"IF(電力控!R98<>\"\",電力控!R98,\"\")","v":""},{"$f":"IF(電力控!S98<>\"\",電力控!S98,\"\")","v":""},{"$f":"IF(電力控!T98<>\"\",電力控!T98,\"\")","v":""},{"$f":"IF(電力控!U98<>\"\",電力控!U98,\"\")","v":""},{"$f":"IF(電力控!V98<>\"\",電力控!V98,\"\")","v":""},{"$f":"IF(電力控!W98<>\"\",電力控!W98,\"\")","v":""},{"$f":"IF(電力控!X98<>\"\",電力控!X98,\"\")","v":""},{"$f":"IF(電力控!Y98<>\"\",電力控!Y98,\"\")","v":""},{"$f":"IF(電力控!Z98<>\"\",電力控!Z98,\"\")","v":""},{"$f":"IF(電力控!AA98<>\"\",電力控!AA98,\"\")","v":""},{"$f":"IF(電力控!AB98<>\"\",電力控!AB98,\"\")","v":""},{"$f":"IF(電力控!AC98<>\"\",電力控!AC98,\"\")","v":""},{"$f":"IF(電力控!AD98<>\"\",電力控!AD98,\"\")","v":""},{"$f":"IF(電力控!AE98<>\"\",電力控!AE98,\"\")","v":""},{"$f":"IF(電力控!AF98<>\"\",電力控!AF98,\"\")","v":""},{"$f":"IF(電力控!AG98<>\"\",電力控!AG98,\"\")","v":""},{"$f":"IF(電力控!AH98<>\"\",電力控!AH98,\"\")","v":""},{"$f":"IF(電力控!AI98<>\"\",電力控!AI98,\"\")","v":""},{"$f":"IF(電力控!AJ98<>\"\",電力控!AJ98,\"\")","v":""},{"$f":"IF(電力控!AK98<>\"\",電力控!AK98,\"\")","v":""},{"$f":"IF(電力控!AL98<>\"\",電力控!AL98,\"\")","v":""},{"$f":"IF(電力控!AM98<>\"\",電力控!AM98,\"\")","v":""},{"$f":"IF(電力控!AN98<>\"\",電力控!AN98,\"\")","v":""},{"$f":"IF(電力控!AO98<>\"\",電力控!AO98,\"\")","v":""},{"$f":"IF(電力控!AP98<>\"\",電力控!AP98,\"\")","v":""},{"$f":"IF(電力控!AQ98<>\"\",電力控!AQ98,\"\")","v":""},{"$f":"IF(電力控!AR98<>\"\",電力控!AR98,\"\")","v":""},{"$f":"IF(電力控!AS98<>\"\",電力控!AS98,\"\")","v":""},{"$f":"IF(電力控!AT98<>\"\",電力控!AT98,\"\")","v":""},{"$f":"IF(電力控!AU98<>\"\",電力控!AU98,\"\")","v":""},{"$f":"IF(電力控!AV98<>\"\",電力控!AV98,\"\")","v":""},{"$f":"IF(電力控!AW98<>\"\",電力控!AW98,\"\")","v":""},{"$f":"IF(電力控!AX98<>\"\",電力控!AX98,\"\")","v":""},{"$f":"IF(電力控!AY98<>\"\",電力控!AY98,\"\")","v":""},{"$f":"IF(電力控!AZ98<>\"\",電力控!AZ98,\"\")","v":""},{"$f":"IF(電力控!BA98<>\"\",電力控!BA98,\"\")","v":""}]
[{"$f":"IF(電力控!A99<>\"\",電力控!A99,\"\")","v":""},{"$f":"IF(電力控!B99<>\"\",電力控!B99,\"\")","v":""},{"$f":"IF(電力控!C99<>\"\",電力控!C99,\"\")","v":""},{"$f":"IF(電力控!D99<>\"\",電力控!D99,\"\")","v":""},{"$f":"IF(電力控!E99<>\"\",電力控!E99,\"\")","v":""},{"$f":"IF(電力控!F99<>\"\",電力控!F99,\"\")","v":""},{"$f":"IF(電力控!G99<>\"\",電力控!G99,\"\")","v":""},{"$f":"IF(電力控!H99<>\"\",電力控!H99,\"\")","v":""},{"$f":"IF(電力控!I99<>\"\",電力控!I99,\"\")","v":""},{"$f":"IF(電力控!J99<>\"\",電力控!J99,\"\")","v":""},{"$f":"IF(電力控!K99<>\"\",電力控!K99,\"\")","v":""},{"$f":"IF(電力控!L99<>\"\",電力控!L99,\"\")","v":""},{"$f":"IF(電力控!M99<>\"\",電力控!M99,\"\")","v":""},{"$f":"IF(電力控!N99<>\"\",電力控!N99,\"\")","v":""},{"$f":"IF(電力控!O99<>\"\",電力控!O99,\"\")","v":""},{"$f":"IF(電力控!P99<>\"\",電力控!P99,\"\")","v":""},{"$f":"IF(電力控!Q99<>\"\",電力控!Q99,\"\")","v":""},{"$f":"IF(電力控!R99<>\"\",電力控!R99,\"\")","v":""},{"$f":"IF(電力控!S99<>\"\",電力控!S99,\"\")","v":""},{"$f":"IF(電力控!T99<>\"\",電力控!T99,\"\")","v":""},{"$f":"IF(電力控!U99<>\"\",電力控!U99,\"\")","v":""},{"$f":"IF(電力控!V99<>\"\",電力控!V99,\"\")","v":""},{"$f":"IF(電力控!W99<>\"\",電力控!W99,\"\")","v":""},{"$f":"IF(電力控!X99<>\"\",電力控!X99,\"\")","v":""},{"$f":"IF(電力控!Y99<>\"\",電力控!Y99,\"\")","v":""},{"$f":"IF(電力控!Z99<>\"\",電力控!Z99,\"\")","v":""},{"$f":"IF(電力控!AA99<>\"\",電力控!AA99,\"\")","v":""},{"$f":"IF(電力控!AB99<>\"\",電力控!AB99,\"\")","v":""},{"$f":"IF(電力控!AC99<>\"\",電力控!AC99,\"\")","v":""},{"$f":"IF(電力控!AD99<>\"\",電力控!AD99,\"\")","v":""},{"$f":"IF(電力控!AE99<>\"\",電力控!AE99,\"\")","v":""},{"$f":"IF(電力控!AF99<>\"\",電力控!AF99,\"\")","v":""},{"$f":"IF(電力控!AG99<>\"\",電力控!AG99,\"\")","v":""},{"$f":"IF(電力控!AH99<>\"\",電力控!AH99,\"\")","v":""},{"$f":"IF(電力控!AI99<>\"\",電力控!AI99,\"\")","v":""},{"$f":"IF(電力控!AJ99<>\"\",電力控!AJ99,\"\")","v":""},{"$f":"IF(電力控!AK99<>\"\",電力控!AK99,\"\")","v":""},{"$f":"IF(電力控!AL99<>\"\",電力控!AL99,\"\")","v":""},{"$f":"IF(電力控!AM99<>\"\",電力控!AM99,\"\")","v":""},{"$f":"IF(電力控!AN99<>\"\",電力控!AN99,\"\")","v":""},{"$f":"IF(電力控!AO99<>\"\",電力控!AO99,\"\")","v":""},{"$f":"IF(電力控!AP99<>\"\",電力控!AP99,\"\")","v":""},{"$f":"IF(電力控!AQ99<>\"\",電力控!AQ99,\"\")","v":""},{"$f":"IF(電力控!AR99<>\"\",電力控!AR99,\"\")","v":""},{"$f":"IF(電力控!AS99<>\"\",電力控!AS99,\"\")","v":""},{"$f":"IF(電力控!AT99<>\"\",電力控!AT99,\"\")","v":""},{"$f":"IF(電力控!AU99<>\"\",電力控!AU99,\"\")","v":""},{"$f":"IF(電力控!AV99<>\"\",電力控!AV99,\"\")","v":""},{"$f":"IF(電力控!AW99<>\"\",電力控!AW99,\"\")","v":""},{"$f":"IF(電力控!AX99<>\"\",電力控!AX99,\"\")","v":""},{"$f":"IF(電力控!AY99<>\"\",電力控!AY99,\"\")","v":""},{"$f":"IF(電力控!AZ99<>\"\",電力控!AZ99,\"\")","v":""},{"$f":"IF(電力控!BA99<>\"\",電力控!BA99,\"\")","v":""}]
[{"$f":"IF(電力控!A100<>\"\",電力控!A100,\"\")","v":""},{"$f":"IF(電力控!B100<>\"\",電力控!B100,\"\")","v":""},{"$f":"IF(電力控!C100<>\"\",電力控!C100,\"\")","v":""},{"$f":"IF(電力控!D100<>\"\",電力控!D100,\"\")","v":""},{"$f":"IF(電力控!E100<>\"\",電力控!E100,\"\")","v":""},{"$f":"IF(電力控!F100<>\"\",電力控!F100,\"\")","v":""},{"$f":"IF(電力控!G100<>\"\",電力控!G100,\"\")","v":""},{"$f":"IF(電力控!H100<>\"\",電力控!H100,\"\")","v":""},{"$f":"IF(電力控!I100<>\"\",電力控!I100,\"\")","v":""},{"$f":"IF(電力控!J100<>\"\",電力控!J100,\"\")","v":""},{"$f":"IF(電力控!K100<>\"\",電力控!K100,\"\")","v":""},{"$f":"IF(電力控!L100<>\"\",電力控!L100,\"\")","v":""},{"$f":"IF(電力控!M100<>\"\",電力控!M100,\"\")","v":""},{"$f":"IF(電力控!N100<>\"\",電力控!N100,\"\")","v":""},{"$f":"IF(電力控!O100<>\"\",電力控!O100,\"\")","v":""},{"$f":"IF(電力控!P100<>\"\",電力控!P100,\"\")","v":""},{"$f":"IF(電力控!Q100<>\"\",電力控!Q100,\"\")","v":""},{"$f":"IF(電力控!R100<>\"\",電力控!R100,\"\")","v":""},{"$f":"IF(電力控!S100<>\"\",電力控!S100,\"\")","v":""},{"$f":"IF(電力控!T100<>\"\",電力控!T100,\"\")","v":""},{"$f":"IF(電力控!U100<>\"\",電力控!U100,\"\")","v":""},{"$f":"IF(電力控!V100<>\"\",電力控!V100,\"\")","v":""},{"$f":"IF(電力控!W100<>\"\",電力控!W100,\"\")","v":""},{"$f":"IF(電力控!X100<>\"\",電力控!X100,\"\")","v":""},{"$f":"IF(電力控!Y100<>\"\",電力控!Y100,\"\")","v":""},{"$f":"IF(電力控!Z100<>\"\",電力控!Z100,\"\")","v":""},{"$f":"IF(電力控!AA100<>\"\",電力控!AA100,\"\")","v":""},{"$f":"IF(電力控!AB100<>\"\",電力控!AB100,\"\")","v":""},{"$f":"IF(電力控!AC100<>\"\",電力控!AC100,\"\")","v":""},{"$f":"IF(電力控!AD100<>\"\",電力控!AD100,\"\")","v":""},{"$f":"IF(電力控!AE100<>\"\",電力控!AE100,\"\")","v":""},{"$f":"IF(電力控!AF100<>\"\",電力控!AF100,\"\")","v":""},{"$f":"IF(電力控!AG100<>\"\",電力控!AG100,\"\")","v":""},{"$f":"IF(電力控!AH100<>\"\",電力控!AH100,\"\")","v":""},{"$f":"IF(電力控!AI100<>\"\",電力控!AI100,\"\")","v":""},{"$f":"IF(電力控!AJ100<>\"\",電力控!AJ100,\"\")","v":""},{"$f":"IF(電力控!AK100<>\"\",電力控!AK100,\"\")","v":""},{"$f":"IF(電力控!AL100<>\"\",電力控!AL100,\"\")","v":""},{"$f":"IF(電力控!AM100<>\"\",電力控!AM100,\"\")","v":""},{"$f":"IF(電力控!AN100<>\"\",電力控!AN100,\"\")","v":""},{"$f":"IF(電力控!AO100<>\"\",電力控!AO100,\"\")","v":""},{"$f":"IF(電力控!AP100<>\"\",電力控!AP100,\"\")","v":""},{"$f":"IF(電力控!AQ100<>\"\",電力控!AQ100,\"\")","v":""},{"$f":"IF(電力控!AR100<>\"\",電力控!AR100,\"\")","v":""},{"$f":"IF(電力控!AS100<>\"\",電力控!AS100,\"\")","v":""},{"$f":"IF(電力控!AT100<>\"\",電力控!AT100,\"\")","v":""},{"$f":"IF(電力控!AU100<>\"\",電力控!AU100,\"\")","v":""},{"$f":"IF(電力控!AV100<>\"\",電力控!AV100,\"\")","v":""},{"$f":"IF(電力控!AW100<>\"\",電力控!AW100,\"\")","v":""},{"$f":"IF(電力控!AX100<>\"\",電力控!AX100,\"\")","v":""},{"$f":"IF(電力控!AY100<>\"\",電力控!AY100,\"\")","v":""},{"$f":"IF(電力控!AZ100<>\"\",電力控!AZ100,\"\")","v":""},{"$f":"IF(電力控!BA100<>\"\",電力控!BA100,\"\")","v":""}]
[{"$f":"IF(電力控!A101<>\"\",電力控!A101,\"\")","v":""},{"$f":"IF(電力控!B101<>\"\",電力控!B101,\"\")","v":""},{"$f":"IF(電力控!C101<>\"\",電力控!C101,\"\")","v":""},{"$f":"IF(電力控!D101<>\"\",電力控!D101,\"\")","v":""},{"$f":"IF(電力控!E101<>\"\",電力控!E101,\"\")","v":""},{"$f":"IF(電力控!F101<>\"\",電力控!F101,\"\")","v":""},{"$f":"IF(電力控!G101<>\"\",電力控!G101,\"\")","v":""},{"$f":"IF(電力控!H101<>\"\",電力控!H101,\"\")","v":""},{"$f":"IF(電力控!I101<>\"\",電力控!I101,\"\")","v":""},{"$f":"IF(電力控!J101<>\"\",電力控!J101,\"\")","v":""},{"$f":"IF(電力控!K101<>\"\",電力控!K101,\"\")","v":""},{"$f":"IF(電力控!L101<>\"\",電力控!L101,\"\")","v":""},{"$f":"IF(電力控!M101<>\"\",電力控!M101,\"\")","v":""},{"$f":"IF(電力控!N101<>\"\",電力控!N101,\"\")","v":""},{"$f":"IF(電力控!O101<>\"\",電力控!O101,\"\")","v":""},{"$f":"IF(電力控!P101<>\"\",電力控!P101,\"\")","v":""},{"$f":"IF(電力控!Q101<>\"\",電力控!Q101,\"\")","v":""},{"$f":"IF(電力控!R101<>\"\",電力控!R101,\"\")","v":""},{"$f":"IF(電力控!S101<>\"\",電力控!S101,\"\")","v":""},{"$f":"IF(電力控!T101<>\"\",電力控!T101,\"\")","v":""},{"$f":"IF(電力控!U101<>\"\",電力控!U101,\"\")","v":""},{"$f":"IF(電力控!V101<>\"\",電力控!V101,\"\")","v":""},{"$f":"IF(電力控!W101<>\"\",電力控!W101,\"\")","v":""},{"$f":"IF(電力控!X101<>\"\",電力控!X101,\"\")","v":""},{"$f":"IF(電力控!Y101<>\"\",電力控!Y101,\"\")","v":""},{"$f":"IF(電力控!Z101<>\"\",電力控!Z101,\"\")","v":""},{"$f":"IF(電力控!AA101<>\"\",電力控!AA101,\"\")","v":""},{"$f":"IF(電力控!AB101<>\"\",電力控!AB101,\"\")","v":""},{"$f":"IF(電力控!AC101<>\"\",電力控!AC101,\"\")","v":""},{"$f":"IF(電力控!AD101<>\"\",電力控!AD101,\"\")","v":""},{"$f":"IF(電力控!AE101<>\"\",電力控!AE101,\"\")","v":""},{"$f":"IF(電力控!AF101<>\"\",電力控!AF101,\"\")","v":""},{"$f":"IF(電力控!AG101<>\"\",電力控!AG101,\"\")","v":""},{"$f":"IF(電力控!AH101<>\"\",電力控!AH101,\"\")","v":""},{"$f":"IF(電力控!AI101<>\"\",電力控!AI101,\"\")","v":""},{"$f":"IF(電力控!AJ101<>\"\",電力控!AJ101,\"\")","v":""},{"$f":"IF(電力控!AK101<>\"\",電力控!AK101,\"\")","v":""},{"$f":"IF(電力控!AL101<>\"\",電力控!AL101,\"\")","v":""},{"$f":"IF(電力控!AM101<>\"\",電力控!AM101,\"\")","v":""},{"$f":"IF(電力控!AN101<>\"\",電力控!AN101,\"\")","v":""},{"$f":"IF(電力控!AO101<>\"\",電力控!AO101,\"\")","v":""},{"$f":"IF(電力控!AP101<>\"\",電力控!AP101,\"\")","v":""},{"$f":"IF(電力控!AQ101<>\"\",電力控!AQ101,\"\")","v":""},{"$f":"IF(電力控!AR101<>\"\",電力控!AR101,\"\")","v":""},{"$f":"IF(電力控!AS101<>\"\",電力控!AS101,\"\")","v":""},{"$f":"IF(電力控!AT101<>\"\",電力控!AT101,\"\")","v":""},{"$f":"IF(電力控!AU101<>\"\",電力控!AU101,\"\")","v":""},{"$f":"IF(電力控!AV101<>\"\",電力控!AV101,\"\")","v":""},{"$f":"IF(電力控!AW101<>\"\",電力控!AW101,\"\")","v":""},{"$f":"IF(電力控!AX101<>\"\",電力控!AX101,\"\")","v":""},{"$f":"IF(電力控!AY101<>\"\",電力控!AY101,\"\")","v":""},{"$f":"IF(電力控!AZ101<>\"\",電力控!AZ101,\"\")","v":""},{"$f":"IF(電力控!BA101<>\"\",電力控!BA101,\"\")","v":""}]
[{"$f":"IF(電力控!A102<>\"\",電力控!A102,\"\")","v":""},{"$f":"IF(電力控!B102<>\"\",電力控!B102,\"\")","v":""},{"$f":"IF(電力控!C102<>\"\",電力控!C102,\"\")","v":""},{"$f":"IF(電力控!D102<>\"\",電力控!D102,\"\")","v":""},{"$f":"IF(電力控!E102<>\"\",電力控!E102,\"\")","v":""},{"$f":"IF(電力控!F102<>\"\",電力控!F102,\"\")","v":""},{"$f":"IF(電力控!G102<>\"\",電力控!G102,\"\")","v":""},{"$f":"IF(電力控!H102<>\"\",電力控!H102,\"\")","v":""},{"$f":"IF(電力控!I102<>\"\",電力控!I102,\"\")","v":""},{"$f":"IF(電力控!J102<>\"\",電力控!J102,\"\")","v":""},{"$f":"IF(電力控!K102<>\"\",電力控!K102,\"\")","v":""},{"$f":"IF(電力控!L102<>\"\",電力控!L102,\"\")","v":""},{"$f":"IF(電力控!M102<>\"\",電力控!M102,\"\")","v":""},{"$f":"IF(電力控!N102<>\"\",電力控!N102,\"\")","v":""},{"$f":"IF(電力控!O102<>\"\",電力控!O102,\"\")","v":""},{"$f":"IF(電力控!P102<>\"\",電力控!P102,\"\")","v":""},{"$f":"IF(電力控!Q102<>\"\",電力控!Q102,\"\")","v":""},{"$f":"IF(電力控!R102<>\"\",電力控!R102,\"\")","v":""},{"$f":"IF(電力控!S102<>\"\",電力控!S102,\"\")","v":""},{"$f":"IF(電力控!T102<>\"\",電力控!T102,\"\")","v":""},{"$f":"IF(電力控!U102<>\"\",電力控!U102,\"\")","v":""},{"$f":"IF(電力控!V102<>\"\",電力控!V102,\"\")","v":""},{"$f":"IF(電力控!W102<>\"\",電力控!W102,\"\")","v":""},{"$f":"IF(電力控!X102<>\"\",電力控!X102,\"\")","v":""},{"$f":"IF(電力控!Y102<>\"\",電力控!Y102,\"\")","v":""},{"$f":"IF(電力控!Z102<>\"\",電力控!Z102,\"\")","v":""},{"$f":"IF(電力控!AA102<>\"\",電力控!AA102,\"\")","v":""},{"$f":"IF(電力控!AB102<>\"\",電力控!AB102,\"\")","v":""},{"$f":"IF(電力控!AC102<>\"\",電力控!AC102,\"\")","v":""},{"$f":"IF(電力控!AD102<>\"\",電力控!AD102,\"\")","v":""},{"$f":"IF(電力控!AE102<>\"\",電力控!AE102,\"\")","v":""},{"$f":"IF(電力控!AF102<>\"\",電力控!AF102,\"\")","v":""},{"$f":"IF(電力控!AG102<>\"\",電力控!AG102,\"\")","v":""},{"$f":"IF(電力控!AH102<>\"\",電力控!AH102,\"\")","v":""},{"$f":"IF(電力控!AI102<>\"\",電力控!AI102,\"\")","v":""},{"$f":"IF(電力控!AJ102<>\"\",電力控!AJ102,\"\")","v":""},{"$f":"IF(電力控!AK102<>\"\",電力控!AK102,\"\")","v":""},{"$f":"IF(電力控!AL102<>\"\",電力控!AL102,\"\")","v":""},{"$f":"IF(電力控!AM102<>\"\",電力控!AM102,\"\")","v":""},{"$f":"IF(電力控!AN102<>\"\",電力控!AN102,\"\")","v":""},{"$f":"IF(電力控!AO102<>\"\",電力控!AO102,\"\")","v":""},{"$f":"IF(電力控!AP102<>\"\",電力控!AP102,\"\")","v":""},{"$f":"IF(電力控!AQ102<>\"\",電力控!AQ102,\"\")","v":""},{"$f":"IF(電力控!AR102<>\"\",電力控!AR102,\"\")","v":""},{"$f":"IF(電力控!AS102<>\"\",電力控!AS102,\"\")","v":""},{"$f":"IF(電力控!AT102<>\"\",電力控!AT102,\"\")","v":""},{"$f":"IF(電力控!AU102<>\"\",電力控!AU102,\"\")","v":""},{"$f":"IF(電力控!AV102<>\"\",電力控!AV102,\"\")","v":""},{"$f":"IF(電力控!AW102<>\"\",電力控!AW102,\"\")","v":""},{"$f":"IF(電力控!AX102<>\"\",電力控!AX102,\"\")","v":""},{"$f":"IF(電力控!AY102<>\"\",電力控!AY102,\"\")","v":""},{"$f":"IF(電力控!AZ102<>\"\",電力控!AZ102,\"\")","v":""},{"$f":"IF(電力控!BA102<>\"\",電力控!BA102,\"\")","v":""}]
[{"$f":"IF(電力控!A103<>\"\",電力控!A103,\"\")","v":""},{"$f":"IF(電力控!B103<>\"\",電力控!B103,\"\")","v":""},{"$f":"IF(電力控!C103<>\"\",電力控!C103,\"\")","v":""},{"$f":"IF(電力控!D103<>\"\",電力控!D103,\"\")","v":""},{"$f":"IF(電力控!E103<>\"\",電力控!E103,\"\")","v":""},{"$f":"IF(電力控!F103<>\"\",電力控!F103,\"\")","v":""},{"$f":"IF(電力控!G103<>\"\",電力控!G103,\"\")","v":""},{"$f":"IF(電力控!H103<>\"\",電力控!H103,\"\")","v":""},{"$f":"IF(電力控!I103<>\"\",電力控!I103,\"\")","v":""},{"$f":"IF(電力控!J103<>\"\",電力控!J103,\"\")","v":""},{"$f":"IF(電力控!K103<>\"\",電力控!K103,\"\")","v":""},{"$f":"IF(電力控!L103<>\"\",電力控!L103,\"\")","v":""},{"$f":"IF(電力控!M103<>\"\",電力控!M103,\"\")","v":""},{"$f":"IF(電力控!N103<>\"\",電力控!N103,\"\")","v":""},{"$f":"IF(電力控!O103<>\"\",電力控!O103,\"\")","v":""},{"$f":"IF(電力控!P103<>\"\",電力控!P103,\"\")","v":""},{"$f":"IF(電力控!Q103<>\"\",電力控!Q103,\"\")","v":""},{"$f":"IF(電力控!R103<>\"\",電力控!R103,\"\")","v":""},{"$f":"IF(電力控!S103<>\"\",電力控!S103,\"\")","v":""},{"$f":"IF(電力控!T103<>\"\",電力控!T103,\"\")","v":""},{"$f":"IF(電力控!U103<>\"\",電力控!U103,\"\")","v":""},{"$f":"IF(電力控!V103<>\"\",電力控!V103,\"\")","v":""},{"$f":"IF(電力控!W103<>\"\",電力控!W103,\"\")","v":""},{"$f":"IF(電力控!X103<>\"\",電力控!X103,\"\")","v":""},{"$f":"IF(電力控!Y103<>\"\",電力控!Y103,\"\")","v":""},{"$f":"IF(電力控!Z103<>\"\",電力控!Z103,\"\")","v":""},{"$f":"IF(電力控!AA103<>\"\",電力控!AA103,\"\")","v":""},{"$f":"IF(電力控!AB103<>\"\",電力控!AB103,\"\")","v":""},{"$f":"IF(電力控!AC103<>\"\",電力控!AC103,\"\")","v":""},{"$f":"IF(電力控!AD103<>\"\",電力控!AD103,\"\")","v":""},{"$f":"IF(電力控!AE103<>\"\",電力控!AE103,\"\")","v":""},{"$f":"IF(電力控!AF103<>\"\",電力控!AF103,\"\")","v":""},{"$f":"IF(電力控!AG103<>\"\",電力控!AG103,\"\")","v":""},{"$f":"IF(電力控!AH103<>\"\",電力控!AH103,\"\")","v":""},{"$f":"IF(電力控!AI103<>\"\",電力控!AI103,\"\")","v":""},{"$f":"IF(電力控!AJ103<>\"\",電力控!AJ103,\"\")","v":""},{"$f":"IF(電力控!AK103<>\"\",電力控!AK103,\"\")","v":""},{"$f":"IF(電力控!AL103<>\"\",電力控!AL103,\"\")","v":""},{"$f":"IF(電力控!AM103<>\"\",電力控!AM103,\"\")","v":""},{"$f":"IF(電力控!AN103<>\"\",電力控!AN103,\"\")","v":""},{"$f":"IF(電力控!AO103<>\"\",電力控!AO103,\"\")","v":""},{"$f":"IF(電力控!AP103<>\"\",電力控!AP103,\"\")","v":""},{"$f":"IF(電力控!AQ103<>\"\",電力控!AQ103,\"\")","v":""},{"$f":"IF(電力控!AR103<>\"\",電力控!AR103,\"\")","v":""},{"$f":"IF(電力控!AS103<>\"\",電力控!AS103,\"\")","v":""},{"$f":"IF(電力控!AT103<>\"\",電力控!AT103,\"\")","v":""},{"$f":"IF(電力控!AU103<>\"\",電力控!AU103,\"\")","v":""},{"$f":"IF(電力控!AV103<>\"\",電力控!AV103,\"\")","v":""},{"$f":"IF(電力控!AW103<>\"\",電力控!AW103,\"\")","v":""},{"$f":"IF(電力控!AX103<>\"\",電力控!AX103,\"\")","v":""},{"$f":"IF(電力控!AY103<>\"\",電力控!AY103,\"\")","v":""},{"$f":"IF(電力控!AZ103<>\"\",電力控!AZ103,\"\")","v":""},{"$f":"IF(電力控!BA103<>\"\",電力控!BA103,\"\")","v":""}]
[{"$f":"IF(電力控!A104<>\"\",電力控!A104,\"\")","v":""},{"$f":"IF(電力控!B104<>\"\",電力控!B104,\"\")","v":""},{"$f":"IF(電力控!C104<>\"\",電力控!C104,\"\")","v":""},{"$f":"IF(電力控!D104<>\"\",電力控!D104,\"\")","v":""},{"$f":"IF(電力控!E104<>\"\",電力控!E104,\"\")","v":""},{"$f":"IF(電力控!F104<>\"\",電力控!F104,\"\")","v":""},{"$f":"IF(電力控!G104<>\"\",電力控!G104,\"\")","v":""},{"$f":"IF(電力控!H104<>\"\",電力控!H104,\"\")","v":""},{"$f":"IF(電力控!I104<>\"\",電力控!I104,\"\")","v":""},{"$f":"IF(電力控!J104<>\"\",電力控!J104,\"\")","v":""},{"$f":"IF(電力控!K104<>\"\",電力控!K104,\"\")","v":""},{"$f":"IF(電力控!L104<>\"\",電力控!L104,\"\")","v":""},{"$f":"IF(電力控!M104<>\"\",電力控!M104,\"\")","v":""},{"$f":"IF(電力控!N104<>\"\",電力控!N104,\"\")","v":""},{"$f":"IF(電力控!O104<>\"\",電力控!O104,\"\")","v":""},{"$f":"IF(電力控!P104<>\"\",電力控!P104,\"\")","v":""},{"$f":"IF(電力控!Q104<>\"\",電力控!Q104,\"\")","v":""},{"$f":"IF(電力控!R104<>\"\",電力控!R104,\"\")","v":""},{"$f":"IF(電力控!S104<>\"\",電力控!S104,\"\")","v":""},{"$f":"IF(電力控!T104<>\"\",電力控!T104,\"\")","v":""},{"$f":"IF(電力控!U104<>\"\",電力控!U104,\"\")","v":""},{"$f":"IF(電力控!V104<>\"\",電力控!V104,\"\")","v":""},{"$f":"IF(電力控!W104<>\"\",電力控!W104,\"\")","v":""},{"$f":"IF(電力控!X104<>\"\",電力控!X104,\"\")","v":""},{"$f":"IF(電力控!Y104<>\"\",電力控!Y104,\"\")","v":""},{"$f":"IF(電力控!Z104<>\"\",電力控!Z104,\"\")","v":""},{"$f":"IF(電力控!AA104<>\"\",電力控!AA104,\"\")","v":""},{"$f":"IF(電力控!AB104<>\"\",電力控!AB104,\"\")","v":""},{"$f":"IF(電力控!AC104<>\"\",電力控!AC104,\"\")","v":""},{"$f":"IF(電力控!AD104<>\"\",電力控!AD104,\"\")","v":""},{"$f":"IF(電力控!AE104<>\"\",電力控!AE104,\"\")","v":""},{"$f":"IF(電力控!AF104<>\"\",電力控!AF104,\"\")","v":""},{"$f":"IF(電力控!AG104<>\"\",電力控!AG104,\"\")","v":""},{"$f":"IF(電力控!AH104<>\"\",電力控!AH104,\"\")","v":""},{"$f":"IF(電力控!AI104<>\"\",電力控!AI104,\"\")","v":""},{"$f":"IF(電力控!AJ104<>\"\",電力控!AJ104,\"\")","v":""},{"$f":"IF(電力控!AK104<>\"\",電力控!AK104,\"\")","v":""},{"$f":"IF(電力控!AL104<>\"\",電力控!AL104,\"\")","v":""},{"$f":"IF(電力控!AM104<>\"\",電力控!AM104,\"\")","v":""},{"$f":"IF(電力控!AN104<>\"\",電力控!AN104,\"\")","v":""},{"$f":"IF(電力控!AO104<>\"\",電力控!AO104,\"\")","v":""},{"$f":"IF(電力控!AP104<>\"\",電力控!AP104,\"\")","v":""},{"$f":"IF(電力控!AQ104<>\"\",電力控!AQ104,\"\")","v":""},{"$f":"IF(電力控!AR104<>\"\",電力控!AR104,\"\")","v":""},{"$f":"IF(電力控!AS104<>\"\",電力控!AS104,\"\")","v":""},{"$f":"IF(電力控!AT104<>\"\",電力控!AT104,\"\")","v":""},{"$f":"IF(電力控!AU104<>\"\",電力控!AU104,\"\")","v":""},{"$f":"IF(電力控!AV104<>\"\",電力控!AV104,\"\")","v":""},{"$f":"IF(電力控!AW104<>\"\",電力控!AW104,\"\")","v":""},{"$f":"IF(電力控!AX104<>\"\",電力控!AX104,\"\")","v":""},{"$f":"IF(電力控!AY104<>\"\",電力控!AY104,\"\")","v":""},{"$f":"IF(電力控!AZ104<>\"\",電力控!AZ104,\"\")","v":""},{"$f":"IF(電力控!BA104<>\"\",電力控!BA104,\"\")","v":""}]
[{"$f":"IF(電力控!A105<>\"\",電力控!A105,\"\")","v":""},{"$f":"IF(電力控!B105<>\"\",電力控!B105,\"\")","v":""},{"$f":"IF(電力控!C105<>\"\",電力控!C105,\"\")","v":""},{"$f":"IF(電力控!D105<>\"\",電力控!D105,\"\")","v":""},{"$f":"IF(電力控!E105<>\"\",電力控!E105,\"\")","v":""},{"$f":"IF(電力控!F105<>\"\",電力控!F105,\"\")","v":""},{"$f":"IF(電力控!G105<>\"\",電力控!G105,\"\")","v":""},{"$f":"IF(電力控!H105<>\"\",電力控!H105,\"\")","v":""},{"$f":"IF(電力控!I105<>\"\",電力控!I105,\"\")","v":""},{"$f":"IF(電力控!J105<>\"\",電力控!J105,\"\")","v":""},{"$f":"IF(電力控!K105<>\"\",電力控!K105,\"\")","v":""},{"$f":"IF(電力控!L105<>\"\",電力控!L105,\"\")","v":""},{"$f":"IF(電力控!M105<>\"\",電力控!M105,\"\")","v":""},{"$f":"IF(電力控!N105<>\"\",電力控!N105,\"\")","v":""},{"$f":"IF(電力控!O105<>\"\",電力控!O105,\"\")","v":""},{"$f":"IF(電力控!P105<>\"\",電力控!P105,\"\")","v":""},{"$f":"IF(電力控!Q105<>\"\",電力控!Q105,\"\")","v":""},{"$f":"IF(電力控!R105<>\"\",電力控!R105,\"\")","v":""},{"$f":"IF(電力控!S105<>\"\",電力控!S105,\"\")","v":""},{"$f":"IF(電力控!T105<>\"\",電力控!T105,\"\")","v":""},{"$f":"IF(電力控!U105<>\"\",電力控!U105,\"\")","v":""},{"$f":"IF(電力控!V105<>\"\",電力控!V105,\"\")","v":""},{"$f":"IF(電力控!W105<>\"\",電力控!W105,\"\")","v":""},{"$f":"IF(電力控!X105<>\"\",電力控!X105,\"\")","v":""},{"$f":"IF(電力控!Y105<>\"\",電力控!Y105,\"\")","v":""},{"$f":"IF(電力控!Z105<>\"\",電力控!Z105,\"\")","v":""},{"$f":"IF(電力控!AA105<>\"\",電力控!AA105,\"\")","v":""},{"$f":"IF(電力控!AB105<>\"\",電力控!AB105,\"\")","v":""},{"$f":"IF(電力控!AC105<>\"\",電力控!AC105,\"\")","v":""},{"$f":"IF(電力控!AD105<>\"\",電力控!AD105,\"\")","v":""},{"$f":"IF(電力控!AE105<>\"\",電力控!AE105,\"\")","v":""},{"$f":"IF(電力控!AF105<>\"\",電力控!AF105,\"\")","v":""},{"$f":"IF(電力控!AG105<>\"\",電力控!AG105,\"\")","v":""},{"$f":"IF(電力控!AH105<>\"\",電力控!AH105,\"\")","v":""},{"$f":"IF(電力控!AI105<>\"\",電力控!AI105,\"\")","v":""},{"$f":"IF(電力控!AJ105<>\"\",電力控!AJ105,\"\")","v":""},{"$f":"IF(電力控!AK105<>\"\",電力控!AK105,\"\")","v":""},{"$f":"IF(電力控!AL105<>\"\",電力控!AL105,\"\")","v":""},{"$f":"IF(電力控!AM105<>\"\",電力控!AM105,\"\")","v":""},{"$f":"IF(電力控!AN105<>\"\",電力控!AN105,\"\")","v":""},{"$f":"IF(電力控!AO105<>\"\",電力控!AO105,\"\")","v":""},{"$f":"IF(電力控!AP105<>\"\",電力控!AP105,\"\")","v":""},{"$f":"IF(電力控!AQ105<>\"\",電力控!AQ105,\"\")","v":""},{"$f":"IF(電力控!AR105<>\"\",電力控!AR105,\"\")","v":""},{"$f":"IF(電力控!AS105<>\"\",電力控!AS105,\"\")","v":""},{"$f":"IF(電力控!AT105<>\"\",電力控!AT105,\"\")","v":""},{"$f":"IF(電力控!AU105<>\"\",電力控!AU105,\"\")","v":""},{"$f":"IF(電力控!AV105<>\"\",電力控!AV105,\"\")","v":""},{"$f":"IF(電力控!AW105<>\"\",電力控!AW105,\"\")","v":""},{"$f":"IF(電力控!AX105<>\"\",電力控!AX105,\"\")","v":""},{"$f":"IF(電力控!AY105<>\"\",電力控!AY105,\"\")","v":""},{"$f":"IF(電力控!AZ105<>\"\",電力控!AZ105,\"\")","v":""},{"$f":"IF(電力控!BA105<>\"\",電力控!BA105,\"\")","v":""}]
[{"$f":"IF(電力控!A106<>\"\",電力控!A106,\"\")","v":""},{"$f":"IF(電力控!B106<>\"\",電力控!B106,\"\")","v":""},{"$f":"IF(電力控!C106<>\"\",電力控!C106,\"\")","v":""},{"$f":"IF(電力控!D106<>\"\",電力控!D106,\"\")","v":""},{"$f":"IF(電力控!E106<>\"\",電力控!E106,\"\")","v":""},{"$f":"IF(電力控!F106<>\"\",電力控!F106,\"\")","v":""},{"$f":"IF(電力控!G106<>\"\",電力控!G106,\"\")","v":""},{"$f":"IF(電力控!H106<>\"\",電力控!H106,\"\")","v":""},{"$f":"IF(電力控!I106<>\"\",電力控!I106,\"\")","v":""},{"$f":"IF(電力控!J106<>\"\",電力控!J106,\"\")","v":""},{"$f":"IF(電力控!K106<>\"\",電力控!K106,\"\")","v":""},{"$f":"IF(電力控!L106<>\"\",電力控!L106,\"\")","v":""},{"$f":"IF(電力控!M106<>\"\",電力控!M106,\"\")","v":""},{"$f":"IF(電力控!N106<>\"\",電力控!N106,\"\")","v":""},{"$f":"IF(電力控!O106<>\"\",電力控!O106,\"\")","v":""},{"$f":"IF(電力控!P106<>\"\",電力控!P106,\"\")","v":""},{"$f":"IF(電力控!Q106<>\"\",電力控!Q106,\"\")","v":""},{"$f":"IF(電力控!R106<>\"\",電力控!R106,\"\")","v":""},{"$f":"IF(電力控!S106<>\"\",電力控!S106,\"\")","v":""},{"$f":"IF(電力控!T106<>\"\",電力控!T106,\"\")","v":""},{"$f":"IF(電力控!U106<>\"\",電力控!U106,\"\")","v":""},{"$f":"IF(電力控!V106<>\"\",電力控!V106,\"\")","v":""},{"$f":"IF(電力控!W106<>\"\",電力控!W106,\"\")","v":""},{"$f":"IF(電力控!X106<>\"\",電力控!X106,\"\")","v":""},{"$f":"IF(電力控!Y106<>\"\",電力控!Y106,\"\")","v":""},{"$f":"IF(電力控!Z106<>\"\",電力控!Z106,\"\")","v":""},{"$f":"IF(電力控!AA106<>\"\",電力控!AA106,\"\")","v":""},{"$f":"IF(電力控!AB106<>\"\",電力控!AB106,\"\")","v":""},{"$f":"IF(電力控!AC106<>\"\",電力控!AC106,\"\")","v":""},{"$f":"IF(電力控!AD106<>\"\",電力控!AD106,\"\")","v":""},{"$f":"IF(電力控!AE106<>\"\",電力控!AE106,\"\")","v":""},{"$f":"IF(電力控!AF106<>\"\",電力控!AF106,\"\")","v":""},{"$f":"IF(電力控!AG106<>\"\",電力控!AG106,\"\")","v":""},{"$f":"IF(電力控!AH106<>\"\",電力控!AH106,\"\")","v":""},{"$f":"IF(電力控!AI106<>\"\",電力控!AI106,\"\")","v":""},{"$f":"IF(電力控!AJ106<>\"\",電力控!AJ106,\"\")","v":""},{"$f":"IF(電力控!AK106<>\"\",電力控!AK106,\"\")","v":""},{"$f":"IF(電力控!AL106<>\"\",電力控!AL106,\"\")","v":""},{"$f":"IF(電力控!AM106<>\"\",電力控!AM106,\"\")","v":""},{"$f":"IF(電力控!AN106<>\"\",電力控!AN106,\"\")","v":""},{"$f":"IF(電力控!AO106<>\"\",電力控!AO106,\"\")","v":""},{"$f":"IF(電力控!AP106<>\"\",電力控!AP106,\"\")","v":""},{"$f":"IF(電力控!AQ106<>\"\",電力控!AQ106,\"\")","v":""},{"$f":"IF(電力控!AR106<>\"\",電力控!AR106,\"\")","v":""},{"$f":"IF(電力控!AS106<>\"\",電力控!AS106,\"\")","v":""},{"$f":"IF(電力控!AT106<>\"\",電力控!AT106,\"\")","v":""},{"$f":"IF(電力控!AU106<>\"\",電力控!AU106,\"\")","v":""},{"$f":"IF(電力控!AV106<>\"\",電力控!AV106,\"\")","v":""},{"$f":"IF(電力控!AW106<>\"\",電力控!AW106,\"\")","v":""},{"$f":"IF(電力控!AX106<>\"\",電力控!AX106,\"\")","v":""},{"$f":"IF(電力控!AY106<>\"\",電力控!AY106,\"\")","v":""},{"$f":"IF(電力控!AZ106<>\"\",電力控!AZ106,\"\")","v":""},{"$f":"IF(電力控!BA106<>\"\",電力控!BA106,\"\")","v":""}]
[{"$f":"IF(電力控!A107<>\"\",電力控!A107,\"\")","v":""},{"$f":"IF(電力控!B107<>\"\",電力控!B107,\"\")","v":""},{"$f":"IF(電力控!C107<>\"\",電力控!C107,\"\")","v":""},{"$f":"IF(電力控!D107<>\"\",電力控!D107,\"\")","v":""},{"$f":"IF(電力控!E107<>\"\",電力控!E107,\"\")","v":""},{"$f":"IF(電力控!F107<>\"\",電力控!F107,\"\")","v":""},{"$f":"IF(電力控!G107<>\"\",電力控!G107,\"\")","v":""},{"$f":"IF(電力控!H107<>\"\",電力控!H107,\"\")","v":""},{"$f":"IF(電力控!I107<>\"\",電力控!I107,\"\")","v":""},{"$f":"IF(電力控!J107<>\"\",電力控!J107,\"\")","v":""},{"$f":"IF(電力控!K107<>\"\",電力控!K107,\"\")","v":""},{"$f":"IF(電力控!L107<>\"\",電力控!L107,\"\")","v":""},{"$f":"IF(電力控!M107<>\"\",電力控!M107,\"\")","v":""},{"$f":"IF(電力控!N107<>\"\",電力控!N107,\"\")","v":""},{"$f":"IF(電力控!O107<>\"\",電力控!O107,\"\")","v":""},{"$f":"IF(電力控!P107<>\"\",電力控!P107,\"\")","v":""},{"$f":"IF(電力控!Q107<>\"\",電力控!Q107,\"\")","v":""},{"$f":"IF(電力控!R107<>\"\",電力控!R107,\"\")","v":""},{"$f":"IF(電力控!S107<>\"\",電力控!S107,\"\")","v":""},{"$f":"IF(電力控!T107<>\"\",電力控!T107,\"\")","v":""},{"$f":"IF(電力控!U107<>\"\",電力控!U107,\"\")","v":""},{"$f":"IF(電力控!V107<>\"\",電力控!V107,\"\")","v":""},{"$f":"IF(電力控!W107<>\"\",電力控!W107,\"\")","v":""},{"$f":"IF(電力控!X107<>\"\",電力控!X107,\"\")","v":""},{"$f":"IF(電力控!Y107<>\"\",電力控!Y107,\"\")","v":""},{"$f":"IF(電力控!Z107<>\"\",電力控!Z107,\"\")","v":""},{"$f":"IF(電力控!AA107<>\"\",電力控!AA107,\"\")","v":""},{"$f":"IF(電力控!AB107<>\"\",電力控!AB107,\"\")","v":""},{"$f":"IF(電力控!AC107<>\"\",電力控!AC107,\"\")","v":""},{"$f":"IF(電力控!AD107<>\"\",電力控!AD107,\"\")","v":""},{"$f":"IF(電力控!AE107<>\"\",電力控!AE107,\"\")","v":""},{"$f":"IF(電力控!AF107<>\"\",電力控!AF107,\"\")","v":""},{"$f":"IF(電力控!AG107<>\"\",電力控!AG107,\"\")","v":""},{"$f":"IF(電力控!AH107<>\"\",電力控!AH107,\"\")","v":""},{"$f":"IF(電力控!AI107<>\"\",電力控!AI107,\"\")","v":""},{"$f":"IF(電力控!AJ107<>\"\",電力控!AJ107,\"\")","v":""},{"$f":"IF(電力控!AK107<>\"\",電力控!AK107,\"\")","v":""},{"$f":"IF(電力控!AL107<>\"\",電力控!AL107,\"\")","v":""},{"$f":"IF(電力控!AM107<>\"\",電力控!AM107,\"\")","v":""},{"$f":"IF(電力控!AN107<>\"\",電力控!AN107,\"\")","v":""},{"$f":"IF(電力控!AO107<>\"\",電力控!AO107,\"\")","v":""},{"$f":"IF(電力控!AP107<>\"\",電力控!AP107,\"\")","v":""},{"$f":"IF(電力控!AQ107<>\"\",電力控!AQ107,\"\")","v":""},{"$f":"IF(電力控!AR107<>\"\",電力控!AR107,\"\")","v":""},{"$f":"IF(電力控!AS107<>\"\",電力控!AS107,\"\")","v":""},{"$f":"IF(電力控!AT107<>\"\",電力控!AT107,\"\")","v":""},{"$f":"IF(電力控!AU107<>\"\",電力控!AU107,\"\")","v":""},{"$f":"IF(電力控!AV107<>\"\",電力控!AV107,\"\")","v":""},{"$f":"IF(電力控!AW107<>\"\",電力控!AW107,\"\")","v":""},{"$f":"IF(電力控!AX107<>\"\",電力控!AX107,\"\")","v":""},{"$f":"IF(電力控!AY107<>\"\",電力控!AY107,\"\")","v":""},{"$f":"IF(電力控!AZ107<>\"\",電力控!AZ107,\"\")","v":""},{"$f":"IF(電力控!BA107<>\"\",電力控!BA107,\"\")","v":""}]
[{"$f":"IF(電力控!A108<>\"\",電力控!A108,\"\")","v":""},{"$f":"IF(電力控!B108<>\"\",電力控!B108,\"\")","v":""},{"$f":"IF(電力控!C108<>\"\",電力控!C108,\"\")","v":""},{"$f":"IF(電力控!D108<>\"\",電力控!D108,\"\")","v":""},{"$f":"IF(電力控!E108<>\"\",電力控!E108,\"\")","v":""},{"$f":"IF(電力控!F108<>\"\",電力控!F108,\"\")","v":""},{"$f":"IF(電力控!G108<>\"\",電力控!G108,\"\")","v":""},{"$f":"IF(電力控!H108<>\"\",電力控!H108,\"\")","v":""},{"$f":"IF(電力控!I108<>\"\",電力控!I108,\"\")","v":""},{"$f":"IF(電力控!J108<>\"\",電力控!J108,\"\")","v":""},{"$f":"IF(電力控!K108<>\"\",電力控!K108,\"\")","v":""},{"$f":"IF(電力控!L108<>\"\",電力控!L108,\"\")","v":""},{"$f":"IF(電力控!M108<>\"\",電力控!M108,\"\")","v":""},{"$f":"IF(電力控!N108<>\"\",電力控!N108,\"\")","v":""},{"$f":"IF(電力控!O108<>\"\",電力控!O108,\"\")","v":""},{"$f":"IF(電力控!P108<>\"\",電力控!P108,\"\")","v":""},{"$f":"IF(電力控!Q108<>\"\",電力控!Q108,\"\")","v":""},{"$f":"IF(電力控!R108<>\"\",電力控!R108,\"\")","v":""},{"$f":"IF(電力控!S108<>\"\",電力控!S108,\"\")","v":""},{"$f":"IF(電力控!T108<>\"\",電力控!T108,\"\")","v":""},{"$f":"IF(電力控!U108<>\"\",電力控!U108,\"\")","v":""},{"$f":"IF(電力控!V108<>\"\",電力控!V108,\"\")","v":""},{"$f":"IF(電力控!W108<>\"\",電力控!W108,\"\")","v":""},{"$f":"IF(電力控!X108<>\"\",電力控!X108,\"\")","v":""},{"$f":"IF(電力控!Y108<>\"\",電力控!Y108,\"\")","v":""},{"$f":"IF(電力控!Z108<>\"\",電力控!Z108,\"\")","v":""},{"$f":"IF(電力控!AA108<>\"\",電力控!AA108,\"\")","v":""},{"$f":"IF(電力控!AB108<>\"\",電力控!AB108,\"\")","v":""},{"$f":"IF(電力控!AC108<>\"\",電力控!AC108,\"\")","v":""},{"$f":"IF(電力控!AD108<>\"\",電力控!AD108,\"\")","v":""},{"$f":"IF(電力控!AE108<>\"\",電力控!AE108,\"\")","v":""},{"$f":"IF(電力控!AF108<>\"\",電力控!AF108,\"\")","v":""},{"$f":"IF(電力控!AG108<>\"\",電力控!AG108,\"\")","v":""},{"$f":"IF(電力控!AH108<>\"\",電力控!AH108,\"\")","v":""},{"$f":"IF(電力控!AI108<>\"\",電力控!AI108,\"\")","v":""},{"$f":"IF(電力控!AJ108<>\"\",電力控!AJ108,\"\")","v":""},{"$f":"IF(電力控!AK108<>\"\",電力控!AK108,\"\")","v":""},{"$f":"IF(電力控!AL108<>\"\",電力控!AL108,\"\")","v":""},{"$f":"IF(電力控!AM108<>\"\",電力控!AM108,\"\")","v":""},{"$f":"IF(電力控!AN108<>\"\",電力控!AN108,\"\")","v":""},{"$f":"IF(電力控!AO108<>\"\",電力控!AO108,\"\")","v":""},{"$f":"IF(電力控!AP108<>\"\",電力控!AP108,\"\")","v":""},{"$f":"IF(電力控!AQ108<>\"\",電力控!AQ108,\"\")","v":""},{"$f":"IF(電力控!AR108<>\"\",電力控!AR108,\"\")","v":""},{"$f":"IF(電力控!AS108<>\"\",電力控!AS108,\"\")","v":""},{"$f":"IF(電力控!AT108<>\"\",電力控!AT108,\"\")","v":""},{"$f":"IF(電力控!AU108<>\"\",電力控!AU108,\"\")","v":""},{"$f":"IF(電力控!AV108<>\"\",電力控!AV108,\"\")","v":""},{"$f":"IF(電力控!AW108<>\"\",電力控!AW108,\"\")","v":""},{"$f":"IF(電力控!AX108<>\"\",電力控!AX108,\"\")","v":""},{"$f":"IF(電力控!AY108<>\"\",電力控!AY108,\"\")","v":""},{"$f":"IF(電力控!AZ108<>\"\",電力控!AZ108,\"\")","v":""},{"$f":"IF(電力控!BA108<>\"\",電力控!BA108,\"\")","v":""}]
[{"$f":"IF(電力控!A109<>\"\",電力控!A109,\"\")","v":""},{"$f":"IF(電力控!B109<>\"\",電力控!B109,\"\")","v":""},{"$f":"IF(電力控!C109<>\"\",電力控!C109,\"\")","v":""},{"$f":"IF(電力控!D109<>\"\",電力控!D109,\"\")","v":""},{"$f":"IF(電力控!E109<>\"\",電力控!E109,\"\")","v":""},{"$f":"IF(電力控!F109<>\"\",電力控!F109,\"\")","v":""},{"$f":"IF(電力控!G109<>\"\",電力控!G109,\"\")","v":""},{"$f":"IF(電力控!H109<>\"\",電力控!H109,\"\")","v":""},{"$f":"IF(電力控!I109<>\"\",電力控!I109,\"\")","v":""},{"$f":"IF(電力控!J109<>\"\",電力控!J109,\"\")","v":""},{"$f":"IF(電力控!K109<>\"\",電力控!K109,\"\")","v":""},{"$f":"IF(電力控!L109<>\"\",電力控!L109,\"\")","v":""},{"$f":"IF(電力控!M109<>\"\",電力控!M109,\"\")","v":""},{"$f":"IF(電力控!N109<>\"\",電力控!N109,\"\")","v":""},{"$f":"IF(電力控!O109<>\"\",電力控!O109,\"\")","v":""},{"$f":"IF(電力控!P109<>\"\",電力控!P109,\"\")","v":""},{"$f":"IF(電力控!Q109<>\"\",電力控!Q109,\"\")","v":""},{"$f":"IF(電力控!R109<>\"\",電力控!R109,\"\")","v":""},{"$f":"IF(電力控!S109<>\"\",電力控!S109,\"\")","v":""},{"$f":"IF(電力控!T109<>\"\",電力控!T109,\"\")","v":""},{"$f":"IF(電力控!U109<>\"\",電力控!U109,\"\")","v":""},{"$f":"IF(電力控!V109<>\"\",電力控!V109,\"\")","v":""},{"$f":"IF(電力控!W109<>\"\",電力控!W109,\"\")","v":""},{"$f":"IF(電力控!X109<>\"\",電力控!X109,\"\")","v":""},{"$f":"IF(電力控!Y109<>\"\",電力控!Y109,\"\")","v":""},{"$f":"IF(電力控!Z109<>\"\",電力控!Z109,\"\")","v":""},{"$f":"IF(電力控!AA109<>\"\",電力控!AA109,\"\")","v":""},{"$f":"IF(電力控!AB109<>\"\",電力控!AB109,\"\")","v":""},{"$f":"IF(電力控!AC109<>\"\",電力控!AC109,\"\")","v":""},{"$f":"IF(電力控!AD109<>\"\",電力控!AD109,\"\")","v":""},{"$f":"IF(電力控!AE109<>\"\",電力控!AE109,\"\")","v":""},{"$f":"IF(電力控!AF109<>\"\",電力控!AF109,\"\")","v":""},{"$f":"IF(電力控!AG109<>\"\",電力控!AG109,\"\")","v":""},{"$f":"IF(電力控!AH109<>\"\",電力控!AH109,\"\")","v":""},{"$f":"IF(電力控!AI109<>\"\",電力控!AI109,\"\")","v":""},{"$f":"IF(電力控!AJ109<>\"\",電力控!AJ109,\"\")","v":""},{"$f":"IF(電力控!AK109<>\"\",電力控!AK109,\"\")","v":""},{"$f":"IF(電力控!AL109<>\"\",電力控!AL109,\"\")","v":""},{"$f":"IF(電力控!AM109<>\"\",電力控!AM109,\"\")","v":""},{"$f":"IF(電力控!AN109<>\"\",電力控!AN109,\"\")","v":""},{"$f":"IF(電力控!AO109<>\"\",電力控!AO109,\"\")","v":""},{"$f":"IF(電力控!AP109<>\"\",電力控!AP109,\"\")","v":""},{"$f":"IF(電力控!AQ109<>\"\",電力控!AQ109,\"\")","v":""},{"$f":"IF(電力控!AR109<>\"\",電力控!AR109,\"\")","v":""},{"$f":"IF(電力控!AS109<>\"\",電力控!AS109,\"\")","v":""},{"$f":"IF(電力控!AT109<>\"\",電力控!AT109,\"\")","v":""},{"$f":"IF(電力控!AU109<>\"\",電力控!AU109,\"\")","v":""},{"$f":"IF(電力控!AV109<>\"\",電力控!AV109,\"\")","v":""},{"$f":"IF(電力控!AW109<>\"\",電力控!AW109,\"\")","v":""},{"$f":"IF(電力控!AX109<>\"\",電力控!AX109,\"\")","v":""},{"$f":"IF(電力控!AY109<>\"\",電力控!AY109,\"\")","v":""},{"$f":"IF(電力控!AZ109<>\"\",電力控!AZ109,\"\")","v":""},{"$f":"IF(電力控!BA109<>\"\",電力控!BA109,\"\")","v":""}]
[{"$f":"IF(電力控!A110<>\"\",電力控!A110,\"\")","v":""},{"$f":"IF(電力控!B110<>\"\",電力控!B110,\"\")","v":""},{"$f":"IF(電力控!C110<>\"\",電力控!C110,\"\")","v":""},{"$f":"IF(電力控!D110<>\"\",電力控!D110,\"\")","v":""},{"$f":"IF(電力控!E110<>\"\",電力控!E110,\"\")","v":""},{"$f":"IF(電力控!F110<>\"\",電力控!F110,\"\")","v":""},{"$f":"IF(電力控!G110<>\"\",電力控!G110,\"\")","v":""},{"$f":"IF(電力控!H110<>\"\",電力控!H110,\"\")","v":""},{"$f":"IF(電力控!I110<>\"\",電力控!I110,\"\")","v":""},{"$f":"IF(電力控!J110<>\"\",電力控!J110,\"\")","v":""},{"$f":"IF(電力控!K110<>\"\",電力控!K110,\"\")","v":""},{"$f":"IF(電力控!L110<>\"\",電力控!L110,\"\")","v":""},{"$f":"IF(電力控!M110<>\"\",電力控!M110,\"\")","v":""},{"$f":"IF(電力控!N110<>\"\",電力控!N110,\"\")","v":""},{"$f":"IF(電力控!O110<>\"\",電力控!O110,\"\")","v":""},{"$f":"IF(電力控!P110<>\"\",電力控!P110,\"\")","v":""},{"$f":"IF(電力控!Q110<>\"\",電力控!Q110,\"\")","v":""},{"$f":"IF(電力控!R110<>\"\",電力控!R110,\"\")","v":""},{"$f":"IF(電力控!S110<>\"\",電力控!S110,\"\")","v":""},{"$f":"IF(電力控!T110<>\"\",電力控!T110,\"\")","v":""},{"$f":"IF(電力控!U110<>\"\",電力控!U110,\"\")","v":""},{"$f":"IF(電力控!V110<>\"\",電力控!V110,\"\")","v":""},{"$f":"IF(電力控!W110<>\"\",電力控!W110,\"\")","v":""},{"$f":"IF(電力控!X110<>\"\",電力控!X110,\"\")","v":""},{"$f":"IF(電力控!Y110<>\"\",電力控!Y110,\"\")","v":""},{"$f":"IF(電力控!Z110<>\"\",電力控!Z110,\"\")","v":""},{"$f":"IF(電力控!AA110<>\"\",電力控!AA110,\"\")","v":""},{"$f":"IF(電力控!AB110<>\"\",電力控!AB110,\"\")","v":""},{"$f":"IF(電力控!AC110<>\"\",電力控!AC110,\"\")","v":""},{"$f":"IF(電力控!AD110<>\"\",電力控!AD110,\"\")","v":""},{"$f":"IF(電力控!AE110<>\"\",電力控!AE110,\"\")","v":""},{"$f":"IF(電力控!AF110<>\"\",電力控!AF110,\"\")","v":""},{"$f":"IF(電力控!AG110<>\"\",電力控!AG110,\"\")","v":""},{"$f":"IF(電力控!AH110<>\"\",電力控!AH110,\"\")","v":""},{"$f":"IF(電力控!AI110<>\"\",電力控!AI110,\"\")","v":""},{"$f":"IF(電力控!AJ110<>\"\",電力控!AJ110,\"\")","v":""},{"$f":"IF(電力控!AK110<>\"\",電力控!AK110,\"\")","v":""},{"$f":"IF(電力控!AL110<>\"\",電力控!AL110,\"\")","v":""},{"$f":"IF(電力控!AM110<>\"\",電力控!AM110,\"\")","v":""},{"$f":"IF(電力控!AN110<>\"\",電力控!AN110,\"\")","v":""},{"$f":"IF(電力控!AO110<>\"\",電力控!AO110,\"\")","v":""},{"$f":"IF(電力控!AP110<>\"\",電力控!AP110,\"\")","v":""},{"$f":"IF(電力控!AQ110<>\"\",電力控!AQ110,\"\")","v":""},{"$f":"IF(電力控!AR110<>\"\",電力控!AR110,\"\")","v":""},{"$f":"IF(電力控!AS110<>\"\",電力控!AS110,\"\")","v":""},{"$f":"IF(電力控!AT110<>\"\",電力控!AT110,\"\")","v":""},{"$f":"IF(電力控!AU110<>\"\",電力控!AU110,\"\")","v":""},{"$f":"IF(電力控!AV110<>\"\",電力控!AV110,\"\")","v":""},{"$f":"IF(電力控!AW110<>\"\",電力控!AW110,\"\")","v":""},{"$f":"IF(電力控!AX110<>\"\",電力控!AX110,\"\")","v":""},{"$f":"IF(電力控!AY110<>\"\",電力控!AY110,\"\")","v":""},{"$f":"IF(電力控!AZ110<>\"\",電力控!AZ110,\"\")","v":""},{"$f":"IF(電力控!BA110<>\"\",電力控!BA110,\"\")","v":""}]
[{"$f":"IF(電力控!A111<>\"\",電力控!A111,\"\")","v":""},{"$f":"IF(電力控!B111<>\"\",電力控!B111,\"\")","v":""},{"$f":"IF(電力控!C111<>\"\",電力控!C111,\"\")","v":""},{"$f":"IF(電力控!D111<>\"\",電力控!D111,\"\")","v":""},{"$f":"IF(電力控!E111<>\"\",電力控!E111,\"\")","v":""},{"$f":"IF(電力控!F111<>\"\",電力控!F111,\"\")","v":""},{"$f":"IF(電力控!G111<>\"\",電力控!G111,\"\")","v":""},{"$f":"IF(電力控!H111<>\"\",電力控!H111,\"\")","v":""},{"$f":"IF(電力控!I111<>\"\",電力控!I111,\"\")","v":""},{"$f":"IF(電力控!J111<>\"\",電力控!J111,\"\")","v":""},{"$f":"IF(電力控!K111<>\"\",電力控!K111,\"\")","v":""},{"$f":"IF(電力控!L111<>\"\",電力控!L111,\"\")","v":""},{"$f":"IF(電力控!M111<>\"\",電力控!M111,\"\")","v":""},{"$f":"IF(電力控!N111<>\"\",電力控!N111,\"\")","v":""},{"$f":"IF(電力控!O111<>\"\",電力控!O111,\"\")","v":""},{"$f":"IF(電力控!P111<>\"\",電力控!P111,\"\")","v":""},{"$f":"IF(電力控!Q111<>\"\",電力控!Q111,\"\")","v":""},{"$f":"IF(電力控!R111<>\"\",電力控!R111,\"\")","v":""},{"$f":"IF(電力控!S111<>\"\",電力控!S111,\"\")","v":""},{"$f":"IF(電力控!T111<>\"\",電力控!T111,\"\")","v":""},{"$f":"IF(電力控!U111<>\"\",電力控!U111,\"\")","v":""},{"$f":"IF(電力控!V111<>\"\",電力控!V111,\"\")","v":""},{"$f":"IF(電力控!W111<>\"\",電力控!W111,\"\")","v":""},{"$f":"IF(電力控!X111<>\"\",電力控!X111,\"\")","v":""},{"$f":"IF(電力控!Y111<>\"\",電力控!Y111,\"\")","v":""},{"$f":"IF(電力控!Z111<>\"\",電力控!Z111,\"\")","v":""},{"$f":"IF(電力控!AA111<>\"\",電力控!AA111,\"\")","v":""},{"$f":"IF(電力控!AB111<>\"\",電力控!AB111,\"\")","v":""},{"$f":"IF(電力控!AC111<>\"\",電力控!AC111,\"\")","v":""},{"$f":"IF(電力控!AD111<>\"\",電力控!AD111,\"\")","v":""},{"$f":"IF(電力控!AE111<>\"\",電力控!AE111,\"\")","v":""},{"$f":"IF(電力控!AF111<>\"\",電力控!AF111,\"\")","v":""},{"$f":"IF(電力控!AG111<>\"\",電力控!AG111,\"\")","v":""},{"$f":"IF(電力控!AH111<>\"\",電力控!AH111,\"\")","v":""},{"$f":"IF(電力控!AI111<>\"\",電力控!AI111,\"\")","v":""},{"$f":"IF(電力控!AJ111<>\"\",電力控!AJ111,\"\")","v":""},{"$f":"IF(電力控!AK111<>\"\",電力控!AK111,\"\")","v":""},{"$f":"IF(電力控!AL111<>\"\",電力控!AL111,\"\")","v":""},{"$f":"IF(電力控!AM111<>\"\",電力控!AM111,\"\")","v":""},{"$f":"IF(電力控!AN111<>\"\",電力控!AN111,\"\")","v":""},{"$f":"IF(電力控!AO111<>\"\",電力控!AO111,\"\")","v":""},{"$f":"IF(電力控!AP111<>\"\",電力控!AP111,\"\")","v":""},{"$f":"IF(電力控!AQ111<>\"\",電力控!AQ111,\"\")","v":""},{"$f":"IF(電力控!AR111<>\"\",電力控!AR111,\"\")","v":""},{"$f":"IF(電力控!AS111<>\"\",電力控!AS111,\"\")","v":""},{"$f":"IF(電力控!AT111<>\"\",電力控!AT111,\"\")","v":""},{"$f":"IF(電力控!AU111<>\"\",電力控!AU111,\"\")","v":""},{"$f":"IF(電力控!AV111<>\"\",電力控!AV111,\"\")","v":""},{"$f":"IF(電力控!AW111<>\"\",電力控!AW111,\"\")","v":""},{"$f":"IF(電力控!AX111<>\"\",電力控!AX111,\"\")","v":""},{"$f":"IF(電力控!AY111<>\"\",電力控!AY111,\"\")","v":""},{"$f":"IF(電力控!AZ111<>\"\",電力控!AZ111,\"\")","v":""},{"$f":"IF(電力控!BA111<>\"\",電力控!BA111,\"\")","v":""}]
[{"$f":"IF(電力控!A112<>\"\",電力控!A112,\"\")","v":""},{"$f":"IF(電力控!B112<>\"\",電力控!B112,\"\")","v":""},{"$f":"IF(電力控!C112<>\"\",電力控!C112,\"\")","v":""},{"$f":"IF(電力控!D112<>\"\",電力控!D112,\"\")","v":""},{"$f":"IF(電力控!E112<>\"\",電力控!E112,\"\")","v":""},{"$f":"IF(電力控!F112<>\"\",電力控!F112,\"\")","v":""},{"$f":"IF(電力控!G112<>\"\",電力控!G112,\"\")","v":""},{"$f":"IF(電力控!H112<>\"\",電力控!H112,\"\")","v":""},{"$f":"IF(電力控!I112<>\"\",電力控!I112,\"\")","v":""},{"$f":"IF(電力控!J112<>\"\",電力控!J112,\"\")","v":""},{"$f":"IF(電力控!K112<>\"\",電力控!K112,\"\")","v":""},{"$f":"IF(電力控!L112<>\"\",電力控!L112,\"\")","v":""},{"$f":"IF(電力控!M112<>\"\",電力控!M112,\"\")","v":""},{"$f":"IF(電力控!N112<>\"\",電力控!N112,\"\")","v":""},{"$f":"IF(電力控!O112<>\"\",電力控!O112,\"\")","v":""},{"$f":"IF(電力控!P112<>\"\",電力控!P112,\"\")","v":""},{"$f":"IF(電力控!Q112<>\"\",電力控!Q112,\"\")","v":""},{"$f":"IF(電力控!R112<>\"\",電力控!R112,\"\")","v":""},{"$f":"IF(電力控!S112<>\"\",電力控!S112,\"\")","v":""},{"$f":"IF(電力控!T112<>\"\",電力控!T112,\"\")","v":""},{"$f":"IF(電力控!U112<>\"\",電力控!U112,\"\")","v":""},{"$f":"IF(電力控!V112<>\"\",電力控!V112,\"\")","v":""},{"$f":"IF(電力控!W112<>\"\",電力控!W112,\"\")","v":""},{"$f":"IF(電力控!X112<>\"\",電力控!X112,\"\")","v":""},{"$f":"IF(電力控!Y112<>\"\",電力控!Y112,\"\")","v":""},{"$f":"IF(電力控!Z112<>\"\",電力控!Z112,\"\")","v":""},{"$f":"IF(電力控!AA112<>\"\",電力控!AA112,\"\")","v":""},{"$f":"IF(電力控!AB112<>\"\",電力控!AB112,\"\")","v":""},{"$f":"IF(電力控!AC112<>\"\",電力控!AC112,\"\")","v":""},{"$f":"IF(電力控!AD112<>\"\",電力控!AD112,\"\")","v":""},{"$f":"IF(電力控!AE112<>\"\",電力控!AE112,\"\")","v":""},{"$f":"IF(電力控!AF112<>\"\",電力控!AF112,\"\")","v":""},{"$f":"IF(電力控!AG112<>\"\",電力控!AG112,\"\")","v":""},{"$f":"IF(電力控!AH112<>\"\",電力控!AH112,\"\")","v":""},{"$f":"IF(電力控!AI112<>\"\",電力控!AI112,\"\")","v":""},{"$f":"IF(電力控!AJ112<>\"\",電力控!AJ112,\"\")","v":""},{"$f":"IF(電力控!AK112<>\"\",電力控!AK112,\"\")","v":""},{"$f":"IF(電力控!AL112<>\"\",電力控!AL112,\"\")","v":""},{"$f":"IF(電力控!AM112<>\"\",電力控!AM112,\"\")","v":""},{"$f":"IF(電力控!AN112<>\"\",電力控!AN112,\"\")","v":""},{"$f":"IF(電力控!AO112<>\"\",電力控!AO112,\"\")","v":""},{"$f":"IF(電力控!AP112<>\"\",電力控!AP112,\"\")","v":""},{"$f":"IF(電力控!AQ112<>\"\",電力控!AQ112,\"\")","v":""},{"$f":"IF(電力控!AR112<>\"\",電力控!AR112,\"\")","v":""},{"$f":"IF(電力控!AS112<>\"\",電力控!AS112,\"\")","v":""},{"$f":"IF(電力控!AT112<>\"\",電力控!AT112,\"\")","v":""},{"$f":"IF(電力控!AU112<>\"\",電力控!AU112,\"\")","v":""},{"$f":"IF(電力控!AV112<>\"\",電力控!AV112,\"\")","v":""},{"$f":"IF(電力控!AW112<>\"\",電力控!AW112,\"\")","v":""},{"$f":"IF(電力控!AX112<>\"\",電力控!AX112,\"\")","v":""},{"$f":"IF(電力控!AY112<>\"\",電力控!AY112,\"\")","v":""},{"$f":"IF(電力控!AZ112<>\"\",電力控!AZ112,\"\")","v":""},{"$f":"IF(電力控!BA112<>\"\",電力控!BA112,\"\")","v":""}]
["幹線線種・太さ※",{"$nulls":7},{"$f":"IF(電力控!I113<>\"\",電力控!I113,\"\")","v":""},{"$nulls":5},{"$f":"IF(電力控!O113<>\"\",電力控!O113,\"\")","v":""},{"$nulls":6},"mm2",{"$nulls":3},{"$f":"IF(電力控!Z113<>\"\",電力控!Z113,\"\")","v":""},{"$f":"IF(電力控!AA113<>\"\",電力控!AA113,\"\")","v":""},{"$f":"IF(電力控!AB113<>\"\",電力控!AB113,\"\")","v":""},{"$f":"IF(電力控!AC113<>\"\",電力控!AC113,\"\")","v":""},{"$f":"IF(電力控!AD113<>\"\",電力控!AD113,\"\")","v":""},{"$f":"IF(電力控!AE113<>\"\",電力控!AE113,\"\")","v":""},{"$f":"IF(電力控!AF113<>\"\",電力控!AF113,\"\")","v":""},{"$f":"IF(電力控!AG113<>\"\",電力控!AG113,\"\")","v":""},{"$f":"IF(電力控!AH113<>\"\",電力控!AH113,\"\")","v":""},{"$f":"IF(電力控!AI113<>\"\",電力控!AI113,\"\")","v":""},{"$f":"IF(電力控!AJ113<>\"\",電力控!AJ113,\"\")","v":""},{"$f":"IF(電力控!AK113<>\"\",電力控!AK113,\"\")","v":""},{"$f":"IF(電力控!AL113<>\"\",電力控!AL113,\"\")","v":""},{"$f":"IF(電力控!AM113<>\"\",電力控!AM113,\"\")","v":""},{"$f":"IF(電力控!AN113<>\"\",電力控!AN113,\"\")","v":""},{"$f":"IF(電力控!AO113<>\"\",電力控!AO113,\"\")","v":""},{"$f":"IF(電力控!AP113<>\"\",電力控!AP113,\"\")","v":""},{"$f":"IF(電力控!AQ113<>\"\",電力控!AQ113,\"\")","v":""},{"$f":"IF(電力控!AR113<>\"\",電力控!AR113,\"\")","v":""},{"$f":"IF(電力控!AS113<>\"\",電力控!AS113,\"\")","v":""},{"$f":"IF(電力控!AT113<>\"\",電力控!AT113,\"\")","v":""},{"$f":"IF(電力控!AU113<>\"\",電力控!AU113,\"\")","v":""},{"$f":"IF(電力控!AV113<>\"\",電力控!AV113,\"\")","v":""},{"$f":"IF(電力控!AW113<>\"\",電力控!AW113,\"\")","v":""},{"$f":"IF(電力控!AX113<>\"\",電力控!AX113,\"\")","v":""},{"$f":"IF(電力控!AY113<>\"\",電力控!AY113,\"\")","v":""},{"$f":"IF(電力控!AZ113<>\"\",電力控!AZ113,\"\")","v":""},{"$f":"IF(電力控!BA113<>\"\",電力控!BA113,\"\")","v":""}]
[{"$nulls":25},{"$f":"IF(電力控!Z114<>\"\",電力控!Z114,\"\")","v":""},{"$f":"IF(電力控!AA114<>\"\",電力控!AA114,\"\")","v":""},{"$f":"IF(電力控!AB114<>\"\",電力控!AB114,\"\")","v":""},{"$f":"IF(電力控!AC114<>\"\",電力控!AC114,\"\")","v":""},{"$f":"IF(電力控!AD114<>\"\",電力控!AD114,\"\")","v":""},{"$f":"IF(電力控!AE114<>\"\",電力控!AE114,\"\")","v":""},{"$f":"IF(電力控!AF114<>\"\",電力控!AF114,\"\")","v":""},{"$f":"IF(電力控!AG114<>\"\",電力控!AG114,\"\")","v":""},{"$f":"IF(電力控!AH114<>\"\",電力控!AH114,\"\")","v":""},{"$f":"IF(電力控!AI114<>\"\",電力控!AI114,\"\")","v":""},{"$f":"IF(電力控!AJ114<>\"\",電力控!AJ114,\"\")","v":""},{"$f":"IF(電力控!AK114<>\"\",電力控!AK114,\"\")","v":""},{"$f":"IF(電力控!AL114<>\"\",電力控!AL114,\"\")","v":""},{"$f":"IF(電力控!AM114<>\"\",電力控!AM114,\"\")","v":""},{"$f":"IF(電力控!AN114<>\"\",電力控!AN114,\"\")","v":""},{"$f":"IF(電力控!AO114<>\"\",電力控!AO114,\"\")","v":""},{"$f":"IF(電力控!AP114<>\"\",電力控!AP114,\"\")","v":""},{"$f":"IF(電力控!AQ114<>\"\",電力控!AQ114,\"\")","v":""},{"$f":"IF(電力控!AR114<>\"\",電力控!AR114,\"\")","v":""},{"$f":"IF(電力控!AS114<>\"\",電力控!AS114,\"\")","v":""},{"$f":"IF(電力控!AT114<>\"\",電力控!AT114,\"\")","v":""},{"$f":"IF(電力控!AU114<>\"\",電力控!AU114,\"\")","v":""},{"$f":"IF(電力控!AV114<>\"\",電力控!AV114,\"\")","v":""},{"$f":"IF(電力控!AW114<>\"\",電力控!AW114,\"\")","v":""},{"$f":"IF(電力控!AX114<>\"\",電力控!AX114,\"\")","v":""},{"$f":"IF(電力控!AY114<>\"\",電力控!AY114,\"\")","v":""},{"$f":"IF(電力控!AZ114<>\"\",電力控!AZ114,\"\")","v":""},{"$f":"IF(電力控!BA114<>\"\",電力控!BA114,\"\")","v":""}]
["幹線ブレーカ容量※",{"$nulls":7},{"$f":"IF(電力控!I115<>\"\",電力控!I115,\"\")","v":""},{"$nulls":14},"A",null,{"$f":"IF(電力控!Z115<>\"\",電力控!Z115,\"\")","v":""},{"$f":"IF(電力控!AA115<>\"\",電力控!AA115,\"\")","v":""},{"$f":"IF(電力控!AB115<>\"\",電力控!AB115,\"\")","v":""},{"$f":"IF(電力控!AC115<>\"\",電力控!AC115,\"\")","v":""},{"$f":"IF(電力控!AD115<>\"\",電力控!AD115,\"\")","v":""},{"$f":"IF(電力控!AE115<>\"\",電力控!AE115,\"\")","v":""},{"$f":"IF(電力控!AF115<>\"\",電力控!AF115,\"\")","v":""},{"$f":"IF(電力控!AG115<>\"\",電力控!AG115,\"\")","v":""},{"$f":"IF(電力控!AH115<>\"\",電力控!AH115,\"\")","v":""},{"$f":"IF(電力控!AI115<>\"\",電力控!AI115,\"\")","v":""},{"$f":"IF(電力控!AJ115<>\"\",電力控!AJ115,\"\")","v":""},{"$f":"IF(電力控!AK115<>\"\",電力控!AK115,\"\")","v":""},{"$f":"IF(電力控!AL115<>\"\",電力控!AL115,\"\")","v":""},{"$f":"IF(電力控!AM115<>\"\",電力控!AM115,\"\")","v":""},{"$f":"IF(電力控!AN115<>\"\",電力控!AN115,\"\")","v":""},{"$f":"IF(電力控!AO115<>\"\",電力控!AO115,\"\")","v":""},{"$f":"IF(電力控!AP115<>\"\",電力控!AP115,\"\")","v":""},{"$f":"IF(電力控!AQ115<>\"\",電力控!AQ115,\"\")","v":""},{"$f":"IF(電力控!AR115<>\"\",電力控!AR115,\"\")","v":""},{"$f":"IF(電力控!AS115<>\"\",電力控!AS115,\"\")","v":""},{"$f":"IF(電力控!AT115<>\"\",電力控!AT115,\"\")","v":""},{"$f":"IF(電力控!AU115<>\"\",電力控!AU115,\"\")","v":""},{"$f":"IF(電力控!AV115<>\"\",電力控!AV115,\"\")","v":""},{"$f":"IF(電力控!AW115<>\"\",電力控!AW115,\"\")","v":""},{"$f":"IF(電力控!AX115<>\"\",電力控!AX115,\"\")","v":""},{"$f":"IF(電力控!AY115<>\"\",電力控!AY115,\"\")","v":""},{"$f":"IF(電力控!AZ115<>\"\",電力控!AZ115,\"\")","v":""},{"$f":"IF(電力控!BA115<>\"\",電力控!BA115,\"\")","v":""}]
[{"$nulls":25},{"$f":"IF(電力控!Z116<>\"\",電力控!Z116,\"\")","v":""},{"$f":"IF(電力控!AA116<>\"\",電力控!AA116,\"\")","v":""},{"$f":"IF(電力控!AB116<>\"\",電力控!AB116,\"\")","v":""},{"$f":"IF(電力控!AC116<>\"\",電力控!AC116,\"\")","v":""},{"$f":"IF(電力控!AD116<>\"\",電力控!AD116,\"\")","v":""},{"$f":"IF(電力控!AE116<>\"\",電力控!AE116,\"\")","v":""},{"$f":"IF(電力控!AF116<>\"\",電力控!AF116,\"\")","v":""},{"$f":"IF(電力控!AG116<>\"\",電力控!AG116,\"\")","v":""},{"$f":"IF(電力控!AH116<>\"\",電力控!AH116,\"\")","v":""},{"$f":"IF(電力控!AI116<>\"\",電力控!AI116,\"\")","v":""},{"$f":"IF(電力控!AJ116<>\"\",電力控!AJ116,\"\")","v":""},{"$f":"IF(電力控!AK116<>\"\",電力控!AK116,\"\")","v":""},{"$f":"IF(電力控!AL116<>\"\",電力控!AL116,\"\")","v":""},{"$f":"IF(電力控!AM116<>\"\",電力控!AM116,\"\")","v":""},{"$f":"IF(電力控!AN116<>\"\",電力控!AN116,\"\")","v":""},{"$f":"IF(電力控!AO116<>\"\",電力控!AO116,\"\")","v":""},{"$f":"IF(電力控!AP116<>\"\",電力控!AP116,\"\")","v":""},{"$f":"IF(電力控!AQ116<>\"\",電力控!AQ116,\"\")","v":""},{"$f":"IF(電力控!AR116<>\"\",電力控!AR116,\"\")","v":""},{"$f":"IF(電力控!AS116<>\"\",電力控!AS116,\"\")","v":""},{"$f":"IF(電力控!AT116<>\"\",電力控!AT116,\"\")","v":""},{"$f":"IF(電力控!AU116<>\"\",電力控!AU116,\"\")","v":""},{"$f":"IF(電力控!AV116<>\"\",電力控!AV116,\"\")","v":""},{"$f":"IF(電力控!AW116<>\"\",電力控!AW116,\"\")","v":""},{"$f":"IF(電力控!AX116<>\"\",電力控!AX116,\"\")","v":""},{"$f":"IF(電力控!AY116<>\"\",電力控!AY116,\"\")","v":""},{"$f":"IF(電力控!AZ116<>\"\",電力控!AZ116,\"\")","v":""},{"$f":"IF(電力控!BA116<>\"\",電力控!BA116,\"\")","v":""}]
["分岐回路数※",{"$nulls":7},{"$f":"IF(電力控!I117<>\"\",電力控!I117,\"\")","v":""},{"$nulls":17},"※は必要入力箇所"]
[]
[]
["注文者",{"$nulls":7},"住所：",null,null,{"$f":"IF(電力控!L120<>\"\",電力控!L120,\"\")","v":""},{"$nulls":20},"社名：",null,null,{"$f":"IF(電力控!AJ120<>\"\",電力控!AJ120,\"\")","v":""}]
[]
["施工年月日",{"$nulls":7},{"$f":"IF(電力控!I122<>\"\",電力控!I122,\"\")","v":""},{"$nulls":6},"年",null,{"$f":"IF(電力控!R122<>\"\",電力控!R122,\"\")","v":""},null,null,"月",null,{"$f":"IF(電力控!W122<>\"\",電力控!W122,\"\")","v":""},null,null,"日",null,"自主検査結果",{"$nulls":22},"✓"]
[]
["主任電気工事士",{"$nulls":7},{"$f":"IF(電力控!I124<>\"\",電力控!I124,\"\")","v":"第  種電気工事士"},{"$f":"IF(電力控!J124<>\"\",電力控!J124,\"\")","v":""},{"$f":"IF(電力控!K124<>\"\",電力控!K124,\"\")","v":""},{"$f":"IF(電力控!L124<>\"\",電力控!L124,\"\")","v":""},{"$f":"IF(電力控!M124<>\"\",電力控!M124,\"\")","v":""},{"$f":"IF(電力控!N124<>\"\",電力控!N124,\"\")","v":""},{"$f":"IF(電力控!O124<>\"\",電力控!O124,\"\")","v":""},{"$f":"IF(電力控!P124<>\"\",電力控!P124,\"\")","v":""},null,null,{"$f":"IF(電力控!S124<>\"\",電力控!S124,\"\")","v":""},null,null,{"$f":"IF(電力控!V124<>\"\",電力控!V124,\"\")","v":""},null,null,{"$f":"IF(電力控!Y124<>\"\",電力控!Y124,\"\")","v":""},null,null,"分電盤より電源側の設備施設状況"]
[{"$nulls":8},"北海道第",null,null,{"$f":"IF(電力控!L125<>\"\",電力控!L125,\"\")","v":""},{"$f":"IF(電力控!M125<>\"\",電力控!M125,\"\")","v":""},{"$f":"IF(電力控!N125<>\"\",電力控!N125,\"\")","v":""},"号"]
["施工責任者",{"$nulls":7},{"$f":"IF(電力控!I126<>\"\",電力控!I126,\"\")","v":"第  種電気工事士"},{"$f":"IF(電力控!J126<>\"\",電力控!J126,\"\")","v":""},{"$f":"IF(電力控!K126<>\"\",電力控!K126,\"\")","v":""},{"$f":"IF(電力控!L126<>\"\",電力控!L126,\"\")","v":""},{"$f":"IF(電力控!M126<>\"\",電力控!M126,\"\")","v":""},{"$f":"IF(電力控!N126<>\"\",電力控!N126,\"\")","v":""},{"$f":"IF(電力控!O126<>\"\",電力控!O126,\"\")","v":""},{"$f":"IF(電力控!P126<>\"\",電力控!P126,\"\")","v":""},{"$f":"IF(電力控!Q126<>\"\",電力控!Q126,\"\")","v":""},{"$f":"IF(電力控!R126<>\"\",電力控!R126,\"\")","v":""},{"$f":"IF(電力控!S126<>\"\",電力控!S126,\"\")","v":""},{"$f":"IF(電力控!T126<>\"\",電力控!T126,\"\")","v":""},{"$f":"IF(電力控!U126<>\"\",電力控!U126,\"\")","v":""},{"$f":"IF(電力控!V126<>\"\",電力控!V126,\"\")","v":""},{"$f":"IF(電力控!W126<>\"\",電力控!W126,\"\")","v":""},{"$f":"IF(電力控!X126<>\"\",電力控!X126,\"\")","v":""},{"$f":"IF(電力控!Y126<>\"\",電力控!Y126,\"\")","v":""},{"$f":"IF(電力控!Z126<>\"\",電力控!Z126,\"\")","v":""},{"$f":"IF(電力控!AA126<>\"\",電力控!AA126,\"\")","v":""},"分電盤（ブレーカーの選定など）"]
[{"$nulls":8},"北海道第",null,null,{"$f":"IF(電力控!L127<>\"\",電力控!L127,\"\")","v":""},{"$f":"IF(電力控!M127<>\"\",電力控!M127,\"\")","v":""},{"$f":"IF(電力控!N127<>\"\",電力控!N127,\"\")","v":""},"号",{"$f":"IF(電力控!P127<>\"\",電力控!P127,\"\")","v":""},{"$f":"IF(電力控!Q127<>\"\",電力控!Q127,\"\")","v":""},{"$f":"IF(電力控!R127<>\"\",電力控!R127,\"\")","v":""},{"$f":"IF(電力控!S127<>\"\",電力控!S127,\"\")","v":""},{"$f":"IF(電力控!T127<>\"\",電力控!T127,\"\")","v":""},{"$f":"IF(電力控!U127<>\"\",電力控!U127,\"\")","v":""},{"$f":"IF(電力控!V127<>\"\",電力控!V127,\"\")","v":""},{"$f":"IF(電力控!W127<>\"\",電力控!W127,\"\")","v":""},{"$f":"IF(電力控!X127<>\"\",電力控!X127,\"\")","v":""},{"$f":"IF(電力控!Y127<>\"\",電力控!Y127,\"\")","v":""},{"$f":"IF(電力控!Z127<>\"\",電力控!Z127,\"\")","v":""},{"$f":"IF(電力控!AA127<>\"\",電力控!AA127,\"\")","v":""}]
["作業者",{"$nulls":7},{"$f":"IF(電力控!I128<>\"\",電力控!I128,\"\")","v":"第  種電気工事士"},{"$f":"IF(電力控!J128<>\"\",電力控!J128,\"\")","v":""},{"$f":"IF(電力控!K128<>\"\",電力控!K128,\"\")","v":""},{"$f":"IF(電力控!L128<>\"\",電力控!L128,\"\")","v":""},{"$f":"IF(電力控!M128<>\"\",電力控!M128,\"\")","v":""},{"$f":"IF(電力控!N128<>\"\",電力控!N128,\"\")","v":""},{"$f":"IF(電力控!O128<>\"\",電力控!O128,\"\")","v":""},{"$f":"IF(電力控!P128<>\"\",電力控!P128,\"\")","v":""},{"$f":"IF(電力控!Q128<>\"\",電力控!Q128,\"\")","v":""},{"$f":"IF(電力控!R128<>\"\",電力控!R128,\"\")","v":""},{"$f":"IF(電力控!S128<>\"\",電力控!S128,\"\")","v":""},{"$f":"IF(電力控!T128<>\"\",電力控!T128,\"\")","v":""},{"$f":"IF(電力控!U128<>\"\",電力控!U128,\"\")","v":""},{"$f":"IF(電力控!V128<>\"\",電力控!V128,\"\")","v":""},{"$f":"IF(電力控!W128<>\"\",電力控!W128,\"\")","v":""},{"$f":"IF(電力控!X128<>\"\",電力控!X128,\"\")","v":""},{"$f":"IF(電力控!Y128<>\"\",電力控!Y128,\"\")","v":""},{"$f":"IF(電力控!Z128<>\"\",電力控!Z128,\"\")","v":""},{"$f":"IF(電力控!AA128<>\"\",電力控!AA128,\"\")","v":""},"開閉器端子の増し締め"]
[{"$nulls":8},"北海道第",null,null,{"$f":"IF(電力控!L129<>\"\",電力控!L129,\"\")","v":""},{"$f":"IF(電力控!M129<>\"\",電力控!M129,\"\")","v":""},{"$f":"IF(電力控!N129<>\"\",電力控!N129,\"\")","v":""},"号",{"$f":"IF(電力控!P129<>\"\",電力控!P129,\"\")","v":""},{"$f":"IF(電力控!Q129<>\"\",電力控!Q129,\"\")","v":""},{"$f":"IF(電力控!R129<>\"\",電力控!R129,\"\")","v":""},{"$f":"IF(電力控!S129<>\"\",電力控!S129,\"\")","v":""},{"$f":"IF(電力控!T129<>\"\",電力控!T129,\"\")","v":""},{"$f":"IF(電力控!U129<>\"\",電力控!U129,\"\")","v":""},{"$f":"IF(電力控!V129<>\"\",電力控!V129,\"\")","v":""},{"$f":"IF(電力控!W129<>\"\",電力控!W129,\"\")","v":""},{"$f":"IF(電力控!X129<>\"\",電力控!X129,\"\")","v":""},{"$f":"IF(電力控!Y129<>\"\",電力控!Y129,\"\")","v":""},{"$f":"IF(電力控!Z129<>\"\",電力控!Z129,\"\")","v":""},{"$f":"IF(電力控!AA129<>\"\",電力控!AA129,\"\")","v":""}]
[{"$nulls":8},{"$f":"IF(電力控!I130<>\"\",電力控!I130,\"\")","v":"第  種電気工事士"},{"$f":"IF(電力控!J130<>\"\",電力控!J130,\"\")","v":""},{"$f":"IF(電力控!K130<>\"\",電力控!K130,\"\")","v":""},{"$f":"IF(電力控!L130<>\"\",電力控!L130,\"\")","v":""},{"$f":"IF(電力控!M130<>\"\",電力控!M130,\"\")","v":""},{"$f":"IF(電力控!N130<>\"\",電力控!N130,\"\")","v":""},{"$f":"IF(電力控!O130<>\"\",電力控!O130,\"\")","v":""},{"$f":"IF(電力控!P130<>\"\",電力控!P130,\"\")","v":""},{"$f":"IF(電力控!Q130<>\"\",電力控!Q130,\"\")","v":""},{"$f":"IF(電力控!R130<>\"\",電力控!R130,\"\")","v":""},{"$f":"IF(電力控!S130<>\"\",電力控!S130,\"\")","v":""},{"$f":"IF(電力控!T130<>\"\",電力控!T130,\"\")","v":""},{"$f":"IF(電力控!U130<>\"\",電力控!U130,\"\")","v":""},{"$f":"IF(電力控!V130<>\"\",電力控!V130,\"\")","v":""},{"$f":"IF(電力控!W130<>\"\",電力控!W130,\"\")","v":""},{"$f":"IF(電力控!X130<>\"\",電力控!X130,\"\")","v":""},{"$f":"IF(電力控!Y130<>\"\",電力控!Y130,\"\")","v":""},{"$f":"IF(電力控!Z130<>\"\",電力控!Z130,\"\")","v":""},{"$f":"IF(電力控!AA130<>\"\",電力控!AA130,\"\")","v":""},"屋内部分の配線接続・保護など"]
[{"$nulls":8},"北海道第",null,null,{"$f":"IF(電力控!L131<>\"\",電力控!L131,\"\")","v":""},{"$f":"IF(電力控!M131<>\"\",電力控!M131,\"\")","v":""},{"$f":"IF(電力控!N131<>\"\",電力控!N131,\"\")","v":""},"号",{"$f":"IF(電力控!P131<>\"\",電力控!P131,\"\")","v":""},{"$f":"IF(電力控!Q131<>\"\",電力控!Q131,\"\")","v":""},{"$f":"IF(電力控!R131<>\"\",電力控!R131,\"\")","v":""},{"$f":"IF(電力控!S131<>\"\",電力控!S131,\"\")","v":""},{"$f":"IF(電力控!T131<>\"\",電力控!T131,\"\")","v":""},{"$f":"IF(電力控!U131<>\"\",電力控!U131,\"\")","v":""},{"$f":"IF(電力控!V131<>\"\",電力控!V131,\"\")","v":""},{"$f":"IF(電力控!W131<>\"\",電力控!W131,\"\")","v":""},{"$f":"IF(電力控!X131<>\"\",電力控!X131,\"\")","v":""},{"$f":"IF(電力控!Y131<>\"\",電力控!Y131,\"\")","v":""},{"$f":"IF(電力控!Z131<>\"\",電力控!Z131,\"\")","v":""},{"$f":"IF(電力控!AA131<>\"\",電力控!AA131,\"\")","v":""}]
["・お引渡ししました電気設備について、関係諸法令に適合した施工で\n　あることを証明いたします。\n・この証明書は、電気工事業の適正化に関する法律による帳簿を兼ね\n　ます。",{"$nulls":26},"配線器具、材料選定、機器の施設状況"]
[]
[{"$nulls":27},"接地工事状況"]
[]
[{"$nulls":27},"絶縁\n抵抗値",{"$nulls":3},{"$f":"IF(電力控!AF136<>\"\",電力控!AF136,\"\")","v":""},{"$f":"IF(電力控!AG136<>\"\",電力控!AG136,\"\")","v":""},{"$f":"IF(電力控!AH136<>\"\",電力控!AH136,\"\")","v":""},{"$f":"IF(電力控!AI136<>\"\",電力控!AI136,\"\")","v":""},{"$f":"IF(電力控!AJ136<>\"\",電力控!AJ136,\"\")","v":""},{"$f":"IF(電力控!AK136<>\"\",電力控!AK136,\"\")","v":""},{"$f":"IF(電力控!AL136<>\"\",電力控!AL136,\"\")","v":""},"MΩ",null,"接地\n抵抗値",{"$nulls":3},"D種",null,null,{"$f":"IF(電力控!AV136<>\"\",電力控!AV136,\"\")","v":""},{"$f":"IF(電力控!AW136<>\"\",電力控!AW136,\"\")","v":""},{"$f":"IF(電力控!AX136<>\"\",電力控!AX136,\"\")","v":""},{"$f":"IF(電力控!AY136<>\"\",電力控!AY136,\"\")","v":""},"Ω"]
[{"$nulls":31},{"$f":"IF(電力控!AF137<>\"\",電力控!AF137,\"\")","v":""},{"$f":"IF(電力控!AG137<>\"\",電力控!AG137,\"\")","v":""},{"$f":"IF(電力控!AH137<>\"\",電力控!AH137,\"\")","v":""},{"$f":"IF(電力控!AI137<>\"\",電力控!AI137,\"\")","v":""},{"$f":"IF(電力控!AJ137<>\"\",電力控!AJ137,\"\")","v":""},{"$f":"IF(電力控!AK137<>\"\",電力控!AK137,\"\")","v":""},{"$f":"IF(電力控!AL137<>\"\",電力控!AL137,\"\")","v":""},{"$nulls":6},"その他\n(　　種)",null,null,{"$f":"IF(電力控!AV137<>\"\",電力控!AV137,\"\")","v":""},{"$f":"IF(電力控!AW137<>\"\",電力控!AW137,\"\")","v":""},{"$f":"IF(電力控!AX137<>\"\",電力控!AX137,\"\")","v":""},{"$f":"IF(電力控!AY137<>\"\",電力控!AY137,\"\")","v":""}]
[{"$nulls":31},{"$f":"IF(電力控!AF138<>\"\",電力控!AF138,\"\")","v":""},{"$f":"IF(電力控!AG138<>\"\",電力控!AG138,\"\")","v":""},{"$f":"IF(電力控!AH138<>\"\",電力控!AH138,\"\")","v":""},{"$f":"IF(電力控!AI138<>\"\",電力控!AI138,\"\")","v":""},{"$f":"IF(電力控!AJ138<>\"\",電力控!AJ138,\"\")","v":""},{"$f":"IF(電力控!AK138<>\"\",電力控!AK138,\"\")","v":""},{"$f":"IF(電力控!AL138<>\"\",電力控!AL138,\"\")","v":""},{"$nulls":9},{"$f":"IF(電力控!AV138<>\"\",電力控!AV138,\"\")","v":""},{"$f":"IF(電力控!AW138<>\"\",電力控!AW138,\"\")","v":""},{"$f":"IF(電力控!AX138<>\"\",電力控!AX138,\"\")","v":""},{"$f":"IF(電力控!AY138<>\"\",電力控!AY138,\"\")","v":""}]

{"sheet":"電力控","index":1,"n_rows":218,"n_cols":80,"rows_kept":218,"merged":[[3,1,3,2],[3,22,3,23],[3,25,3,28],[6,1,6,2],[6,18,6,39],[8,1,8,2],[8,18,8,39],[10,1,10,2],[10,18,10,24],[12,1,12,2],[12,16,12,17],[12,18,12,19],[12,34,12,38],[14,19,14,31],[16,1,16,2],[16,16,16,17],[16,18,16,19],[16,34,16,38],[18,19,18,31],[20,1,20,2],[20,16,20,17],[20,18,20,19],[20,34,20,38],[22,19,22,31],[24,1,24,2],[24,16,24,17],[24,18,24,19],[24,34,24,38],[26,19,26,31],[28,1,28,2],[28,18,28,30],[30,1,30,2],[30,18,30,48],[32,1,32,2],[32,18,32,38],[34,1,34,2],[34,18,34,48],[36,1,36,2],[36,18,36,38],[38,1,38,2],[38,18,38,24],[38,33,38,42],[42,1,42,2],[42,18,42,21],[44,1,44,2],[44,42,44,43],[46,1,46,2],[46,18,46,21],[46,42,46,43],[48,1,48,2],[48,42,48,43],[50,1,50,2],[50,18,50,21],[52,1,52,2],[52,42,52,45],[52,46,52,48],[54,1,54,2],[54,18,54,26],[57,0,59,52],[60,0,65,1],[60,2,62,5],[60,6,62,26],[60,27,65,32],[60,35,61,52],[62,45,62,52],[63,2,65,5],[63,6,65,26],[63,38,63,44],[64,33,65,52],[66,0,67,5],[66,6,67,10],[66,11,67,26],[66,27,67,32],[66,33,67,52],[66,57,67,71],[68,0,69,7],[85,16,86,34],[89,57,91,86],[112,0,113,7],[112,8,113,13],[112,14,113,20],[112,21,113,24],[114,0,115,7],[114,8,115,22],[114,23,115,24],[116,0,117,7],[116,8,117,24],[116,41,117,52],[119,0,120,7],[119,11,120,31],[119,35,120,52],[121,0,122,7],[121,8,122,14],[121,15,122,16],[121,17,122,19],[121,20,122,21],[121,22,122,24],[121,25,122,26],[121,27,122,49],[121,50,122,52],[123,0,124,7],[123,8,123,14],[123,15,124,26],[123,27,124,49],[123,50,124,52],[124,8,124,10],[124,11,124,13],[125,0,126,7],[125,8,125,14],[125,15,126,26],[125,27,126,49],[125,50,126,52],[126,8,126,10],[126,11,126,13],[127,0,130,7],[127,8,127,14],[127,15,128,26],[127,27,128,49],[127,50,128,52],[128,8,128,10],[128,11,128,13],[129,8,129,14],[129,15,130,26],[129,27,130,49],[129,50,130,52],[130,8,130,10],[130,11,130,13],[131,0,132,13],[131,17,132,26],[131,27,132,49],[131,50,132,52],[133,0,137,1],[133,2,137,6],[133,7,137,8],[133,9,137,12],[133,13,134,16],[133,17,134,26],[133,27,134,49],[133,50,134,52],[135,13,137,16],[135,20,137,24],[135,25,137,26],[135,27,137,30],[135,31,137,37],[135,38,137,39],[135,40,137,43],[135,47,137,50],[135,51,137,52],[136,17,137,19],[136,44,137,46],[139,0,140,8],[141,57,142,71],[155,16,156,34],[178,0,179,8],[180,57,181,71],[186,59,187,63],[186,66,187,70],[192,16,193,34],[193,59,194,63],[193,66,194,70],[200,59,201,63],[200,66,201,70],[200,72,201,77],[200,79,201,84],[205,59,206,63],[205,66,206,70],[205,72,206,76],[205,79,206,83],[207,0,208,8],[207,9,208,16],[207,17,208,18],[209,0,210,8],[209,9,210,18],[211,0,212,8],[211,9,212,16],[211,17,212,18],[212,59,213,63],[212,65,213,69],[213,0,214,8],[213,9,214,18],[215,0,216,8],[215,9,216,16],[215,17,216,18],[216,34,218,40],[216,41,216,42],[216,43,216,44],[216,45,216,46],[216,47,216,48],[216,49,216,50],[216,51,216,52],[217,0,218,8],[217,9,218,18],[217,41,218,42],[217,43,218,44],[217,45,218,46],[217,47,218,48],[217,49,218,50],[217,51,218,52]]}
["電気設備図面_低圧"]
[null,"【入力項目】",{"$nulls":22},"※入力チェックエラーでも保存可能"]
[]
[null,"◆",null,"引込線･計測器工事会社登録番号[必須]",{"$nulls":20},"-"]
[null,null,"※非組合員の方は「ZZ-999」と入力してください"]
[]
[null,"◆",null,"工事会社名[必須]"]
[]
[null,"◆",null,"工事会社住所[必須]"]
[]
[null,"◆",null,"工事会社電話番号[必須]"]
[]
[null,"◆",null,"主任工事士[必須]",{"$nulls":12},"第",{"$nulls":3},"種電気工事士(北海道)　第",{"$nulls":18},"号"]
[]
[{"$nulls":16},"氏名"]
[]
[null,"◆",null,"施工責任者[必須]",{"$nulls":12},"第",{"$nulls":3},"種電気工事士(北海道)　第",{"$nulls":18},"号"]
[]
[{"$nulls":16},"氏名"]
[]
[null,"◆",null,"作業者",{"$nulls":12},"第",{"$nulls":3},"種電気工事士(北海道)　第",{"$nulls":18},"号"]
[]
[{"$nulls":16},"氏名"]
[]
[null,"◆",null,"作業者",{"$nulls":12},"第",{"$nulls":3},"種電気工事士(北海道)　第",{"$nulls":18},"号"]
[]
[{"$nulls":16},"氏名"]
[]
[null,"◆",null,"電気主任技術者氏名"]
[]
[null,"◆",null,"お客さま住所（施工場所）[必須]"]
[]
[null,"◆",null,"お客さま氏名[必須]"]
[]
[null,"◆",null,"注文者住所[必須]"]
[]
[null,"◆",null,"注文者氏名（名称）[必須]"]
[]
[null,"◆",null,"電気工事の種類[必須]",{"$nulls":28},"その他の場合：",{"$nulls":10},{"$f":"IF(ISERR(FIND(\"その他\",S39)),\"\",\"　\"&AH39)","v":""}]
[]
[]
[]
[null,"◆",null,"引込受点高さ[必須]",{"$nulls":18},"m",{"$nulls":11},"◆ 別紙扱いの場合○↓"]
[]
[null,"◆",null,"道路横断の有無[必須]",{"$nulls":30},"単線結線図"]
[]
[null,"◆",null,"最寄電柱からの距離[必須]",{"$nulls":18},"m",{"$nulls":11},"位置図"]
[]
[null,"◆",null,"計器工事要否[必須]",{"$nulls":30},"平面図"]
[]
[null,"◆",null,"計器取付高さ[必須]※",{"$nulls":18},"m",{"$nulls":30},"※定額・臨時未計器契約の場合は該当ボタンを選択"]
[]
[null,"◆",null,"電力計器箱の支給[必須]",{"$nulls":30},"◆ 契約容量"]
[]
[null,"◆",null,"引込柱Ｎｏ[必須]",{"$nulls":23},"※12桁連続入力"]
[]
[]
["しゅん工調査票　兼　お客さま電気設備図面"]
[]
[]
["お客さま",null,"住所\n(施工場所)",{"$nulls":3},{"$f":"IF(S31<>\"\",S31,\"\")","v":""},{"$nulls":20},"工事会社",{"$nulls":5},"住所",null,{"$f":"IF(S9<>\"\",S9,\"\")","v":""}]
[]
[{"$nulls":43},"TEL:",null,{"$f":"IF(S11<>\"\",S11,\"\")","v":""}]
[null,null,"氏名",{"$nulls":3},{"$f":"IF(S33<>\"\",S33,\"\")","v":""},{"$nulls":26},"社名（コード",{"$nulls":4},{"$f":"W4&Y4&Z4","v":"-"},{"$nulls":6},"）"]
[{"$nulls":33},{"$f":"IF(S7<>\"\",S7,\"\")","v":""}]
[]
["電気工事の種類",{"$nulls":5},{"$f":"IF(S39<>\"\",LEFT(S39,2),\"\")","v":""},{"$nulls":4},{"$f":"IF(S39<>\"\",MID(S39,4,3)&AR39,\"\")","v":""},{"$nulls":15},"電気主任技術者",{"$nulls":5},{"$f":"IF(S29<>\"\",S29,\"\")","v":""},{"$nulls":23},"↓「単線結線図」編集↓"]
[]
["単線結線図"]
{"$rows_empty":16}
[{"$nulls":16},{"$f":"IF(電力控!AQ45=\"○\",\"（別紙参照）\",\"\")","v":""}]
[]
[]
[]
[{"$nulls":57},"※基本的な立面図や単線結線図なので、\n工事内容に応じて追加や削除をして使用してください。"]
{"$rows_empty":7}
[{"$nulls":58},"※お客さま控にコピーします"]
{"$rows_empty":14}
["幹線線種・太さ※",{"$nulls":20},"mm2"]
[]
["幹線ブレーカ容量※",{"$nulls":22},"A"]
[]
["分岐回路数※",{"$nulls":25},"※は必要入力箇所",{"$nulls":14},{"$f":"単線結線図!AE13","v":""}]
[]
[]
["注文者",{"$nulls":7},"住所：",null,null,{"$f":"IF(S35<>\"\",S35,\"\")","v":""},{"$nulls":20},"社名：",null,null,{"$f":"IF(S37<>\"\",S37,\"\")","v":""}]
[{"$nulls":32},"(氏名)"]
["施工年月日",{"$nulls":14},"年",{"$nulls":4},"月",{"$nulls":4},"日",null,"自主検査結果",{"$nulls":22},"✓"]
[]
["主任電気工事士",{"$nulls":7},{"$f":"\"第 \"&S13&\" 種電気工事士\"","v":"第  種電気工事士"},{"$nulls":6},{"$f":"IF(T15<>\"\",T15,\"\")","v":""},{"$nulls":11},"分電盤より電源側の設備施設状況"]
[{"$nulls":8},"北海道第",null,null,{"$f":"IF(AI13<>\"\",AI13,\"\")","v":""},null,null,"号"]
["施工責任者",{"$nulls":7},{"$f":"\"第 \"&S17&\" 種電気工事士\"","v":"第  種電気工事士"},{"$nulls":6},{"$f":"IF(T19<>\"\",T19,\"\")","v":""},{"$nulls":11},"分電盤（ブレーカーの選定など）"]
[{"$nulls":8},"北海道第",null,null,{"$f":"IF(AI17<>\"\",AI17,\"\")","v":""},null,null,"号"]
["作業者",{"$nulls":7},{"$f":"\"第 \"&S21&\" 種電気工事士\"","v":"第  種電気工事士"},{"$nulls":6},{"$f":"IF(T23<>\"\",T23,\"\")","v":""},{"$nulls":11},"開閉器端子の増し締め"]
[{"$nulls":8},"北海道第",null,null,{"$f":"IF(AI21<>\"\",AI21,\"\")","v":""},null,null,"号"]
[{"$nulls":8},{"$f":"\"第 \"&S25&\" 種電気工事士\"","v":"第  種電気工事士"},{"$nulls":6},{"$f":"IF(T27<>\"\",T27,\"\")","v":""},{"$nulls":11},"屋内部分の配線接続・保護など"]
[{"$nulls":8},"北海道第",null,null,{"$f":"IF(AI25<>\"\",AI25,\"\")","v":""},null,null,"号"]
["しゅん工調査使用欄(電力記載欄)",{"$nulls":16},"一般以外の場合○印\n（特定・受託）",{"$nulls":9},"配線器具、材料選定、機器の施設状況"]
[]
["調査日付印",{"$nulls":6},"調査結果",null,"適合\n\n不適合",{"$nulls":3},"絶縁\n抵抗値",{"$nulls":3},"MΩ\nmA",{"$nulls":9},"接地工事状況"]
[]
[{"$nulls":13},"接地\n抵抗値",{"$nulls":3},"D種",{"$nulls":7},"Ω",null,"絶縁\n抵抗値",{"$nulls":10},"MΩ",null,"接地\n抵抗値",{"$nulls":3},"D種",{"$nulls":6},"Ω"]
[{"$nulls":17},"その他\n(　　種)",{"$nulls":26},"その他\n(　　種)"]
[]
[]
["位　置　図"]
[]
[{"$nulls":57},"↓「位置図」編集↓"]
{"$rows_empty":13}
[{"$nulls":16},{"$f":"IF(AQ47=\"○\",\"（別紙参照）\",\"\")","v":""}]
{"$rows_empty":22}
["平　面　図"]
[]
[{"$nulls":57},"↓「平面図」編集↓"]
[]
[]
[]
[]
[]
[{"$nulls":59},"当社柱",{"$nulls":6},"変圧器柱"]
[]
[]
[]
[]
[]
[{"$nulls":16},{"$f":"IF(AQ49=\"○\",\"（別紙参照）\",\"\")","v":""}]
[{"$nulls":59},"NTT柱",{"$nulls":6},"先方柱"]
[]
[]
[]
[]
[]
[]
[{"$nulls":59},"低圧線",{"$nulls":6},"引込線",{"$nulls":5},"メッセンジャー",{"$nulls":6},"ﾃｷｽﾄﾎﾞｯｸｽ"]
[]
[]
[]
[]
[{"$nulls":59},"家屋",{"$nulls":6},"用地境界",{"$nulls":5},"T字道路",{"$nulls":6},"十字道路"]
[]
["引込受点高さ※",{"$nulls":8},{"$f":"IF(S43<>\"\",S43,\"\")","v":""},{"$nulls":7},"ｍ"]
[]
["道路横断※",{"$nulls":8},{"$f":"IF(Z45=1,\"有\",IF(Z45=2,\"無\",\"\"))","v":""}]
[]
["最寄電柱からの距離※",{"$nulls":8},{"$f":"IF(S47<>\"\",S47,\"\")","v":""},{"$nulls":7},"ｍ"]
[{"$nulls":59},"直線道路",{"$nulls":5},"曲線道路"]
["計器工事要否※",{"$nulls":8},{"$f":"IF(Z49=1,\"要\",IF(Z49=2,\"不要\",\"\"))","v":""}]
[]
["計器取付高さ※",{"$nulls":8},{"$f":"IF(S51<>\"\",S51,\"\")","v":""},{"$nulls":7},"ｍ"]
[{"$nulls":34},"引込柱Ｎｏ．※",{"$nulls":6},"画",null,"区",null,"図",null,"番",null,"の",null,"号"]
["電力計器ＢＯＸ※",{"$nulls":8},{"$f":"IF(Z53=1,\"要\",IF(Z53=2,\"不要\",\"\"))","v":""},{"$nulls":10},"※は必要入力箇所",{"$nulls":20},{"$f":"IF(S55<>\"\",LEFT(S55,2),\"\")","v":""},null,{"$f":"IF(S55<>\"\",MID(S55,3,2),\"\")","v":""},null,{"$f":"IF(S55<>\"\",MID(S55,5,2),\"\")","v":""},null,{"$f":"IF(S55<>\"\",MID(S55,7,2),\"\")","v":""},null,{"$f":"IF(S55<>\"\",MID(S55,9,2),\"\")","v":""},null,{"$f":"IF(S55<>\"\",RIGHT(S55,2),\"\")","v":""}]

{"sheet":"平面図","index":2,"n_rows":0,"n_cols":0,"rows_kept":0,"hidden":true}

{"sheet":"引込線立面図","index":3,"n_rows":0,"n_cols":0,"rows_kept":0,"hidden":true}

{"sheet":"単線結線図","index":4,"n_rows":13,"n_cols":46,"rows_kept":13,"hidden":true,"merged":[[2,27,2,29],[2,30,2,32],[3,27,3,29],[3,30,3,32],[4,27,4,29],[4,30,4,32],[5,27,5,29],[5,30,5,32],[6,27,6,29],[6,30,6,32],[7,35,7,38],[8,35,8,36],[8,37,8,38],[9,33,10,33],[9,35,9,36],[9,37,9,38],[10,35,10,36],[10,37,10,38],[12,27,12,29],[12,30,12,38]]}
[]
[{"$nulls":27},"事前送電判定計算"]
[{"$nulls":27},"契約容量",null,null,{"$f":"IF(電力控!AU53=\"A\",電力控!AQ53*0.1,IF(ISERR(FIND(\"k\",電力控!AU53)),電力控!AQ53*0.001,VALUE(電力控!AQ53)))","v":0},null,null,"※kW換算"]
[{"$nulls":27},"容量判定",null,null,{"$f":"IF(AE3>6,\"NG\",\"OK\")","v":"OK"},null,null,"※6kW以下ならOK"]
[{"$nulls":27},"契約判定",null,null,{"$f":"IF(電力控!Z51=1,\"OK\",\"STAY\")","v":"STAY"},null,null,"※定額はOK、その他は上長"]
[{"$nulls":27},"データ判定",null,null,{"$f":"IF((電力控!S51=\"\")<>(電力控!Z51=\"\"),IF(OR(電力控!AQ53=\"\",電力控!AU53=\"\"),\"NG\",\"OK\"),\"NG\")","v":"NG"},null,null,"※入力に過不足がある場合"]
[{"$nulls":27},"総合判定",null,null,{"$f":"IF(AE6=\"NG\",\"DATA\",IF(AE4=\"NG\",\"NG\",IF(AE5=\"OK\",\"OK\",\"BOSS\")))","v":"DATA"},null,null,"※下表による"]
[{"$nulls":35},"契約"]
[{"$nulls":35},"OK",null,"STAY",{"$nulls":4},"DATA",null,"","（データ不足、非表示）"]
[{"$nulls":33},"容量","NG","NG",null,"NG",{"$nulls":4},"OK",null,"事前送電可能"]
[{"$nulls":34},"OK","OK",null,"BOSS",{"$nulls":4},"NG",null,"事前送電禁止"]
[{"$nulls":42},"BOSS",null,"事前送電は上長判断"]
[{"$nulls":27},"表示",null,null,{"$f":"INDEX(AS9:AS12,MATCH(AE7,AQ9:AQ12,0))","v":""}]